BEGIN:VCALENDAR
VERSION:2.0
PRODID:-//Ester Village Library - ECPv6.15.20//NONSGML v1.0//EN
CALSCALE:GREGORIAN
METHOD:PUBLISH
X-ORIGINAL-URL:https://www.esterlibrary.org
X-WR-CALDESC:Events for Ester Village Library
REFRESH-INTERVAL;VALUE=DURATION:PT1H
X-Robots-Tag:noindex
X-PUBLISHED-TTL:PT1H
BEGIN:VTIMEZONE
TZID:America/Anchorage
BEGIN:DAYLIGHT
TZOFFSETFROM:-0900
TZOFFSETTO:-0800
TZNAME:AKDT
DTSTART:20150308T110000
END:DAYLIGHT
BEGIN:STANDARD
TZOFFSETFROM:-0800
TZOFFSETTO:-0900
TZNAME:AKST
DTSTART:20151101T100000
END:STANDARD
BEGIN:DAYLIGHT
TZOFFSETFROM:-0900
TZOFFSETTO:-0800
TZNAME:AKDT
DTSTART:20160313T110000
END:DAYLIGHT
BEGIN:STANDARD
TZOFFSETFROM:-0800
TZOFFSETTO:-0900
TZNAME:AKST
DTSTART:20161106T100000
END:STANDARD
BEGIN:DAYLIGHT
TZOFFSETFROM:-0900
TZOFFSETTO:-0800
TZNAME:AKDT
DTSTART:20170312T110000
END:DAYLIGHT
BEGIN:STANDARD
TZOFFSETFROM:-0800
TZOFFSETTO:-0900
TZNAME:AKST
DTSTART:20171105T100000
END:STANDARD
END:VTIMEZONE
BEGIN:VEVENT
DTSTART;TZID=America/Anchorage:20160710T110000
DTEND;TZID=America/Anchorage:20160710T160000
DTSTAMP:20260423T130520
CREATED:20160709T211200Z
LAST-MODIFIED:20160709T212407Z
UID:10000008-1468148400-1468166400@www.esterlibrary.org
SUMMARY:Gardening at the Gazebo
DESCRIPTION:The sweet williams are blooming! Our perennial beds at the Ida Laine Gazebo across from the Ester Post Office are looking better every year\, as more and more perennials get planted and come back to decorate Village Road. Please join us any time and bring a few flowers to add to the collection. \nOur annuals are usually planted in the hanging baskets and the flower pots; there’s compost over by the tool shed to enrich the soil from previous years. If you have a persistent gardening itch\, come join our Garden Group! \nThank you!
URL:https://www.esterlibrary.org/event/gardening-at-the-gazebo/
LOCATION:Ida Laine Gazebo\, 504 Village Road\, Ester\, AK\, 99725\, United States
CATEGORIES:Events
END:VEVENT
END:VCALENDAR