BEGIN:VCALENDAR
VERSION:2.0
PRODID:-//Ester Village Library - ECPv6.15.20//NONSGML v1.0//EN
CALSCALE:GREGORIAN
METHOD:PUBLISH
X-WR-CALNAME:Ester Village Library
X-ORIGINAL-URL:https://www.esterlibrary.org
X-WR-CALDESC:Events for Ester Village Library
REFRESH-INTERVAL;VALUE=DURATION:PT1H
X-Robots-Tag:noindex
X-PUBLISHED-TTL:PT1H
BEGIN:VTIMEZONE
TZID:America/Anchorage
BEGIN:DAYLIGHT
TZOFFSETFROM:-0900
TZOFFSETTO:-0800
TZNAME:AKDT
DTSTART:20240310T110000
END:DAYLIGHT
BEGIN:STANDARD
TZOFFSETFROM:-0800
TZOFFSETTO:-0900
TZNAME:AKST
DTSTART:20241103T100000
END:STANDARD
BEGIN:DAYLIGHT
TZOFFSETFROM:-0900
TZOFFSETTO:-0800
TZNAME:AKDT
DTSTART:20250309T110000
END:DAYLIGHT
BEGIN:STANDARD
TZOFFSETFROM:-0800
TZOFFSETTO:-0900
TZNAME:AKST
DTSTART:20251102T100000
END:STANDARD
BEGIN:DAYLIGHT
TZOFFSETFROM:-0900
TZOFFSETTO:-0800
TZNAME:AKDT
DTSTART:20260308T110000
END:DAYLIGHT
BEGIN:STANDARD
TZOFFSETFROM:-0800
TZOFFSETTO:-0900
TZNAME:AKST
DTSTART:20261101T100000
END:STANDARD
END:VTIMEZONE
BEGIN:VEVENT
DTSTART;TZID=America/Anchorage:20250803T160000
DTEND;TZID=America/Anchorage:20250803T180000
DTSTAMP:20260423T184154
CREATED:20250422T012127Z
LAST-MODIFIED:20250422T012127Z
UID:10000606-1754236800-1754244000@www.esterlibrary.org
SUMMARY:Writing Circle/Open hours
DESCRIPTION:
URL:https://www.esterlibrary.org/event/writing-circle-open-hours/2025-08-03/
LOCATION:Clausen Cabin\, 3629 Main Street\, Ester\, 99725
CATEGORIES:Events
END:VEVENT
BEGIN:VEVENT
DTSTART;TZID=America/Anchorage:20250802T150000
DTEND;TZID=America/Anchorage:20250802T163000
DTSTAMP:20260423T184154
CREATED:20250803T055525Z
LAST-MODIFIED:20250803T055525Z
UID:10001005-1754146800-1754152200@www.esterlibrary.org
SUMMARY:Adult Book Club
DESCRIPTION:This month’s selection: Half the Sky: Turning Oppression into Opportunity for Women Worldwide\, by Nicholas D. Kristof \nFrom Amazon: With Pulitzer Prize winners Nicholas D. Kristof and Sheryl WuDunn as our guides\, we undertake an odyssey through Africa and Asia to meet the extraordinary women struggling there\, among them a Cambodian teenager sold into sex slavery and an Ethiopian woman who suffered devastating injuries in childbirth. Drawing on the breadth of their combined reporting experience\, Kristof and WuDunn depict our world with anger\, sadness\, clarity\, and\, ultimately\, hope. \nThey show how a little help can transform the lives of women and girls abroad. That Cambodian girl eventually escaped from her brothel and\, with assistance from an aid group\, built a thriving retail business that supports her family. The Ethiopian woman had her injuries repaired and in time became a surgeon. A Zimbabwean mother of five\, counseled to return to school\, earned her doctorate and became an expert on AIDS. \nThrough these stories\, Kristof and WuDunn help us see that the key to economic progress lies in unleashing women’s potential. They make clear how so many people have helped to do just that\, and how we can each do our part. Throughout much of the world\, the greatest unexploited economic resource is the female half of the population. Countries such as China have prospered precisely because they emancipated women and brought them into the formal economy. Unleashing that process globally is not only the right thing to do; it’s also the best strategy for fighting poverty. \nDeeply felt\, pragmatic\, and inspirational\, Half the Sky is essential reading for every global citizen.
URL:https://www.esterlibrary.org/event/adult-book-club-3/
LOCATION:Clausen Cabin\, 3629 Main Street\, Ester\, 99725
CATEGORIES:Events
END:VEVENT
BEGIN:VEVENT
DTSTART;TZID=America/Anchorage:20250727T160000
DTEND;TZID=America/Anchorage:20250727T180000
DTSTAMP:20260423T184154
CREATED:20250422T012127Z
LAST-MODIFIED:20250422T012127Z
UID:10000605-1753632000-1753639200@www.esterlibrary.org
SUMMARY:Writing Circle/Open hours
DESCRIPTION:
URL:https://www.esterlibrary.org/event/writing-circle-open-hours/2025-07-27/
LOCATION:Clausen Cabin\, 3629 Main Street\, Ester\, 99725
CATEGORIES:Events
END:VEVENT
BEGIN:VEVENT
DTSTART;TZID=America/Anchorage:20250720T160000
DTEND;TZID=America/Anchorage:20250720T180000
DTSTAMP:20260423T184154
CREATED:20250422T012127Z
LAST-MODIFIED:20250422T012127Z
UID:10000604-1753027200-1753034400@www.esterlibrary.org
SUMMARY:Writing Circle/Open hours
DESCRIPTION:
URL:https://www.esterlibrary.org/event/writing-circle-open-hours/2025-07-20/
LOCATION:Clausen Cabin\, 3629 Main Street\, Ester\, 99725
CATEGORIES:Events
END:VEVENT
BEGIN:VEVENT
DTSTART;TZID=America/Anchorage:20250713T160000
DTEND;TZID=America/Anchorage:20250713T180000
DTSTAMP:20260423T184154
CREATED:20250422T012127Z
LAST-MODIFIED:20250422T012127Z
UID:10000603-1752422400-1752429600@www.esterlibrary.org
SUMMARY:Writing Circle/Open hours
DESCRIPTION:
URL:https://www.esterlibrary.org/event/writing-circle-open-hours/2025-07-13/
LOCATION:Clausen Cabin\, 3629 Main Street\, Ester\, 99725
CATEGORIES:Events
END:VEVENT
BEGIN:VEVENT
DTSTART;TZID=America/Anchorage:20250706T160000
DTEND;TZID=America/Anchorage:20250706T180000
DTSTAMP:20260423T184154
CREATED:20250422T012127Z
LAST-MODIFIED:20250422T012127Z
UID:10000602-1751817600-1751824800@www.esterlibrary.org
SUMMARY:Writing Circle/Open hours
DESCRIPTION:
URL:https://www.esterlibrary.org/event/writing-circle-open-hours/2025-07-06/
LOCATION:Clausen Cabin\, 3629 Main Street\, Ester\, 99725
CATEGORIES:Events
END:VEVENT
BEGIN:VEVENT
DTSTART;TZID=America/Anchorage:20250629T160000
DTEND;TZID=America/Anchorage:20250629T180000
DTSTAMP:20260423T184154
CREATED:20250422T012127Z
LAST-MODIFIED:20250422T012127Z
UID:10000601-1751212800-1751220000@www.esterlibrary.org
SUMMARY:Writing Circle/Open hours
DESCRIPTION:
URL:https://www.esterlibrary.org/event/writing-circle-open-hours/2025-06-29/
LOCATION:Clausen Cabin\, 3629 Main Street\, Ester\, 99725
CATEGORIES:Events
END:VEVENT
BEGIN:VEVENT
DTSTART;TZID=America/Anchorage:20250622T160000
DTEND;TZID=America/Anchorage:20250622T180000
DTSTAMP:20260423T184154
CREATED:20250422T012127Z
LAST-MODIFIED:20250422T012127Z
UID:10000600-1750608000-1750615200@www.esterlibrary.org
SUMMARY:Writing Circle/Open hours
DESCRIPTION:
URL:https://www.esterlibrary.org/event/writing-circle-open-hours/2025-06-22/
LOCATION:Clausen Cabin\, 3629 Main Street\, Ester\, 99725
CATEGORIES:Events
END:VEVENT
BEGIN:VEVENT
DTSTART;TZID=America/Anchorage:20250615T160000
DTEND;TZID=America/Anchorage:20250615T180000
DTSTAMP:20260423T184154
CREATED:20250422T012127Z
LAST-MODIFIED:20250422T012127Z
UID:10000599-1750003200-1750010400@www.esterlibrary.org
SUMMARY:Writing Circle/Open hours
DESCRIPTION:
URL:https://www.esterlibrary.org/event/writing-circle-open-hours/2025-06-15/
LOCATION:Clausen Cabin\, 3629 Main Street\, Ester\, 99725
CATEGORIES:Events
END:VEVENT
BEGIN:VEVENT
DTSTART;TZID=America/Anchorage:20250608T160000
DTEND;TZID=America/Anchorage:20250608T180000
DTSTAMP:20260423T184154
CREATED:20250422T012127Z
LAST-MODIFIED:20250422T012127Z
UID:10000598-1749398400-1749405600@www.esterlibrary.org
SUMMARY:Writing Circle/Open hours
DESCRIPTION:
URL:https://www.esterlibrary.org/event/writing-circle-open-hours/2025-06-08/
LOCATION:Clausen Cabin\, 3629 Main Street\, Ester\, 99725
CATEGORIES:Events
END:VEVENT
BEGIN:VEVENT
DTSTART;TZID=America/Anchorage:20250601T160000
DTEND;TZID=America/Anchorage:20250601T180000
DTSTAMP:20260423T184154
CREATED:20250422T012127Z
LAST-MODIFIED:20250422T012127Z
UID:10000597-1748793600-1748800800@www.esterlibrary.org
SUMMARY:Writing Circle/Open hours
DESCRIPTION:
URL:https://www.esterlibrary.org/event/writing-circle-open-hours/2025-06-01/
LOCATION:Clausen Cabin\, 3629 Main Street\, Ester\, 99725
CATEGORIES:Events
END:VEVENT
BEGIN:VEVENT
DTSTART;TZID=America/Anchorage:20250525T160000
DTEND;TZID=America/Anchorage:20250525T180000
DTSTAMP:20260423T184154
CREATED:20250422T012127Z
LAST-MODIFIED:20250422T012127Z
UID:10000596-1748188800-1748196000@www.esterlibrary.org
SUMMARY:Writing Circle/Open hours
DESCRIPTION:
URL:https://www.esterlibrary.org/event/writing-circle-open-hours/2025-05-25/
LOCATION:Clausen Cabin\, 3629 Main Street\, Ester\, 99725
CATEGORIES:Events
END:VEVENT
BEGIN:VEVENT
DTSTART;TZID=America/Anchorage:20250518T160000
DTEND;TZID=America/Anchorage:20250518T180000
DTSTAMP:20260423T184154
CREATED:20250422T012127Z
LAST-MODIFIED:20250422T012127Z
UID:10000595-1747584000-1747591200@www.esterlibrary.org
SUMMARY:Writing Circle/Open hours
DESCRIPTION:
URL:https://www.esterlibrary.org/event/writing-circle-open-hours/2025-05-18/
LOCATION:Clausen Cabin\, 3629 Main Street\, Ester\, 99725
CATEGORIES:Events
END:VEVENT
BEGIN:VEVENT
DTSTART;TZID=America/Anchorage:20250511T160000
DTEND;TZID=America/Anchorage:20250511T180000
DTSTAMP:20260423T184154
CREATED:20250422T012127Z
LAST-MODIFIED:20250422T012127Z
UID:10000594-1746979200-1746986400@www.esterlibrary.org
SUMMARY:Writing Circle/Open hours
DESCRIPTION:
URL:https://www.esterlibrary.org/event/writing-circle-open-hours/2025-05-11/
LOCATION:Clausen Cabin\, 3629 Main Street\, Ester\, 99725
CATEGORIES:Events
END:VEVENT
BEGIN:VEVENT
DTSTART;TZID=America/Anchorage:20250504T160000
DTEND;TZID=America/Anchorage:20250504T180000
DTSTAMP:20260423T184154
CREATED:20250422T012127Z
LAST-MODIFIED:20250422T012127Z
UID:10000593-1746374400-1746381600@www.esterlibrary.org
SUMMARY:Writing Circle/Open hours
DESCRIPTION:
URL:https://www.esterlibrary.org/event/writing-circle-open-hours/2025-05-04/
LOCATION:Clausen Cabin\, 3629 Main Street\, Ester\, 99725
CATEGORIES:Events
END:VEVENT
BEGIN:VEVENT
DTSTART;TZID=America/Anchorage:20250429T150000
DTEND;TZID=America/Anchorage:20250429T190000
DTSTAMP:20260423T184154
CREATED:20250531T235721Z
LAST-MODIFIED:20250531T235722Z
UID:10000211-1745938800-1745953200@www.esterlibrary.org
SUMMARY:Knit Night and Open Hours
DESCRIPTION:
URL:https://www.esterlibrary.org/event/knit-night-and-open-hours-2/
LOCATION:Clausen Cabin\, 3629 Main Street\, Ester\, 99725
END:VEVENT
BEGIN:VEVENT
DTSTART;TZID=America/Anchorage:20250427T160000
DTEND;TZID=America/Anchorage:20250427T180000
DTSTAMP:20260423T184154
CREATED:20250422T004413Z
LAST-MODIFIED:20250531T035321Z
UID:10000527-1745769600-1745776800@www.esterlibrary.org
SUMMARY:Writing Circle
DESCRIPTION:Join us for some quiet time.
URL:https://www.esterlibrary.org/event/writing-circle-3-2/
LOCATION:Clausen Cabin\, 3629 Main Street\, Ester\, 99725
END:VEVENT
BEGIN:VEVENT
DTSTART;TZID=America/Anchorage:20250426T143000
DTEND;TZID=America/Anchorage:20250426T160000
DTSTAMP:20260423T184154
CREATED:20241130T043143Z
LAST-MODIFIED:20250111T224238Z
UID:10000189-1745677800-1745683200@www.esterlibrary.org
SUMMARY:Children's Book Club
DESCRIPTION:
URL:https://www.esterlibrary.org/event/childrens-book-club-2-2025-01-25/2025-04-26/
LOCATION:Clausen Cabin\, 3629 Main Street\, Ester\, 99725
END:VEVENT
BEGIN:VEVENT
DTSTART;TZID=America/Anchorage:20250420T160000
DTEND;TZID=America/Anchorage:20250420T180000
DTSTAMP:20260423T184154
CREATED:20240813T040057Z
LAST-MODIFIED:20250111T222538Z
UID:10000526-1745164800-1745172000@www.esterlibrary.org
SUMMARY:Writing Circle (No browsing)
DESCRIPTION:Join us for some quiet time. The library is NOT open for browsing during this time.
URL:https://www.esterlibrary.org/event/writing-circle-3/2025-04-20/
LOCATION:Clausen Cabin\, 3629 Main Street\, Ester\, 99725
END:VEVENT
BEGIN:VEVENT
DTSTART;TZID=America/Anchorage:20250415T150000
DTEND;TZID=America/Anchorage:20250415T190000
DTSTAMP:20260423T184154
CREATED:20241130T044318Z
LAST-MODIFIED:20250111T223118Z
UID:10000209-1744729200-1744743600@www.esterlibrary.org
SUMMARY:Knit Night and Open Hours
DESCRIPTION:
URL:https://www.esterlibrary.org/event/knit-night-and-open-hours/2025-04-15/
LOCATION:Clausen Cabin\, 3629 Main Street\, Ester\, 99725
END:VEVENT
BEGIN:VEVENT
DTSTART;TZID=America/Anchorage:20250413T160000
DTEND;TZID=America/Anchorage:20250413T180000
DTSTAMP:20260423T184154
CREATED:20240813T040057Z
LAST-MODIFIED:20250111T222538Z
UID:10000525-1744560000-1744567200@www.esterlibrary.org
SUMMARY:Writing Circle (No browsing)
DESCRIPTION:Join us for some quiet time. The library is NOT open for browsing during this time.
URL:https://www.esterlibrary.org/event/writing-circle-3/2025-04-13/
LOCATION:Clausen Cabin\, 3629 Main Street\, Ester\, 99725
END:VEVENT
BEGIN:VEVENT
DTSTART;TZID=America/Anchorage:20250412T143000
DTEND;TZID=America/Anchorage:20250412T150000
DTSTAMP:20260423T184154
CREATED:20241130T042850Z
LAST-MODIFIED:20250111T224051Z
UID:10000183-1744468200-1744470000@www.esterlibrary.org
SUMMARY:Children's Book Club
DESCRIPTION:
URL:https://www.esterlibrary.org/event/childrens-book-club-2025-02-08/2025-04-12/
LOCATION:Clausen Cabin\, 3629 Main Street\, Ester\, 99725
CATEGORIES:Events
END:VEVENT
BEGIN:VEVENT
DTSTART;TZID=America/Anchorage:20250408T150000
DTEND;TZID=America/Anchorage:20250408T190000
DTSTAMP:20260423T184154
CREATED:20241130T044318Z
LAST-MODIFIED:20250111T223118Z
UID:10000208-1744124400-1744138800@www.esterlibrary.org
SUMMARY:Knit Night and Open Hours
DESCRIPTION:
URL:https://www.esterlibrary.org/event/knit-night-and-open-hours/2025-04-08/
LOCATION:Clausen Cabin\, 3629 Main Street\, Ester\, 99725
END:VEVENT
BEGIN:VEVENT
DTSTART;TZID=America/Anchorage:20250406T160000
DTEND;TZID=America/Anchorage:20250406T180000
DTSTAMP:20260423T184154
CREATED:20240813T040057Z
LAST-MODIFIED:20250111T222538Z
UID:10000524-1743955200-1743962400@www.esterlibrary.org
SUMMARY:Writing Circle (No browsing)
DESCRIPTION:Join us for some quiet time. The library is NOT open for browsing during this time.
URL:https://www.esterlibrary.org/event/writing-circle-3/2025-04-06/
LOCATION:Clausen Cabin\, 3629 Main Street\, Ester\, 99725
END:VEVENT
BEGIN:VEVENT
DTSTART;TZID=America/Anchorage:20250405T150000
DTEND;TZID=America/Anchorage:20250405T163000
DTSTAMP:20260423T184154
CREATED:20240620T031016Z
LAST-MODIFIED:20250111T223404Z
UID:10000488-1743865200-1743870600@www.esterlibrary.org
SUMMARY:Book Club
DESCRIPTION:
URL:https://www.esterlibrary.org/event/book-club-7-2024-12-07-2025-01-04/2025-04-05/
LOCATION:Clausen Cabin\, 3629 Main Street\, Ester\, 99725
CATEGORIES:Announcements,Events
END:VEVENT
BEGIN:VEVENT
DTSTART;TZID=America/Anchorage:20250401T150000
DTEND;TZID=America/Anchorage:20250401T190000
DTSTAMP:20260423T184154
CREATED:20241130T044318Z
LAST-MODIFIED:20250111T223118Z
UID:10000207-1743519600-1743534000@www.esterlibrary.org
SUMMARY:Knit Night and Open Hours
DESCRIPTION:
URL:https://www.esterlibrary.org/event/knit-night-and-open-hours/2025-04-01/
LOCATION:Clausen Cabin\, 3629 Main Street\, Ester\, 99725
END:VEVENT
BEGIN:VEVENT
DTSTART;TZID=America/Anchorage:20250330T160000
DTEND;TZID=America/Anchorage:20250330T180000
DTSTAMP:20260423T184154
CREATED:20240813T040057Z
LAST-MODIFIED:20250111T222538Z
UID:10000523-1743350400-1743357600@www.esterlibrary.org
SUMMARY:Writing Circle (No browsing)
DESCRIPTION:Join us for some quiet time. The library is NOT open for browsing during this time.
URL:https://www.esterlibrary.org/event/writing-circle-3/2025-03-30/
LOCATION:Clausen Cabin\, 3629 Main Street\, Ester\, 99725
END:VEVENT
BEGIN:VEVENT
DTSTART;TZID=America/Anchorage:20250325T150000
DTEND;TZID=America/Anchorage:20250325T190000
DTSTAMP:20260423T184154
CREATED:20241130T044318Z
LAST-MODIFIED:20250111T223118Z
UID:10000206-1742914800-1742929200@www.esterlibrary.org
SUMMARY:Knit Night and Open Hours
DESCRIPTION:
URL:https://www.esterlibrary.org/event/knit-night-and-open-hours/2025-03-25/
LOCATION:Clausen Cabin\, 3629 Main Street\, Ester\, 99725
END:VEVENT
BEGIN:VEVENT
DTSTART;TZID=America/Anchorage:20250323T160000
DTEND;TZID=America/Anchorage:20250323T180000
DTSTAMP:20260423T184154
CREATED:20240813T040057Z
LAST-MODIFIED:20250111T222538Z
UID:10000522-1742745600-1742752800@www.esterlibrary.org
SUMMARY:Writing Circle (No browsing)
DESCRIPTION:Join us for some quiet time. The library is NOT open for browsing during this time.
URL:https://www.esterlibrary.org/event/writing-circle-3/2025-03-23/
LOCATION:Clausen Cabin\, 3629 Main Street\, Ester\, 99725
END:VEVENT
BEGIN:VEVENT
DTSTART;TZID=America/Anchorage:20250322T143000
DTEND;TZID=America/Anchorage:20250322T160000
DTSTAMP:20260423T184154
CREATED:20241130T043143Z
LAST-MODIFIED:20250111T224238Z
UID:10000188-1742653800-1742659200@www.esterlibrary.org
SUMMARY:Children's Book Club
DESCRIPTION:
URL:https://www.esterlibrary.org/event/childrens-book-club-2-2025-01-25/2025-03-22/
LOCATION:Clausen Cabin\, 3629 Main Street\, Ester\, 99725
END:VEVENT
END:VCALENDAR