BEGIN:VCALENDAR
VERSION:2.0
PRODID:-//Ester Village Library - ECPv6.15.20//NONSGML v1.0//EN
CALSCALE:GREGORIAN
METHOD:PUBLISH
X-WR-CALNAME:Ester Village Library
X-ORIGINAL-URL:https://www.esterlibrary.org
X-WR-CALDESC:Events for Ester Village Library
REFRESH-INTERVAL;VALUE=DURATION:PT1H
X-Robots-Tag:noindex
X-PUBLISHED-TTL:PT1H
BEGIN:VTIMEZONE
TZID:America/Anchorage
BEGIN:DAYLIGHT
TZOFFSETFROM:-0900
TZOFFSETTO:-0800
TZNAME:AKDT
DTSTART:20230312T110000
END:DAYLIGHT
BEGIN:STANDARD
TZOFFSETFROM:-0800
TZOFFSETTO:-0900
TZNAME:AKST
DTSTART:20231105T100000
END:STANDARD
BEGIN:DAYLIGHT
TZOFFSETFROM:-0900
TZOFFSETTO:-0800
TZNAME:AKDT
DTSTART:20240310T110000
END:DAYLIGHT
BEGIN:STANDARD
TZOFFSETFROM:-0800
TZOFFSETTO:-0900
TZNAME:AKST
DTSTART:20241103T100000
END:STANDARD
BEGIN:DAYLIGHT
TZOFFSETFROM:-0900
TZOFFSETTO:-0800
TZNAME:AKDT
DTSTART:20250309T110000
END:DAYLIGHT
BEGIN:STANDARD
TZOFFSETFROM:-0800
TZOFFSETTO:-0900
TZNAME:AKST
DTSTART:20251102T100000
END:STANDARD
END:VTIMEZONE
BEGIN:VEVENT
DTSTART;TZID=America/Anchorage:20241203T150000
DTEND;TZID=America/Anchorage:20241203T190000
DTSTAMP:20260424T030536
CREATED:20241130T044318Z
LAST-MODIFIED:20250111T223118Z
UID:10000190-1733238000-1733252400@www.esterlibrary.org
SUMMARY:Knit Night and Open Hours
DESCRIPTION:
URL:https://www.esterlibrary.org/event/knit-night-and-open-hours/2024-12-03/
LOCATION:Clausen Cabin\, 3629 Main Street\, Ester\, 99725
END:VEVENT
BEGIN:VEVENT
DTSTART;TZID=America/Anchorage:20241201T160000
DTEND;TZID=America/Anchorage:20241201T180000
DTSTAMP:20260424T030536
CREATED:20240813T040057Z
LAST-MODIFIED:20250111T222538Z
UID:10000506-1733068800-1733076000@www.esterlibrary.org
SUMMARY:Writing Circle (No browsing)
DESCRIPTION:Join us for some quiet time. The library is NOT open for browsing during this time.
URL:https://www.esterlibrary.org/event/writing-circle-3/2024-12-01/
LOCATION:Clausen Cabin\, 3629 Main Street\, Ester\, 99725
END:VEVENT
BEGIN:VEVENT
DTSTART;TZID=America/Anchorage:20241124T160000
DTEND;TZID=America/Anchorage:20241124T180000
DTSTAMP:20260424T030536
CREATED:20240813T040057Z
LAST-MODIFIED:20250111T222538Z
UID:10000505-1732464000-1732471200@www.esterlibrary.org
SUMMARY:Writing Circle (No browsing)
DESCRIPTION:Join us for some quiet time. The library is NOT open for browsing during this time.
URL:https://www.esterlibrary.org/event/writing-circle-3/2024-11-24/
LOCATION:Clausen Cabin\, 3629 Main Street\, Ester\, 99725
END:VEVENT
BEGIN:VEVENT
DTSTART;TZID=America/Anchorage:20241117T160000
DTEND;TZID=America/Anchorage:20241117T180000
DTSTAMP:20260424T030536
CREATED:20240813T040057Z
LAST-MODIFIED:20250111T222538Z
UID:10000504-1731859200-1731866400@www.esterlibrary.org
SUMMARY:Writing Circle (No browsing)
DESCRIPTION:Join us for some quiet time. The library is NOT open for browsing during this time.
URL:https://www.esterlibrary.org/event/writing-circle-3/2024-11-17/
LOCATION:Clausen Cabin\, 3629 Main Street\, Ester\, 99725
END:VEVENT
BEGIN:VEVENT
DTSTART;TZID=America/Anchorage:20241115T170000
DTEND;TZID=America/Anchorage:20241115T190000
DTSTAMP:20260424T030536
CREATED:20240909T205747Z
LAST-MODIFIED:20240909T211201Z
UID:10000542-1731690000-1731697200@www.esterlibrary.org
SUMMARY:Adult Art Classes
DESCRIPTION:Join us and Willow Art Studios for different adult art classes. This week we’ll continue with part 3 of our Felting Slippers series!
URL:https://www.esterlibrary.org/event/adult-art-classes-2024-11-15/
LOCATION:Clausen Cabin\, 3629 Main Street\, Ester\, 99725
CATEGORIES:Events
END:VEVENT
BEGIN:VEVENT
DTSTART;TZID=America/Anchorage:20241110T160000
DTEND;TZID=America/Anchorage:20241110T180000
DTSTAMP:20260424T030536
CREATED:20240813T040057Z
LAST-MODIFIED:20250111T222538Z
UID:10000503-1731254400-1731261600@www.esterlibrary.org
SUMMARY:Writing Circle (No browsing)
DESCRIPTION:Join us for some quiet time. The library is NOT open for browsing during this time.
URL:https://www.esterlibrary.org/event/writing-circle-3/2024-11-10/
LOCATION:Clausen Cabin\, 3629 Main Street\, Ester\, 99725
END:VEVENT
BEGIN:VEVENT
DTSTART;TZID=America/Anchorage:20241108T170000
DTEND;TZID=America/Anchorage:20241108T190000
DTSTAMP:20260424T030536
CREATED:20240909T205747Z
LAST-MODIFIED:20240909T222635Z
UID:10000541-1731085200-1731092400@www.esterlibrary.org
SUMMARY:Adult Art Classes
DESCRIPTION:Join us and Willow Art Studios for different adult art classes. This week we’ll continue with our Felting slippers\, part 2! \nThis is a fun and cute project and it can be a wonderful gift. Especially to keep your feet warm during the winter. We will be making a mold of your foot size or bring a\ntrace of a foot of the size you are making. And then we will start the felting\nprocess. This is a hands-on project and it takes a lot of hand work so be prepared to use\nyour hands to feel the wool. It is worth it because in the end you will have a pair of slippers\nyou will love. Materials: Wool\, Foot Size\, Foam Sheets\, Scissors\, Cheese Cloth\, Plastic\nGloves\, Leather for the bottom that can be glued or sewn onto the wool. \nArt Fee: $40
URL:https://www.esterlibrary.org/event/adult-art-classes-2024-11-08/
LOCATION:Clausen Cabin\, 3629 Main Street\, Ester\, 99725
CATEGORIES:Events
END:VEVENT
BEGIN:VEVENT
DTSTART;TZID=America/Anchorage:20241103T160000
DTEND;TZID=America/Anchorage:20241103T180000
DTSTAMP:20260424T030536
CREATED:20240813T040057Z
LAST-MODIFIED:20250111T222538Z
UID:10000502-1730649600-1730656800@www.esterlibrary.org
SUMMARY:Writing Circle (No browsing)
DESCRIPTION:Join us for some quiet time. The library is NOT open for browsing during this time.
URL:https://www.esterlibrary.org/event/writing-circle-3/2024-11-03/
LOCATION:Clausen Cabin\, 3629 Main Street\, Ester\, 99725
END:VEVENT
BEGIN:VEVENT
DTSTART;TZID=America/Anchorage:20241102T150000
DTEND;TZID=America/Anchorage:20241102T170000
DTSTAMP:20260424T030536
CREATED:20240620T031016Z
LAST-MODIFIED:20240909T215856Z
UID:10000484-1730559600-1730566800@www.esterlibrary.org
SUMMARY:Book Club
DESCRIPTION:The Double Helix: A Personal Account of the Discovery of the Structure of DNA\, by James D. Watson \nBy identifying the structure of DNA\, the molecule of life\, Francis Crick and James Watson revolutionized biochemistry and won themselves a Nobel Prize. At the time\, Watson was only 24\, a young scientist hungry to make his mark. His uncompromisingly honest account of the heady days of their thrilling sprint against other world-class researchers to solve one of science’s greatest mysteries gives a dazzlingly clear picture of a world of brilliant scientists with great gifts\, very human ambitions\, and bitter rivalries. \nWith humility unspoiled by false modesty\, Watson relates his and Crick’s desperate efforts to beat Linus Pauling to the Holy Grail of life sciences: the identification of the basic building block of life. Never has a scientist been so truthful in capturing in words the flavor of his work.
URL:https://www.esterlibrary.org/event/book-club-7-2024-11-02/
LOCATION:Clausen Cabin\, 3629 Main Street\, Ester\, 99725
CATEGORIES:Announcements,Events
END:VEVENT
BEGIN:VEVENT
DTSTART;TZID=America/Anchorage:20241101T170000
DTEND;TZID=America/Anchorage:20241101T190000
DTSTAMP:20260424T030536
CREATED:20240909T205747Z
LAST-MODIFIED:20240909T222451Z
UID:10000540-1730480400-1730487600@www.esterlibrary.org
SUMMARY:Adult Art Classes
DESCRIPTION:Join us and Willow Art Studios for different adult art classes. This week we’ll learn Felting slippers\, part 1! \nThis is a fun and cute project and it can be a wonderful gift. Especially to keep your feet warm during the winter. We will be making a mold of your foot size or bring a\ntrace of a foot of the size you are making. And then we will start the felting\nprocess. This is a hands-on project and it takes a lot of hand work so be prepared to use\nyour hands to feel the wool. It is worth it because in the end you will have a pair of slippers\nyou will love. Materials: Wool\, Foot Size\, Foam Sheets\, Scissors\, Cheese Cloth\, Plastic\nGloves\, Leather for the bottom that can be glued or sewn onto the wool. \nArt Fee: $40
URL:https://www.esterlibrary.org/event/adult-art-classes-2024-11-01/
LOCATION:Clausen Cabin\, 3629 Main Street\, Ester\, 99725
CATEGORIES:Events
END:VEVENT
BEGIN:VEVENT
DTSTART;TZID=America/Anchorage:20241031T180000
DTEND;TZID=America/Anchorage:20241031T200000
DTSTAMP:20260424T030536
CREATED:20240919T025749Z
LAST-MODIFIED:20240919T025749Z
UID:10000577-1730397600-1730404800@www.esterlibrary.org
SUMMARY:Halloween!!
DESCRIPTION:Drop by for trick or treats!
URL:https://www.esterlibrary.org/event/halloween/
LOCATION:Clausen Cabin\, 3629 Main Street\, Ester\, 99725
CATEGORIES:Announcements,Events
END:VEVENT
BEGIN:VEVENT
DTSTART;TZID=America/Anchorage:20241027T160000
DTEND;TZID=America/Anchorage:20241027T180000
DTSTAMP:20260424T030536
CREATED:20240813T040057Z
LAST-MODIFIED:20250111T222538Z
UID:10000501-1730044800-1730052000@www.esterlibrary.org
SUMMARY:Writing Circle (No browsing)
DESCRIPTION:Join us for some quiet time. The library is NOT open for browsing during this time.
URL:https://www.esterlibrary.org/event/writing-circle-3/2024-10-27/
LOCATION:Clausen Cabin\, 3629 Main Street\, Ester\, 99725
END:VEVENT
BEGIN:VEVENT
DTSTART;TZID=America/Anchorage:20241025T170000
DTEND;TZID=America/Anchorage:20241025T190000
DTSTAMP:20260424T030536
CREATED:20240909T205747Z
LAST-MODIFIED:20241009T042237Z
UID:10000539-1729875600-1729882800@www.esterlibrary.org
SUMMARY:Adult Art Classes
DESCRIPTION:Join us and Willow Art Studios for different adult art classes. This week we’ll be painting water color wreaths.
URL:https://www.esterlibrary.org/event/adult-art-classes-2024-10-25/
LOCATION:Clausen Cabin\, 3629 Main Street\, Ester\, 99725
CATEGORIES:Events
END:VEVENT
BEGIN:VEVENT
DTSTART;TZID=America/Anchorage:20241020T160000
DTEND;TZID=America/Anchorage:20241020T180000
DTSTAMP:20260424T030536
CREATED:20240813T040057Z
LAST-MODIFIED:20250111T222538Z
UID:10000500-1729440000-1729447200@www.esterlibrary.org
SUMMARY:Writing Circle (No browsing)
DESCRIPTION:Join us for some quiet time. The library is NOT open for browsing during this time.
URL:https://www.esterlibrary.org/event/writing-circle-3/2024-10-20/
LOCATION:Clausen Cabin\, 3629 Main Street\, Ester\, 99725
END:VEVENT
BEGIN:VEVENT
DTSTART;TZID=America/Anchorage:20241018T170000
DTEND;TZID=America/Anchorage:20241018T190000
DTSTAMP:20260424T030536
CREATED:20240909T205747Z
LAST-MODIFIED:20241009T042118Z
UID:10000538-1729270800-1729278000@www.esterlibrary.org
SUMMARY:Adult Art Classes
DESCRIPTION:Join us and Willow Art Studios for different adult art classes. This week we’ll lbe painting water color sea scapes. \n 
URL:https://www.esterlibrary.org/event/adult-art-classes-2024-10-18/
LOCATION:Clausen Cabin\, 3629 Main Street\, Ester\, 99725
CATEGORIES:Events
END:VEVENT
BEGIN:VEVENT
DTSTART;TZID=America/Anchorage:20241013T160000
DTEND;TZID=America/Anchorage:20241013T173000
DTSTAMP:20260424T030536
CREATED:20240813T040057Z
LAST-MODIFIED:20240919T030222Z
UID:10000528-1728835200-1728840600@www.esterlibrary.org
SUMMARY:JTEL Annual Meeting
DESCRIPTION:Join us for a recap of the past year\, volunteer appreciation\, and the voting in of new board members!
URL:https://www.esterlibrary.org/event/writing-circle-3-2024-10-13/
LOCATION:Clausen Cabin\, 3629 Main Street\, Ester\, 99725
END:VEVENT
BEGIN:VEVENT
DTSTART;TZID=America/Anchorage:20241011T170000
DTEND;TZID=America/Anchorage:20241011T190000
DTSTAMP:20260424T030536
CREATED:20240909T205747Z
LAST-MODIFIED:20241009T042005Z
UID:10000537-1728666000-1728673200@www.esterlibrary.org
SUMMARY:Adult Art Classes
DESCRIPTION:Join us and Willow Art Studios for different adult art classes. This week we’ll learn water colors – flowers. \n 
URL:https://www.esterlibrary.org/event/adult-art-classes-2024-10-11/
LOCATION:Clausen Cabin\, 3629 Main Street\, Ester\, 99725
CATEGORIES:Events
END:VEVENT
BEGIN:VEVENT
DTSTART;TZID=America/Anchorage:20241006T160000
DTEND;TZID=America/Anchorage:20241006T180000
DTSTAMP:20260424T030536
CREATED:20240813T040057Z
LAST-MODIFIED:20250111T222538Z
UID:10000499-1728230400-1728237600@www.esterlibrary.org
SUMMARY:Writing Circle (No browsing)
DESCRIPTION:Join us for some quiet time. The library is NOT open for browsing during this time.
URL:https://www.esterlibrary.org/event/writing-circle-3/2024-10-06/
LOCATION:Clausen Cabin\, 3629 Main Street\, Ester\, 99725
END:VEVENT
BEGIN:VEVENT
DTSTART;TZID=America/Anchorage:20241005T150000
DTEND;TZID=America/Anchorage:20241005T163000
DTSTAMP:20260424T030536
CREATED:20240620T031016Z
LAST-MODIFIED:20240909T215024Z
UID:10000486-1728140400-1728145800@www.esterlibrary.org
SUMMARY:Book Club
DESCRIPTION:At the Bright Edge of the World\, by Eowyn Ivey \nFrom the best-selling author of The Snow Child\, a thrilling tale of historical adventure set in the Alaskan wilderness. \nIn the winter of 1885\, Lieutenant Colonel Allen Forrester sets out with his men on an expedition into the newly acquired territory of Alaska. Their objective: to travel up the ferocious Wolverine River\, mapping the interior and gathering information on the region’s potentially dangerous native tribes. With a young and newly pregnant wife at home\, Forrester is anxious to complete the journey with all possible speed and return to her. But once the crew passes beyond the edge of the known world\, there’s no telling what awaits them. \nWith gorgeous descriptions of the Alaskan wilds and a vivid cast of characters – including Forrester; his wife\, Sophie; a mysterious Eyak guide; and a Native American woman who joins the expedition – To the Bright Edge of the World is an epic tale of one of America’s last frontiers\, combining myth\, history\, romance\, and adventure.
URL:https://www.esterlibrary.org/event/book-club-7-2024-10-05/2024-10-05/
LOCATION:Clausen Cabin\, 3629 Main Street\, Ester\, 99725
CATEGORIES:Announcements,Events
END:VEVENT
BEGIN:VEVENT
DTSTART;TZID=America/Anchorage:20241004T170000
DTEND;TZID=America/Anchorage:20241004T190000
DTSTAMP:20260424T030536
CREATED:20240909T205747Z
LAST-MODIFIED:20240909T221159Z
UID:10000536-1728061200-1728068400@www.esterlibrary.org
SUMMARY:Adult Art Classes
DESCRIPTION:Join us and Willow Art Studios for different adult art classes. This week is part 2 of a series on mixed media painting! \nWe are going to use mix media on watercolor paper. We will start with a simple design and start adding our cut out and glue them carefully in place. Then we will start with a light watercolor base and any other enhancements. Make some careful pen details. Then come in with some pastels to give this composition some impressionist style with a glow of pastels. Spray fixative when complete. Materials: Watercolor paper\, stencils for cut outs\, glue\, tissue paper\, gold foil\, pastels\, and fixatives. \nArt Fee: $10
URL:https://www.esterlibrary.org/event/adult-art-classes-2024-10-04/
LOCATION:Clausen Cabin\, 3629 Main Street\, Ester\, 99725
CATEGORIES:Events
END:VEVENT
BEGIN:VEVENT
DTSTART;TZID=America/Anchorage:20240929T160000
DTEND;TZID=America/Anchorage:20240929T180000
DTSTAMP:20260424T030536
CREATED:20240813T040057Z
LAST-MODIFIED:20250111T222538Z
UID:10000498-1727625600-1727632800@www.esterlibrary.org
SUMMARY:Writing Circle (No browsing)
DESCRIPTION:Join us for some quiet time. The library is NOT open for browsing during this time.
URL:https://www.esterlibrary.org/event/writing-circle-3/2024-09-29/
LOCATION:Clausen Cabin\, 3629 Main Street\, Ester\, 99725
END:VEVENT
BEGIN:VEVENT
DTSTART;TZID=America/Anchorage:20240928T140000
DTEND;TZID=America/Anchorage:20240928T220000
DTSTAMP:20260424T030536
CREATED:20240813T042057Z
LAST-MODIFIED:20240813T042057Z
UID:10000529-1727532000-1727560800@www.esterlibrary.org
SUMMARY:LiBerry Pie Contest and Music Festival
DESCRIPTION:Join us for this annual fundraiser! \nPie entries from 2-4PM at the Clausen Cabin\, judging from 4-5PM \n6-10PM for $5 slice of pies and music\, featuring Ice Jam!
URL:https://www.esterlibrary.org/event/liberry-pie-contest-and-music-festival/
LOCATION:Clausen Cabin\, 3629 Main Street\, Ester\, 99725
END:VEVENT
BEGIN:VEVENT
DTSTART;TZID=America/Anchorage:20240927T170000
DTEND;TZID=America/Anchorage:20240927T190000
DTSTAMP:20260424T030536
CREATED:20240909T205747Z
LAST-MODIFIED:20240909T220959Z
UID:10000535-1727456400-1727463600@www.esterlibrary.org
SUMMARY:Adult Art Classes
DESCRIPTION:Join us and Willow Art Studios for different adult art classes. This week we’ll learn mixed media painting\, part 1! We are going to use mix media on watercolor paper. We will start with a simple design and start adding our cut out and glue them carefully in place. Then we will start with a light watercolor base and any other enhancements. Make some careful pen details. Then come in with some pastels to give this composition some impressionist style with a glow of pastels. Spray fixative when complete. Materials: Watercolor paper\, stencils for cut outs\, glue\, tissue paper\, gold foil\, pastels\, and fixatives. \nArt Fee: $10
URL:https://www.esterlibrary.org/event/adult-art-classes-2024-09-27/
LOCATION:Clausen Cabin\, 3629 Main Street\, Ester\, 99725
CATEGORIES:Events
END:VEVENT
BEGIN:VEVENT
DTSTART;TZID=America/Anchorage:20240922T160000
DTEND;TZID=America/Anchorage:20240922T180000
DTSTAMP:20260424T030536
CREATED:20240813T040057Z
LAST-MODIFIED:20250111T222538Z
UID:10000497-1727020800-1727028000@www.esterlibrary.org
SUMMARY:Writing Circle (No browsing)
DESCRIPTION:Join us for some quiet time. The library is NOT open for browsing during this time.
URL:https://www.esterlibrary.org/event/writing-circle-3/2024-09-22/
LOCATION:Clausen Cabin\, 3629 Main Street\, Ester\, 99725
END:VEVENT
BEGIN:VEVENT
DTSTART;TZID=America/Anchorage:20240920T170000
DTEND;TZID=America/Anchorage:20240920T190000
DTSTAMP:20260424T030536
CREATED:20240909T205747Z
LAST-MODIFIED:20240919T025252Z
UID:10000534-1726851600-1726858800@www.esterlibrary.org
SUMMARY:Adult Art Classes
DESCRIPTION:Join us and Willow Art Studios for different adult art classes. This week we’ll learn mono printmaking! \nWe will be making a stencil to create a monoprint. We are going to use acrylic paint and watercolor paper to cut out stencils. We will arrange the stencil to the plexiglass and start rolling away to create layers by adding new stencils and new color paint to make your own unique monoprint. Materials: Plex glass large\, rollers\, paint\, watercolor paper \nArt Fee:$10
URL:https://www.esterlibrary.org/event/adult-art-classes-2024-09-20/
LOCATION:Clausen Cabin\, 3629 Main Street\, Ester\, 99725
CATEGORIES:Events
END:VEVENT
BEGIN:VEVENT
DTSTART;TZID=America/Anchorage:20240915T160000
DTEND;TZID=America/Anchorage:20240915T180000
DTSTAMP:20260424T030536
CREATED:20240813T040057Z
LAST-MODIFIED:20250111T222538Z
UID:10000496-1726416000-1726423200@www.esterlibrary.org
SUMMARY:Writing Circle (No browsing)
DESCRIPTION:Join us for some quiet time. The library is NOT open for browsing during this time.
URL:https://www.esterlibrary.org/event/writing-circle-3/2024-09-15/
LOCATION:Clausen Cabin\, 3629 Main Street\, Ester\, 99725
END:VEVENT
BEGIN:VEVENT
DTSTART;TZID=America/Anchorage:20240914T120000
DTEND;TZID=America/Anchorage:20240914T150000
DTSTAMP:20260424T030536
CREATED:20240822T035221Z
LAST-MODIFIED:20240909T204225Z
UID:10000531-1726315200-1726326000@www.esterlibrary.org
SUMMARY:Seedstock and Garlic Sale
DESCRIPTION:
URL:https://www.esterlibrary.org/event/seedstock-and-garlic-sale/
LOCATION:Clausen Cabin\, 3629 Main Street\, Ester\, 99725
CATEGORIES:Events,Fundraising
END:VEVENT
BEGIN:VEVENT
DTSTART;TZID=America/Anchorage:20240913T170000
DTEND;TZID=America/Anchorage:20240913T190000
DTSTAMP:20260424T030536
CREATED:20240909T205747Z
LAST-MODIFIED:20240909T221441Z
UID:10000533-1726246800-1726254000@www.esterlibrary.org
SUMMARY:Adult Art Classes
DESCRIPTION:Join us and Willow Art Studios for different adult art classes. This week we’ll learn batik! \nBring a white shirt or basic material will be provided. This project is adding a wax design and dyeing fabric to make a unique and lasting design to fabric. What’s nice about this method is that it lasts a long time and there are no plastic dyes that crack and feel uncomfortable to the skin. This method of designing on fabric is an old way of art\nand takes lots of practice to get it right but all designs come out looking really neat and\noriginal. You get to pick out the color dyes you want to use and use them to make your own\ndesign. Materials: Wax\, Material Linen\, Dye\, and Wash Tubs \n$10 art fee
URL:https://www.esterlibrary.org/event/adult-art-classes/
LOCATION:Clausen Cabin\, 3629 Main Street\, Ester\, 99725
CATEGORIES:Events
END:VEVENT
BEGIN:VEVENT
DTSTART;TZID=America/Anchorage:20240908T160000
DTEND;TZID=America/Anchorage:20240908T180000
DTSTAMP:20260424T030536
CREATED:20240813T040057Z
LAST-MODIFIED:20250111T222538Z
UID:10000495-1725811200-1725818400@www.esterlibrary.org
SUMMARY:Writing Circle (No browsing)
DESCRIPTION:Join us for some quiet time. The library is NOT open for browsing during this time.
URL:https://www.esterlibrary.org/event/writing-circle-3/2024-09-08/
LOCATION:Clausen Cabin\, 3629 Main Street\, Ester\, 99725
END:VEVENT
BEGIN:VEVENT
DTSTART;TZID=America/Anchorage:20240907T150000
DTEND;TZID=America/Anchorage:20240907T170000
DTSTAMP:20260424T030536
CREATED:20240620T031016Z
LAST-MODIFIED:20240822T024027Z
UID:10000483-1725721200-1725728400@www.esterlibrary.org
SUMMARY:Book Club
DESCRIPTION:Atlas Shrugged\, by Ayn Rand \nAtlas Shrugged is the “second most influential book for Americans today” after the Bible\, according to a joint survey of five thousand people conducted by the Library of Congress and the Book of the Month Club in 1991. \nIn a scrap heap within an abandoned factory\, the greatest invention in history lies dormant and unused. By what fatal error of judgment has its value gone unrecognized\, its brilliant inventor punished rather than rewarded for his efforts? \nThis is the story of a man who said that he would stop the motor of the world—and did. In defense of those greatest of human qualities that have made civilization possible\, he sets out to show what would happen to the world if all the heroes of innovation and industry went on strike. Is he a destroyer or a liberator? Why does he have to fight his battle not against his enemies but against those who need him most? Why does he fight his hardest battle against the woman he loves? The answers will be revealed once you discover the reason behind the baffling events that wreak havoc on the lives of the amazing men and women in this remarkable book. \nTremendous in scope and breathtaking in its suspense\, Atlas Shrugged is Ayn Rand’s magnum opus\, which launched an ideology and a movement. With the publication of this work in 1957\, Rand gained an instant following and became a phenomenon. Atlas Shrugged emerged as a premier moral apologia for capitalism\, a defense that had an electrifying effect on millions of readers (and now listeners) who had never heard capitalism defended in other than technical terms. \nWith gorgeous descriptions of the Alaskan wilds and a vivid cast of characters – including Forrester; his wife\, Sophie; a mysterious Eyak guide; and a Native American woman who joins the expedition – To the Bright Edge of the World is an epic tale of one of America’s last frontiers\, combining myth\, history\, romance\, and adventure.
URL:https://www.esterlibrary.org/event/book-club-7/
LOCATION:Clausen Cabin\, 3629 Main Street\, Ester\, 99725
CATEGORIES:Announcements,Events
END:VEVENT
END:VCALENDAR