BEGIN:VCALENDAR
VERSION:2.0
PRODID:-//Ester Village Library - ECPv6.15.20//NONSGML v1.0//EN
CALSCALE:GREGORIAN
METHOD:PUBLISH
X-WR-CALNAME:Ester Village Library
X-ORIGINAL-URL:https://www.esterlibrary.org
X-WR-CALDESC:Events for Ester Village Library
REFRESH-INTERVAL;VALUE=DURATION:PT1H
X-Robots-Tag:noindex
X-PUBLISHED-TTL:PT1H
BEGIN:VTIMEZONE
TZID:America/Anchorage
BEGIN:DAYLIGHT
TZOFFSETFROM:-0900
TZOFFSETTO:-0800
TZNAME:AKDT
DTSTART:20230312T110000
END:DAYLIGHT
BEGIN:STANDARD
TZOFFSETFROM:-0800
TZOFFSETTO:-0900
TZNAME:AKST
DTSTART:20231105T100000
END:STANDARD
BEGIN:DAYLIGHT
TZOFFSETFROM:-0900
TZOFFSETTO:-0800
TZNAME:AKDT
DTSTART:20240310T110000
END:DAYLIGHT
BEGIN:STANDARD
TZOFFSETFROM:-0800
TZOFFSETTO:-0900
TZNAME:AKST
DTSTART:20241103T100000
END:STANDARD
BEGIN:DAYLIGHT
TZOFFSETFROM:-0900
TZOFFSETTO:-0800
TZNAME:AKDT
DTSTART:20250309T110000
END:DAYLIGHT
BEGIN:STANDARD
TZOFFSETFROM:-0800
TZOFFSETTO:-0900
TZNAME:AKST
DTSTART:20251102T100000
END:STANDARD
BEGIN:DAYLIGHT
TZOFFSETFROM:-0900
TZOFFSETTO:-0800
TZNAME:AKDT
DTSTART:20260308T110000
END:DAYLIGHT
BEGIN:STANDARD
TZOFFSETFROM:-0800
TZOFFSETTO:-0900
TZNAME:AKST
DTSTART:20261101T100000
END:STANDARD
END:VTIMEZONE
BEGIN:VEVENT
DTSTART;TZID=America/Anchorage:20250202T160000
DTEND;TZID=America/Anchorage:20250202T180000
DTSTAMP:20260424T000659
CREATED:20240813T040057Z
LAST-MODIFIED:20250111T222538Z
UID:10000515-1738512000-1738519200@www.esterlibrary.org
SUMMARY:Writing Circle (No browsing)
DESCRIPTION:Join us for some quiet time. The library is NOT open for browsing during this time.
URL:https://www.esterlibrary.org/event/writing-circle-3/2025-02-02/
LOCATION:Clausen Cabin\, 3629 Main Street\, Ester\, 99725
END:VEVENT
BEGIN:VEVENT
DTSTART;TZID=America/Anchorage:20250201T150000
DTEND;TZID=America/Anchorage:20250201T163000
DTSTAMP:20260424T000659
CREATED:20240620T031016Z
LAST-MODIFIED:20250111T222310Z
UID:10000489-1738422000-1738427400@www.esterlibrary.org
SUMMARY:Book Club
DESCRIPTION:Blue Highways\, A Journey into America\, by William Least Heat Moon \nHailed as a masterpiece of American travel writing\, Blue Highways is an unforgettable journey along our nation’s backroads.\n\nWilliam Least Heat-Moon set out with little more than the need to put home behind him and a sense of curiosity about “those little towns that get on the map — if they get on at all — only because some cartographer has a blank space to fill: Remote\, Oregon; Simplicity\, Virginia; New Freedom\, Pennsylvania; New Hope\, Tennessee; Why\, Arizona; Whynot\, Mississippi.” \nHis adventures\, his discoveries\, and his recollections of the extraordinary people he encountered along the way amount to a revelation of the true American experience.
URL:https://www.esterlibrary.org/event/book-club-7-2024-12-07-2025-02-01/
LOCATION:Clausen Cabin\, 3629 Main Street\, Ester\, 99725
CATEGORIES:Announcements,Events
END:VEVENT
BEGIN:VEVENT
DTSTART;TZID=America/Anchorage:20250128T150000
DTEND;TZID=America/Anchorage:20250128T190000
DTSTAMP:20260424T000659
CREATED:20241130T044318Z
LAST-MODIFIED:20250111T223118Z
UID:10000198-1738076400-1738090800@www.esterlibrary.org
SUMMARY:Knit Night and Open Hours
DESCRIPTION:
URL:https://www.esterlibrary.org/event/knit-night-and-open-hours/2025-01-28/
LOCATION:Clausen Cabin\, 3629 Main Street\, Ester\, 99725
END:VEVENT
BEGIN:VEVENT
DTSTART;TZID=America/Anchorage:20250126T160000
DTEND;TZID=America/Anchorage:20250126T180000
DTSTAMP:20260424T000659
CREATED:20240813T040057Z
LAST-MODIFIED:20250111T222538Z
UID:10000514-1737907200-1737914400@www.esterlibrary.org
SUMMARY:Writing Circle (No browsing)
DESCRIPTION:Join us for some quiet time. The library is NOT open for browsing during this time.
URL:https://www.esterlibrary.org/event/writing-circle-3/2025-01-26/
LOCATION:Clausen Cabin\, 3629 Main Street\, Ester\, 99725
END:VEVENT
BEGIN:VEVENT
DTSTART;TZID=America/Anchorage:20250125T143000
DTEND;TZID=America/Anchorage:20250125T160000
DTSTAMP:20260424T000659
CREATED:20241130T043143Z
LAST-MODIFIED:20250111T224238Z
UID:10000186-1737815400-1737820800@www.esterlibrary.org
SUMMARY:Children's Book Club
DESCRIPTION:
URL:https://www.esterlibrary.org/event/childrens-book-club-2-2025-01-25/2025-01-25/
LOCATION:Clausen Cabin\, 3629 Main Street\, Ester\, 99725
END:VEVENT
BEGIN:VEVENT
DTSTART;TZID=America/Anchorage:20250121T150000
DTEND;TZID=America/Anchorage:20250121T190000
DTSTAMP:20260424T000659
CREATED:20241130T044318Z
LAST-MODIFIED:20250111T223118Z
UID:10000197-1737471600-1737486000@www.esterlibrary.org
SUMMARY:Knit Night and Open Hours
DESCRIPTION:
URL:https://www.esterlibrary.org/event/knit-night-and-open-hours/2025-01-21/
LOCATION:Clausen Cabin\, 3629 Main Street\, Ester\, 99725
END:VEVENT
BEGIN:VEVENT
DTSTART;TZID=America/Anchorage:20250119T160000
DTEND;TZID=America/Anchorage:20250119T180000
DTSTAMP:20260424T000659
CREATED:20240813T040057Z
LAST-MODIFIED:20250111T222538Z
UID:10000513-1737302400-1737309600@www.esterlibrary.org
SUMMARY:Writing Circle (No browsing)
DESCRIPTION:Join us for some quiet time. The library is NOT open for browsing during this time.
URL:https://www.esterlibrary.org/event/writing-circle-3/2025-01-19/
LOCATION:Clausen Cabin\, 3629 Main Street\, Ester\, 99725
END:VEVENT
BEGIN:VEVENT
DTSTART;TZID=America/Anchorage:20250114T150000
DTEND;TZID=America/Anchorage:20250114T190000
DTSTAMP:20260424T000659
CREATED:20241130T044318Z
LAST-MODIFIED:20250111T223118Z
UID:10000196-1736866800-1736881200@www.esterlibrary.org
SUMMARY:Knit Night and Open Hours
DESCRIPTION:
URL:https://www.esterlibrary.org/event/knit-night-and-open-hours/2025-01-14/
LOCATION:Clausen Cabin\, 3629 Main Street\, Ester\, 99725
END:VEVENT
BEGIN:VEVENT
DTSTART;TZID=America/Anchorage:20250112T160000
DTEND;TZID=America/Anchorage:20250112T180000
DTSTAMP:20260424T000659
CREATED:20240813T040057Z
LAST-MODIFIED:20250111T222538Z
UID:10000512-1736697600-1736704800@www.esterlibrary.org
SUMMARY:Writing Circle (No browsing)
DESCRIPTION:Join us for some quiet time. The library is NOT open for browsing during this time.
URL:https://www.esterlibrary.org/event/writing-circle-3/2025-01-12/
LOCATION:Clausen Cabin\, 3629 Main Street\, Ester\, 99725
END:VEVENT
BEGIN:VEVENT
DTSTART;TZID=America/Anchorage:20250111T143000
DTEND;TZID=America/Anchorage:20250111T150000
DTSTAMP:20260424T000659
CREATED:20241130T042850Z
LAST-MODIFIED:20241202T214139Z
UID:10000584-1736605800-1736607600@www.esterlibrary.org
SUMMARY:Children's Book Club
DESCRIPTION:
URL:https://www.esterlibrary.org/event/childrens-book-club/2025-01-11/
LOCATION:Clausen Cabin\, 3629 Main Street\, Ester\, 99725
CATEGORIES:Events
END:VEVENT
BEGIN:VEVENT
DTSTART;TZID=America/Anchorage:20250107T150000
DTEND;TZID=America/Anchorage:20250107T190000
DTSTAMP:20260424T000659
CREATED:20241130T044318Z
LAST-MODIFIED:20250111T223118Z
UID:10000195-1736262000-1736276400@www.esterlibrary.org
SUMMARY:Knit Night and Open Hours
DESCRIPTION:
URL:https://www.esterlibrary.org/event/knit-night-and-open-hours/2025-01-07/
LOCATION:Clausen Cabin\, 3629 Main Street\, Ester\, 99725
END:VEVENT
BEGIN:VEVENT
DTSTART;TZID=America/Anchorage:20250105T160000
DTEND;TZID=America/Anchorage:20250105T180000
DTSTAMP:20260424T000659
CREATED:20240813T040057Z
LAST-MODIFIED:20250111T222538Z
UID:10000511-1736092800-1736100000@www.esterlibrary.org
SUMMARY:Writing Circle (No browsing)
DESCRIPTION:Join us for some quiet time. The library is NOT open for browsing during this time.
URL:https://www.esterlibrary.org/event/writing-circle-3/2025-01-05/
LOCATION:Clausen Cabin\, 3629 Main Street\, Ester\, 99725
END:VEVENT
BEGIN:VEVENT
DTSTART;TZID=America/Anchorage:20250104T150000
DTEND;TZID=America/Anchorage:20250104T163000
DTSTAMP:20260424T000659
CREATED:20240620T031016Z
LAST-MODIFIED:20250111T223404Z
UID:10000487-1736002800-1736008200@www.esterlibrary.org
SUMMARY:Book Club
DESCRIPTION:
URL:https://www.esterlibrary.org/event/book-club-7-2024-12-07-2025-01-04/2025-01-04/
LOCATION:Clausen Cabin\, 3629 Main Street\, Ester\, 99725
CATEGORIES:Announcements,Events
END:VEVENT
BEGIN:VEVENT
DTSTART;TZID=America/Anchorage:20241231T150000
DTEND;TZID=America/Anchorage:20241231T190000
DTSTAMP:20260424T000659
CREATED:20241130T044318Z
LAST-MODIFIED:20250111T223118Z
UID:10000194-1735657200-1735671600@www.esterlibrary.org
SUMMARY:Knit Night and Open Hours
DESCRIPTION:
URL:https://www.esterlibrary.org/event/knit-night-and-open-hours/2024-12-31/
LOCATION:Clausen Cabin\, 3629 Main Street\, Ester\, 99725
END:VEVENT
BEGIN:VEVENT
DTSTART;TZID=America/Anchorage:20241229T160000
DTEND;TZID=America/Anchorage:20241229T180000
DTSTAMP:20260424T000659
CREATED:20240813T040057Z
LAST-MODIFIED:20250111T222538Z
UID:10000510-1735488000-1735495200@www.esterlibrary.org
SUMMARY:Writing Circle (No browsing)
DESCRIPTION:Join us for some quiet time. The library is NOT open for browsing during this time.
URL:https://www.esterlibrary.org/event/writing-circle-3/2024-12-29/
LOCATION:Clausen Cabin\, 3629 Main Street\, Ester\, 99725
END:VEVENT
BEGIN:VEVENT
DTSTART;TZID=America/Anchorage:20241228T143000
DTEND;TZID=America/Anchorage:20241228T160000
DTSTAMP:20260424T000659
CREATED:20241130T043143Z
LAST-MODIFIED:20241202T214223Z
UID:10000185-1735396200-1735401600@www.esterlibrary.org
SUMMARY:Children's Book Club
DESCRIPTION:
URL:https://www.esterlibrary.org/event/childrens-book-club-2/
LOCATION:Clausen Cabin\, 3629 Main Street\, Ester\, 99725
END:VEVENT
BEGIN:VEVENT
DTSTART;TZID=America/Anchorage:20241224T150000
DTEND;TZID=America/Anchorage:20241224T190000
DTSTAMP:20260424T000659
CREATED:20241130T044318Z
LAST-MODIFIED:20250111T223118Z
UID:10000193-1735052400-1735066800@www.esterlibrary.org
SUMMARY:Knit Night and Open Hours
DESCRIPTION:
URL:https://www.esterlibrary.org/event/knit-night-and-open-hours/2024-12-24/
LOCATION:Clausen Cabin\, 3629 Main Street\, Ester\, 99725
END:VEVENT
BEGIN:VEVENT
DTSTART;TZID=America/Anchorage:20241222T160000
DTEND;TZID=America/Anchorage:20241222T180000
DTSTAMP:20260424T000659
CREATED:20240813T040057Z
LAST-MODIFIED:20250111T222538Z
UID:10000509-1734883200-1734890400@www.esterlibrary.org
SUMMARY:Writing Circle (No browsing)
DESCRIPTION:Join us for some quiet time. The library is NOT open for browsing during this time.
URL:https://www.esterlibrary.org/event/writing-circle-3/2024-12-22/
LOCATION:Clausen Cabin\, 3629 Main Street\, Ester\, 99725
END:VEVENT
BEGIN:VEVENT
DTSTART;TZID=America/Anchorage:20241217T150000
DTEND;TZID=America/Anchorage:20241217T190000
DTSTAMP:20260424T000659
CREATED:20241130T044318Z
LAST-MODIFIED:20250111T223118Z
UID:10000192-1734447600-1734462000@www.esterlibrary.org
SUMMARY:Knit Night and Open Hours
DESCRIPTION:
URL:https://www.esterlibrary.org/event/knit-night-and-open-hours/2024-12-17/
LOCATION:Clausen Cabin\, 3629 Main Street\, Ester\, 99725
END:VEVENT
BEGIN:VEVENT
DTSTART;TZID=America/Anchorage:20241215T160000
DTEND;TZID=America/Anchorage:20241215T180000
DTSTAMP:20260424T000659
CREATED:20240813T040057Z
LAST-MODIFIED:20250111T222538Z
UID:10000508-1734278400-1734285600@www.esterlibrary.org
SUMMARY:Writing Circle (No browsing)
DESCRIPTION:Join us for some quiet time. The library is NOT open for browsing during this time.
URL:https://www.esterlibrary.org/event/writing-circle-3/2024-12-15/
LOCATION:Clausen Cabin\, 3629 Main Street\, Ester\, 99725
END:VEVENT
BEGIN:VEVENT
DTSTART;TZID=America/Anchorage:20241214T143000
DTEND;TZID=America/Anchorage:20241214T150000
DTSTAMP:20260424T000659
CREATED:20241130T042850Z
LAST-MODIFIED:20241202T214139Z
UID:10000583-1734186600-1734188400@www.esterlibrary.org
SUMMARY:Children's Book Club
DESCRIPTION:
URL:https://www.esterlibrary.org/event/childrens-book-club/2024-12-14/
LOCATION:Clausen Cabin\, 3629 Main Street\, Ester\, 99725
CATEGORIES:Events
END:VEVENT
BEGIN:VEVENT
DTSTART;TZID=America/Anchorage:20241210T150000
DTEND;TZID=America/Anchorage:20241210T190000
DTSTAMP:20260424T000659
CREATED:20241130T044318Z
LAST-MODIFIED:20250111T223118Z
UID:10000191-1733842800-1733857200@www.esterlibrary.org
SUMMARY:Knit Night and Open Hours
DESCRIPTION:
URL:https://www.esterlibrary.org/event/knit-night-and-open-hours/2024-12-10/
LOCATION:Clausen Cabin\, 3629 Main Street\, Ester\, 99725
END:VEVENT
BEGIN:VEVENT
DTSTART;TZID=America/Anchorage:20241208T160000
DTEND;TZID=America/Anchorage:20241208T180000
DTSTAMP:20260424T000659
CREATED:20240813T040057Z
LAST-MODIFIED:20250111T222538Z
UID:10000507-1733673600-1733680800@www.esterlibrary.org
SUMMARY:Writing Circle (No browsing)
DESCRIPTION:Join us for some quiet time. The library is NOT open for browsing during this time.
URL:https://www.esterlibrary.org/event/writing-circle-3/2024-12-08/
LOCATION:Clausen Cabin\, 3629 Main Street\, Ester\, 99725
END:VEVENT
BEGIN:VEVENT
DTSTART;TZID=America/Anchorage:20241207T150000
DTEND;TZID=America/Anchorage:20241207T163000
DTSTAMP:20260424T000659
CREATED:20240620T031016Z
LAST-MODIFIED:20241130T044750Z
UID:10000485-1733583600-1733589000@www.esterlibrary.org
SUMMARY:Book Club
DESCRIPTION:This month’s title: That Librarian\, by Amanda Jones \n“Amanda Jones started getting death threats\, all for standing up for our right to read . . . but she’s not stopped fighting against book bans or stopped advocating for access to diverse stories.”-Oprah Winfrey\, in a speech at the 2023 National Book Awards\n\nPart memoir\, part manifesto\, the inspiring story of a Louisiana librarian advocating for inclusivity on the front lines of our vicious culture wars. \nOne of the things small town librarian Amanda Jones values most about books is how they can affirm a young person’s sense of self. So in 2022\, when she caught wind of a local public hearing that would discuss “book content\,” she knew what was at stake. Schools and libraries nationwide have been bombarded by demands for books with LGTBQ+ references\, discussions of racism\, and more to be purged from the shelves. Amanda would be damned if her community were to ban stories representing minority groups. She spoke out that night at the meeting. Days later\, she woke up to a nightmare that is still ongoing. \nAmanda Jones has been called a groomer\, a pedo\, and a porn-pusher; she has faced death threats and attacks from strangers and friends alike. Her decision to support a collection of books with diverse perspectives made her a target for extremists using book banning campaigns-funded by dark money organizations and advanced by hard right politicians-in a crusade to make America more white\, straight\, and “Christian.” But Amanda Jones wouldn’t give up without a fight: she sued her harassers for defamation and urged others to join her in the resistance. \nMapping the book banning crisis occurring all across the nation\, That Librarian draws the battle lines in the war against equity and inclusion\, calling book lovers everywhere to rise in defense of our readers.
URL:https://www.esterlibrary.org/event/book-club-7-2024-12-07/
LOCATION:Clausen Cabin\, 3629 Main Street\, Ester\, 99725
CATEGORIES:Announcements,Events
END:VEVENT
BEGIN:VEVENT
DTSTART;TZID=America/Anchorage:20241203T150000
DTEND;TZID=America/Anchorage:20241203T190000
DTSTAMP:20260424T000659
CREATED:20241130T044318Z
LAST-MODIFIED:20250111T223118Z
UID:10000190-1733238000-1733252400@www.esterlibrary.org
SUMMARY:Knit Night and Open Hours
DESCRIPTION:
URL:https://www.esterlibrary.org/event/knit-night-and-open-hours/2024-12-03/
LOCATION:Clausen Cabin\, 3629 Main Street\, Ester\, 99725
END:VEVENT
BEGIN:VEVENT
DTSTART;TZID=America/Anchorage:20241201T160000
DTEND;TZID=America/Anchorage:20241201T180000
DTSTAMP:20260424T000659
CREATED:20240813T040057Z
LAST-MODIFIED:20250111T222538Z
UID:10000506-1733068800-1733076000@www.esterlibrary.org
SUMMARY:Writing Circle (No browsing)
DESCRIPTION:Join us for some quiet time. The library is NOT open for browsing during this time.
URL:https://www.esterlibrary.org/event/writing-circle-3/2024-12-01/
LOCATION:Clausen Cabin\, 3629 Main Street\, Ester\, 99725
END:VEVENT
BEGIN:VEVENT
DTSTART;TZID=America/Anchorage:20241124T160000
DTEND;TZID=America/Anchorage:20241124T180000
DTSTAMP:20260424T000659
CREATED:20240813T040057Z
LAST-MODIFIED:20250111T222538Z
UID:10000505-1732464000-1732471200@www.esterlibrary.org
SUMMARY:Writing Circle (No browsing)
DESCRIPTION:Join us for some quiet time. The library is NOT open for browsing during this time.
URL:https://www.esterlibrary.org/event/writing-circle-3/2024-11-24/
LOCATION:Clausen Cabin\, 3629 Main Street\, Ester\, 99725
END:VEVENT
BEGIN:VEVENT
DTSTART;TZID=America/Anchorage:20241117T160000
DTEND;TZID=America/Anchorage:20241117T180000
DTSTAMP:20260424T000659
CREATED:20240813T040057Z
LAST-MODIFIED:20250111T222538Z
UID:10000504-1731859200-1731866400@www.esterlibrary.org
SUMMARY:Writing Circle (No browsing)
DESCRIPTION:Join us for some quiet time. The library is NOT open for browsing during this time.
URL:https://www.esterlibrary.org/event/writing-circle-3/2024-11-17/
LOCATION:Clausen Cabin\, 3629 Main Street\, Ester\, 99725
END:VEVENT
BEGIN:VEVENT
DTSTART;TZID=America/Anchorage:20241115T170000
DTEND;TZID=America/Anchorage:20241115T190000
DTSTAMP:20260424T000659
CREATED:20240909T205747Z
LAST-MODIFIED:20240909T211201Z
UID:10000542-1731690000-1731697200@www.esterlibrary.org
SUMMARY:Adult Art Classes
DESCRIPTION:Join us and Willow Art Studios for different adult art classes. This week we’ll continue with part 3 of our Felting Slippers series!
URL:https://www.esterlibrary.org/event/adult-art-classes-2024-11-15/
LOCATION:Clausen Cabin\, 3629 Main Street\, Ester\, 99725
CATEGORIES:Events
END:VEVENT
BEGIN:VEVENT
DTSTART;TZID=America/Anchorage:20241110T160000
DTEND;TZID=America/Anchorage:20241110T180000
DTSTAMP:20260424T000659
CREATED:20240813T040057Z
LAST-MODIFIED:20250111T222538Z
UID:10000503-1731254400-1731261600@www.esterlibrary.org
SUMMARY:Writing Circle (No browsing)
DESCRIPTION:Join us for some quiet time. The library is NOT open for browsing during this time.
URL:https://www.esterlibrary.org/event/writing-circle-3/2024-11-10/
LOCATION:Clausen Cabin\, 3629 Main Street\, Ester\, 99725
END:VEVENT
END:VCALENDAR