BEGIN:VCALENDAR
VERSION:2.0
PRODID:-//Ester Village Library - ECPv6.15.20//NONSGML v1.0//EN
CALSCALE:GREGORIAN
METHOD:PUBLISH
X-WR-CALNAME:Ester Village Library
X-ORIGINAL-URL:https://www.esterlibrary.org
X-WR-CALDESC:Events for Ester Village Library
REFRESH-INTERVAL;VALUE=DURATION:PT1H
X-Robots-Tag:noindex
X-PUBLISHED-TTL:PT1H
BEGIN:VTIMEZONE
TZID:America/Anchorage
BEGIN:DAYLIGHT
TZOFFSETFROM:-0900
TZOFFSETTO:-0800
TZNAME:AKDT
DTSTART:20150308T110000
END:DAYLIGHT
BEGIN:STANDARD
TZOFFSETFROM:-0800
TZOFFSETTO:-0900
TZNAME:AKST
DTSTART:20151101T100000
END:STANDARD
BEGIN:DAYLIGHT
TZOFFSETFROM:-0900
TZOFFSETTO:-0800
TZNAME:AKDT
DTSTART:20160313T110000
END:DAYLIGHT
BEGIN:STANDARD
TZOFFSETFROM:-0800
TZOFFSETTO:-0900
TZNAME:AKST
DTSTART:20161106T100000
END:STANDARD
BEGIN:DAYLIGHT
TZOFFSETFROM:-0900
TZOFFSETTO:-0800
TZNAME:AKDT
DTSTART:20170312T110000
END:DAYLIGHT
BEGIN:STANDARD
TZOFFSETFROM:-0800
TZOFFSETTO:-0900
TZNAME:AKST
DTSTART:20171105T100000
END:STANDARD
END:VTIMEZONE
BEGIN:VEVENT
DTSTART;TZID=America/Anchorage:20160817T183000
DTEND;TZID=America/Anchorage:20160817T193000
DTSTAMP:20260423T113246
CREATED:20160804T170402Z
LAST-MODIFIED:20160804T170552Z
UID:10000073-1471458600-1471462200@www.esterlibrary.org
SUMMARY:LiBerry planning meeting
DESCRIPTION:The berries are coming in thick and fast: raspberries\, currants\, blueberries\, squash…it’s that time of year again. If you would like to help out at the fantabulous LiBerry Music Festival & Berry Pie Throwdown\, COME TO THIS MEETING! We need a lot of volunteers for our biggest fundraiser of the year\, and we hope to throw the best one ever this year. \nWe’ll need help with publicity\, people to take shifts at the door\, judges\, an auctioneer\, musicians\, Throwdown assistants\, and more! For pie makers\, here’s the contest rules and a list of berries to get you thinking. \nSee also our Facebook LiBerry group for more info and fellow volunteers.
URL:https://www.esterlibrary.org/event/liberry-planning-meeting/
LOCATION:Clausen Cabin\, 3629 Main Street\, Ester\, 99725
CATEGORIES:Events,Fundraising,Meetings
END:VEVENT
BEGIN:VEVENT
DTSTART;TZID=America/Anchorage:20160803T183000
DTEND;TZID=America/Anchorage:20160803T200000
DTSTAMP:20260423T113246
CREATED:20160726T193559Z
LAST-MODIFIED:20160804T160750Z
UID:10000072-1470249000-1470254400@www.esterlibrary.org
SUMMARY:August board meeting
DESCRIPTION:Collections and inventory report \nTape and Tarp History and 2016 Overview (PDF)
URL:https://www.esterlibrary.org/event/august-board-meeting/
LOCATION:Clausen Cabin\, 3629 Main Street\, Ester\, 99725
CATEGORIES:Board
END:VEVENT
END:VCALENDAR