BEGIN:VCALENDAR
VERSION:2.0
PRODID:-//Ester Village Library - ECPv6.15.20//NONSGML v1.0//EN
CALSCALE:GREGORIAN
METHOD:PUBLISH
X-WR-CALNAME:Ester Village Library
X-ORIGINAL-URL:https://www.esterlibrary.org
X-WR-CALDESC:Events for Ester Village Library
REFRESH-INTERVAL;VALUE=DURATION:PT1H
X-Robots-Tag:noindex
X-PUBLISHED-TTL:PT1H
BEGIN:VTIMEZONE
TZID:America/Anchorage
BEGIN:DAYLIGHT
TZOFFSETFROM:-0900
TZOFFSETTO:-0800
TZNAME:AKDT
DTSTART:20250309T110000
END:DAYLIGHT
BEGIN:STANDARD
TZOFFSETFROM:-0800
TZOFFSETTO:-0900
TZNAME:AKST
DTSTART:20251102T100000
END:STANDARD
BEGIN:DAYLIGHT
TZOFFSETFROM:-0900
TZOFFSETTO:-0800
TZNAME:AKDT
DTSTART:20260308T110000
END:DAYLIGHT
BEGIN:STANDARD
TZOFFSETFROM:-0800
TZOFFSETTO:-0900
TZNAME:AKST
DTSTART:20261101T100000
END:STANDARD
BEGIN:DAYLIGHT
TZOFFSETFROM:-0900
TZOFFSETTO:-0800
TZNAME:AKDT
DTSTART:20270314T110000
END:DAYLIGHT
BEGIN:STANDARD
TZOFFSETFROM:-0800
TZOFFSETTO:-0900
TZNAME:AKST
DTSTART:20271107T100000
END:STANDARD
END:VTIMEZONE
BEGIN:VEVENT
DTSTART;TZID=America/Anchorage:20260427T150000
DTEND;TZID=America/Anchorage:20260427T180000
DTSTAMP:20260423T071520
CREATED:20250902T200222Z
LAST-MODIFIED:20250902T200222Z
UID:10001102-1777302000-1777312800@www.esterlibrary.org
SUMMARY:Kid's art and crafts
DESCRIPTION:
URL:https://www.esterlibrary.org/event/kids-art-and-crafts/2026-04-27/
CATEGORIES:Events
END:VEVENT
BEGIN:VEVENT
DTSTART;TZID=America/Anchorage:20260504T150000
DTEND;TZID=America/Anchorage:20260504T180000
DTSTAMP:20260423T071520
CREATED:20250902T200222Z
LAST-MODIFIED:20250902T200222Z
UID:10001103-1777906800-1777917600@www.esterlibrary.org
SUMMARY:Kid's art and crafts
DESCRIPTION:
URL:https://www.esterlibrary.org/event/kids-art-and-crafts/2026-05-04/
CATEGORIES:Events
END:VEVENT
BEGIN:VEVENT
DTSTART;TZID=America/Anchorage:20260511T150000
DTEND;TZID=America/Anchorage:20260511T180000
DTSTAMP:20260423T071520
CREATED:20250902T200222Z
LAST-MODIFIED:20250902T200222Z
UID:10001104-1778511600-1778522400@www.esterlibrary.org
SUMMARY:Kid's art and crafts
DESCRIPTION:
URL:https://www.esterlibrary.org/event/kids-art-and-crafts/2026-05-11/
CATEGORIES:Events
END:VEVENT
BEGIN:VEVENT
DTSTART;TZID=America/Anchorage:20260518T150000
DTEND;TZID=America/Anchorage:20260518T180000
DTSTAMP:20260423T071520
CREATED:20250902T200222Z
LAST-MODIFIED:20250902T200222Z
UID:10001105-1779116400-1779127200@www.esterlibrary.org
SUMMARY:Kid's art and crafts
DESCRIPTION:
URL:https://www.esterlibrary.org/event/kids-art-and-crafts/2026-05-18/
CATEGORIES:Events
END:VEVENT
BEGIN:VEVENT
DTSTART;TZID=America/Anchorage:20260525T150000
DTEND;TZID=America/Anchorage:20260525T180000
DTSTAMP:20260423T071520
CREATED:20250902T200222Z
LAST-MODIFIED:20250902T200222Z
UID:10001106-1779721200-1779732000@www.esterlibrary.org
SUMMARY:Kid's art and crafts
DESCRIPTION:
URL:https://www.esterlibrary.org/event/kids-art-and-crafts/2026-05-25/
CATEGORIES:Events
END:VEVENT
BEGIN:VEVENT
DTSTART;TZID=America/Anchorage:20260601T150000
DTEND;TZID=America/Anchorage:20260601T180000
DTSTAMP:20260423T071520
CREATED:20250902T200222Z
LAST-MODIFIED:20250902T200222Z
UID:10001107-1780326000-1780336800@www.esterlibrary.org
SUMMARY:Kid's art and crafts
DESCRIPTION:
URL:https://www.esterlibrary.org/event/kids-art-and-crafts/2026-06-01/
CATEGORIES:Events
END:VEVENT
BEGIN:VEVENT
DTSTART;TZID=America/Anchorage:20260608T150000
DTEND;TZID=America/Anchorage:20260608T180000
DTSTAMP:20260423T071520
CREATED:20250902T200222Z
LAST-MODIFIED:20250902T200222Z
UID:10001108-1780930800-1780941600@www.esterlibrary.org
SUMMARY:Kid's art and crafts
DESCRIPTION:
URL:https://www.esterlibrary.org/event/kids-art-and-crafts/2026-06-08/
CATEGORIES:Events
END:VEVENT
BEGIN:VEVENT
DTSTART;TZID=America/Anchorage:20260615T150000
DTEND;TZID=America/Anchorage:20260615T180000
DTSTAMP:20260423T071520
CREATED:20250902T200222Z
LAST-MODIFIED:20250902T200222Z
UID:10001109-1781535600-1781546400@www.esterlibrary.org
SUMMARY:Kid's art and crafts
DESCRIPTION:
URL:https://www.esterlibrary.org/event/kids-art-and-crafts/2026-06-15/
CATEGORIES:Events
END:VEVENT
BEGIN:VEVENT
DTSTART;TZID=America/Anchorage:20260622T150000
DTEND;TZID=America/Anchorage:20260622T180000
DTSTAMP:20260423T071520
CREATED:20250902T200222Z
LAST-MODIFIED:20250902T200222Z
UID:10001110-1782140400-1782151200@www.esterlibrary.org
SUMMARY:Kid's art and crafts
DESCRIPTION:
URL:https://www.esterlibrary.org/event/kids-art-and-crafts/2026-06-22/
CATEGORIES:Events
END:VEVENT
BEGIN:VEVENT
DTSTART;TZID=America/Anchorage:20260629T150000
DTEND;TZID=America/Anchorage:20260629T180000
DTSTAMP:20260423T071520
CREATED:20250902T200222Z
LAST-MODIFIED:20250902T200222Z
UID:10001111-1782745200-1782756000@www.esterlibrary.org
SUMMARY:Kid's art and crafts
DESCRIPTION:
URL:https://www.esterlibrary.org/event/kids-art-and-crafts/2026-06-29/
CATEGORIES:Events
END:VEVENT
BEGIN:VEVENT
DTSTART;TZID=America/Anchorage:20260706T150000
DTEND;TZID=America/Anchorage:20260706T180000
DTSTAMP:20260423T071520
CREATED:20250902T200222Z
LAST-MODIFIED:20250902T200222Z
UID:10001112-1783350000-1783360800@www.esterlibrary.org
SUMMARY:Kid's art and crafts
DESCRIPTION:
URL:https://www.esterlibrary.org/event/kids-art-and-crafts/2026-07-06/
CATEGORIES:Events
END:VEVENT
BEGIN:VEVENT
DTSTART;TZID=America/Anchorage:20260713T150000
DTEND;TZID=America/Anchorage:20260713T180000
DTSTAMP:20260423T071520
CREATED:20250902T200222Z
LAST-MODIFIED:20250902T200222Z
UID:10001113-1783954800-1783965600@www.esterlibrary.org
SUMMARY:Kid's art and crafts
DESCRIPTION:
URL:https://www.esterlibrary.org/event/kids-art-and-crafts/2026-07-13/
CATEGORIES:Events
END:VEVENT
BEGIN:VEVENT
DTSTART;TZID=America/Anchorage:20260720T150000
DTEND;TZID=America/Anchorage:20260720T180000
DTSTAMP:20260423T071520
CREATED:20250902T200222Z
LAST-MODIFIED:20250902T200222Z
UID:10001114-1784559600-1784570400@www.esterlibrary.org
SUMMARY:Kid's art and crafts
DESCRIPTION:
URL:https://www.esterlibrary.org/event/kids-art-and-crafts/2026-07-20/
CATEGORIES:Events
END:VEVENT
BEGIN:VEVENT
DTSTART;TZID=America/Anchorage:20260727T150000
DTEND;TZID=America/Anchorage:20260727T180000
DTSTAMP:20260423T071520
CREATED:20250902T200222Z
LAST-MODIFIED:20250902T200222Z
UID:10001115-1785164400-1785175200@www.esterlibrary.org
SUMMARY:Kid's art and crafts
DESCRIPTION:
URL:https://www.esterlibrary.org/event/kids-art-and-crafts/2026-07-27/
CATEGORIES:Events
END:VEVENT
BEGIN:VEVENT
DTSTART;TZID=America/Anchorage:20260803T150000
DTEND;TZID=America/Anchorage:20260803T180000
DTSTAMP:20260423T071520
CREATED:20250902T200222Z
LAST-MODIFIED:20250902T200222Z
UID:10001116-1785769200-1785780000@www.esterlibrary.org
SUMMARY:Kid's art and crafts
DESCRIPTION:
URL:https://www.esterlibrary.org/event/kids-art-and-crafts/2026-08-03/
CATEGORIES:Events
END:VEVENT
BEGIN:VEVENT
DTSTART;TZID=America/Anchorage:20260810T150000
DTEND;TZID=America/Anchorage:20260810T180000
DTSTAMP:20260423T071520
CREATED:20250902T200222Z
LAST-MODIFIED:20250902T200222Z
UID:10001117-1786374000-1786384800@www.esterlibrary.org
SUMMARY:Kid's art and crafts
DESCRIPTION:
URL:https://www.esterlibrary.org/event/kids-art-and-crafts/2026-08-10/
CATEGORIES:Events
END:VEVENT
BEGIN:VEVENT
DTSTART;TZID=America/Anchorage:20260817T150000
DTEND;TZID=America/Anchorage:20260817T180000
DTSTAMP:20260423T071520
CREATED:20250902T200222Z
LAST-MODIFIED:20250902T200222Z
UID:10001118-1786978800-1786989600@www.esterlibrary.org
SUMMARY:Kid's art and crafts
DESCRIPTION:
URL:https://www.esterlibrary.org/event/kids-art-and-crafts/2026-08-17/
CATEGORIES:Events
END:VEVENT
BEGIN:VEVENT
DTSTART;TZID=America/Anchorage:20260824T150000
DTEND;TZID=America/Anchorage:20260824T180000
DTSTAMP:20260423T071520
CREATED:20250902T200222Z
LAST-MODIFIED:20250902T200222Z
UID:10001119-1787583600-1787594400@www.esterlibrary.org
SUMMARY:Kid's art and crafts
DESCRIPTION:
URL:https://www.esterlibrary.org/event/kids-art-and-crafts/2026-08-24/
CATEGORIES:Events
END:VEVENT
BEGIN:VEVENT
DTSTART;TZID=America/Anchorage:20260831T150000
DTEND;TZID=America/Anchorage:20260831T180000
DTSTAMP:20260423T071520
CREATED:20250902T200222Z
LAST-MODIFIED:20250902T200222Z
UID:10001120-1788188400-1788199200@www.esterlibrary.org
SUMMARY:Kid's art and crafts
DESCRIPTION:
URL:https://www.esterlibrary.org/event/kids-art-and-crafts/2026-08-31/
CATEGORIES:Events
END:VEVENT
BEGIN:VEVENT
DTSTART;TZID=America/Anchorage:20260907T150000
DTEND;TZID=America/Anchorage:20260907T180000
DTSTAMP:20260423T071520
CREATED:20250902T200222Z
LAST-MODIFIED:20250902T200222Z
UID:10001121-1788793200-1788804000@www.esterlibrary.org
SUMMARY:Kid's art and crafts
DESCRIPTION:
URL:https://www.esterlibrary.org/event/kids-art-and-crafts/2026-09-07/
CATEGORIES:Events
END:VEVENT
BEGIN:VEVENT
DTSTART;TZID=America/Anchorage:20260914T150000
DTEND;TZID=America/Anchorage:20260914T180000
DTSTAMP:20260423T071520
CREATED:20250902T200222Z
LAST-MODIFIED:20250902T200222Z
UID:10001122-1789398000-1789408800@www.esterlibrary.org
SUMMARY:Kid's art and crafts
DESCRIPTION:
URL:https://www.esterlibrary.org/event/kids-art-and-crafts/2026-09-14/
CATEGORIES:Events
END:VEVENT
BEGIN:VEVENT
DTSTART;TZID=America/Anchorage:20260921T150000
DTEND;TZID=America/Anchorage:20260921T180000
DTSTAMP:20260423T071520
CREATED:20250902T200222Z
LAST-MODIFIED:20250902T200222Z
UID:10001123-1790002800-1790013600@www.esterlibrary.org
SUMMARY:Kid's art and crafts
DESCRIPTION:
URL:https://www.esterlibrary.org/event/kids-art-and-crafts/2026-09-21/
CATEGORIES:Events
END:VEVENT
BEGIN:VEVENT
DTSTART;TZID=America/Anchorage:20260928T150000
DTEND;TZID=America/Anchorage:20260928T180000
DTSTAMP:20260423T071520
CREATED:20250902T200222Z
LAST-MODIFIED:20250902T200222Z
UID:10001124-1790607600-1790618400@www.esterlibrary.org
SUMMARY:Kid's art and crafts
DESCRIPTION:
URL:https://www.esterlibrary.org/event/kids-art-and-crafts/2026-09-28/
CATEGORIES:Events
END:VEVENT
BEGIN:VEVENT
DTSTART;TZID=America/Anchorage:20261005T150000
DTEND;TZID=America/Anchorage:20261005T180000
DTSTAMP:20260423T071520
CREATED:20250902T200222Z
LAST-MODIFIED:20250902T200222Z
UID:10001125-1791212400-1791223200@www.esterlibrary.org
SUMMARY:Kid's art and crafts
DESCRIPTION:
URL:https://www.esterlibrary.org/event/kids-art-and-crafts/2026-10-05/
CATEGORIES:Events
END:VEVENT
BEGIN:VEVENT
DTSTART;TZID=America/Anchorage:20261012T150000
DTEND;TZID=America/Anchorage:20261012T180000
DTSTAMP:20260423T071520
CREATED:20250902T200222Z
LAST-MODIFIED:20250902T200222Z
UID:10001126-1791817200-1791828000@www.esterlibrary.org
SUMMARY:Kid's art and crafts
DESCRIPTION:
URL:https://www.esterlibrary.org/event/kids-art-and-crafts/2026-10-12/
CATEGORIES:Events
END:VEVENT
BEGIN:VEVENT
DTSTART;TZID=America/Anchorage:20261019T150000
DTEND;TZID=America/Anchorage:20261019T180000
DTSTAMP:20260423T071520
CREATED:20250902T200222Z
LAST-MODIFIED:20250902T200222Z
UID:10001127-1792422000-1792432800@www.esterlibrary.org
SUMMARY:Kid's art and crafts
DESCRIPTION:
URL:https://www.esterlibrary.org/event/kids-art-and-crafts/2026-10-19/
CATEGORIES:Events
END:VEVENT
BEGIN:VEVENT
DTSTART;TZID=America/Anchorage:20261026T150000
DTEND;TZID=America/Anchorage:20261026T180000
DTSTAMP:20260423T071520
CREATED:20250902T200222Z
LAST-MODIFIED:20250902T200222Z
UID:10001128-1793026800-1793037600@www.esterlibrary.org
SUMMARY:Kid's art and crafts
DESCRIPTION:
URL:https://www.esterlibrary.org/event/kids-art-and-crafts/2026-10-26/
CATEGORIES:Events
END:VEVENT
BEGIN:VEVENT
DTSTART;TZID=America/Anchorage:20261102T150000
DTEND;TZID=America/Anchorage:20261102T180000
DTSTAMP:20260423T071520
CREATED:20250902T200222Z
LAST-MODIFIED:20250902T200222Z
UID:10001129-1793631600-1793642400@www.esterlibrary.org
SUMMARY:Kid's art and crafts
DESCRIPTION:
URL:https://www.esterlibrary.org/event/kids-art-and-crafts/2026-11-02/
CATEGORIES:Events
END:VEVENT
BEGIN:VEVENT
DTSTART;TZID=America/Anchorage:20261109T150000
DTEND;TZID=America/Anchorage:20261109T180000
DTSTAMP:20260423T071520
CREATED:20250902T200222Z
LAST-MODIFIED:20250902T200222Z
UID:10001130-1794236400-1794247200@www.esterlibrary.org
SUMMARY:Kid's art and crafts
DESCRIPTION:
URL:https://www.esterlibrary.org/event/kids-art-and-crafts/2026-11-09/
CATEGORIES:Events
END:VEVENT
BEGIN:VEVENT
DTSTART;TZID=America/Anchorage:20261116T150000
DTEND;TZID=America/Anchorage:20261116T180000
DTSTAMP:20260423T071520
CREATED:20250902T200222Z
LAST-MODIFIED:20250902T200222Z
UID:10001131-1794841200-1794852000@www.esterlibrary.org
SUMMARY:Kid's art and crafts
DESCRIPTION:
URL:https://www.esterlibrary.org/event/kids-art-and-crafts/2026-11-16/
CATEGORIES:Events
END:VEVENT
END:VCALENDAR