BEGIN:VCALENDAR
VERSION:2.0
PRODID:-//Ester Village Library - ECPv6.15.20//NONSGML v1.0//EN
CALSCALE:GREGORIAN
METHOD:PUBLISH
X-WR-CALNAME:Ester Village Library
X-ORIGINAL-URL:https://www.esterlibrary.org
X-WR-CALDESC:Events for Ester Village Library
REFRESH-INTERVAL;VALUE=DURATION:PT1H
X-Robots-Tag:noindex
X-PUBLISHED-TTL:PT1H
BEGIN:VTIMEZONE
TZID:America/Anchorage
BEGIN:DAYLIGHT
TZOFFSETFROM:-0900
TZOFFSETTO:-0800
TZNAME:AKDT
DTSTART:20250309T110000
END:DAYLIGHT
BEGIN:STANDARD
TZOFFSETFROM:-0800
TZOFFSETTO:-0900
TZNAME:AKST
DTSTART:20251102T100000
END:STANDARD
BEGIN:DAYLIGHT
TZOFFSETFROM:-0900
TZOFFSETTO:-0800
TZNAME:AKDT
DTSTART:20260308T110000
END:DAYLIGHT
BEGIN:STANDARD
TZOFFSETFROM:-0800
TZOFFSETTO:-0900
TZNAME:AKST
DTSTART:20261101T100000
END:STANDARD
BEGIN:DAYLIGHT
TZOFFSETFROM:-0900
TZOFFSETTO:-0800
TZNAME:AKDT
DTSTART:20270314T110000
END:DAYLIGHT
BEGIN:STANDARD
TZOFFSETFROM:-0800
TZOFFSETTO:-0900
TZNAME:AKST
DTSTART:20271107T100000
END:STANDARD
END:VTIMEZONE
BEGIN:VEVENT
DTSTART;TZID=America/Anchorage:20260429T170000
DTEND;TZID=America/Anchorage:20260429T190000
DTSTAMP:20260423T071457
CREATED:20250603T202451Z
LAST-MODIFIED:20250603T202451Z
UID:10000987-1777482000-1777489200@www.esterlibrary.org
SUMMARY:Open Hours
DESCRIPTION:
URL:https://www.esterlibrary.org/event/open-hours-20/2026-04-29/
END:VEVENT
BEGIN:VEVENT
DTSTART;TZID=America/Anchorage:20260506T170000
DTEND;TZID=America/Anchorage:20260506T190000
DTSTAMP:20260423T071457
CREATED:20250603T202451Z
LAST-MODIFIED:20250603T202451Z
UID:10000988-1778086800-1778094000@www.esterlibrary.org
SUMMARY:Open Hours
DESCRIPTION:
URL:https://www.esterlibrary.org/event/open-hours-20/2026-05-06/
END:VEVENT
BEGIN:VEVENT
DTSTART;TZID=America/Anchorage:20260513T170000
DTEND;TZID=America/Anchorage:20260513T190000
DTSTAMP:20260423T071457
CREATED:20250603T202451Z
LAST-MODIFIED:20250603T202451Z
UID:10000989-1778691600-1778698800@www.esterlibrary.org
SUMMARY:Open Hours
DESCRIPTION:
URL:https://www.esterlibrary.org/event/open-hours-20/2026-05-13/
END:VEVENT
BEGIN:VEVENT
DTSTART;TZID=America/Anchorage:20260520T170000
DTEND;TZID=America/Anchorage:20260520T190000
DTSTAMP:20260423T071457
CREATED:20250603T202451Z
LAST-MODIFIED:20250603T202451Z
UID:10000990-1779296400-1779303600@www.esterlibrary.org
SUMMARY:Open Hours
DESCRIPTION:
URL:https://www.esterlibrary.org/event/open-hours-20/2026-05-20/
END:VEVENT
BEGIN:VEVENT
DTSTART;TZID=America/Anchorage:20260527T170000
DTEND;TZID=America/Anchorage:20260527T190000
DTSTAMP:20260423T071457
CREATED:20250603T202451Z
LAST-MODIFIED:20250603T202451Z
UID:10000991-1779901200-1779908400@www.esterlibrary.org
SUMMARY:Open Hours
DESCRIPTION:
URL:https://www.esterlibrary.org/event/open-hours-20/2026-05-27/
END:VEVENT
BEGIN:VEVENT
DTSTART;TZID=America/Anchorage:20260603T170000
DTEND;TZID=America/Anchorage:20260603T190000
DTSTAMP:20260423T071457
CREATED:20250603T202451Z
LAST-MODIFIED:20250603T202451Z
UID:10000992-1780506000-1780513200@www.esterlibrary.org
SUMMARY:Open Hours
DESCRIPTION:
URL:https://www.esterlibrary.org/event/open-hours-20/2026-06-03/
END:VEVENT
BEGIN:VEVENT
DTSTART;TZID=America/Anchorage:20260610T170000
DTEND;TZID=America/Anchorage:20260610T190000
DTSTAMP:20260423T071457
CREATED:20250603T202451Z
LAST-MODIFIED:20250603T202451Z
UID:10000993-1781110800-1781118000@www.esterlibrary.org
SUMMARY:Open Hours
DESCRIPTION:
URL:https://www.esterlibrary.org/event/open-hours-20/2026-06-10/
END:VEVENT
BEGIN:VEVENT
DTSTART;TZID=America/Anchorage:20260617T170000
DTEND;TZID=America/Anchorage:20260617T190000
DTSTAMP:20260423T071457
CREATED:20250603T202451Z
LAST-MODIFIED:20250603T202451Z
UID:10000994-1781715600-1781722800@www.esterlibrary.org
SUMMARY:Open Hours
DESCRIPTION:
URL:https://www.esterlibrary.org/event/open-hours-20/2026-06-17/
END:VEVENT
BEGIN:VEVENT
DTSTART;TZID=America/Anchorage:20260624T170000
DTEND;TZID=America/Anchorage:20260624T190000
DTSTAMP:20260423T071457
CREATED:20250603T202451Z
LAST-MODIFIED:20250603T202451Z
UID:10000995-1782320400-1782327600@www.esterlibrary.org
SUMMARY:Open Hours
DESCRIPTION:
URL:https://www.esterlibrary.org/event/open-hours-20/2026-06-24/
END:VEVENT
BEGIN:VEVENT
DTSTART;TZID=America/Anchorage:20260701T170000
DTEND;TZID=America/Anchorage:20260701T190000
DTSTAMP:20260423T071457
CREATED:20250603T202451Z
LAST-MODIFIED:20250603T202451Z
UID:10000996-1782925200-1782932400@www.esterlibrary.org
SUMMARY:Open Hours
DESCRIPTION:
URL:https://www.esterlibrary.org/event/open-hours-20/2026-07-01/
END:VEVENT
BEGIN:VEVENT
DTSTART;TZID=America/Anchorage:20260708T170000
DTEND;TZID=America/Anchorage:20260708T190000
DTSTAMP:20260423T071457
CREATED:20250603T202451Z
LAST-MODIFIED:20250603T202451Z
UID:10000997-1783530000-1783537200@www.esterlibrary.org
SUMMARY:Open Hours
DESCRIPTION:
URL:https://www.esterlibrary.org/event/open-hours-20/2026-07-08/
END:VEVENT
BEGIN:VEVENT
DTSTART;TZID=America/Anchorage:20260715T170000
DTEND;TZID=America/Anchorage:20260715T190000
DTSTAMP:20260423T071457
CREATED:20250603T202451Z
LAST-MODIFIED:20250603T202451Z
UID:10000998-1784134800-1784142000@www.esterlibrary.org
SUMMARY:Open Hours
DESCRIPTION:
URL:https://www.esterlibrary.org/event/open-hours-20/2026-07-15/
END:VEVENT
BEGIN:VEVENT
DTSTART;TZID=America/Anchorage:20260722T170000
DTEND;TZID=America/Anchorage:20260722T190000
DTSTAMP:20260423T071457
CREATED:20250603T202451Z
LAST-MODIFIED:20250603T202451Z
UID:10000999-1784739600-1784746800@www.esterlibrary.org
SUMMARY:Open Hours
DESCRIPTION:
URL:https://www.esterlibrary.org/event/open-hours-20/2026-07-22/
END:VEVENT
BEGIN:VEVENT
DTSTART;TZID=America/Anchorage:20260729T170000
DTEND;TZID=America/Anchorage:20260729T190000
DTSTAMP:20260423T071457
CREATED:20250603T202451Z
LAST-MODIFIED:20250603T202451Z
UID:10001000-1785344400-1785351600@www.esterlibrary.org
SUMMARY:Open Hours
DESCRIPTION:
URL:https://www.esterlibrary.org/event/open-hours-20/2026-07-29/
END:VEVENT
BEGIN:VEVENT
DTSTART;TZID=America/Anchorage:20260805T170000
DTEND;TZID=America/Anchorage:20260805T190000
DTSTAMP:20260423T071457
CREATED:20250603T202451Z
LAST-MODIFIED:20250603T202451Z
UID:10001001-1785949200-1785956400@www.esterlibrary.org
SUMMARY:Open Hours
DESCRIPTION:
URL:https://www.esterlibrary.org/event/open-hours-20/2026-08-05/
END:VEVENT
BEGIN:VEVENT
DTSTART;TZID=America/Anchorage:20260812T170000
DTEND;TZID=America/Anchorage:20260812T190000
DTSTAMP:20260423T071457
CREATED:20250603T202451Z
LAST-MODIFIED:20250603T202451Z
UID:10001002-1786554000-1786561200@www.esterlibrary.org
SUMMARY:Open Hours
DESCRIPTION:
URL:https://www.esterlibrary.org/event/open-hours-20/2026-08-12/
END:VEVENT
BEGIN:VEVENT
DTSTART;TZID=America/Anchorage:20260819T170000
DTEND;TZID=America/Anchorage:20260819T190000
DTSTAMP:20260423T071457
CREATED:20250603T202451Z
LAST-MODIFIED:20250603T202451Z
UID:10001003-1787158800-1787166000@www.esterlibrary.org
SUMMARY:Open Hours
DESCRIPTION:
URL:https://www.esterlibrary.org/event/open-hours-20/2026-08-19/
END:VEVENT
BEGIN:VEVENT
DTSTART;TZID=America/Anchorage:20260826T170000
DTEND;TZID=America/Anchorage:20260826T190000
DTSTAMP:20260423T071457
CREATED:20250603T202451Z
LAST-MODIFIED:20250603T202451Z
UID:10001004-1787763600-1787770800@www.esterlibrary.org
SUMMARY:Open Hours
DESCRIPTION:
URL:https://www.esterlibrary.org/event/open-hours-20/2026-08-26/
END:VEVENT
END:VCALENDAR