BEGIN:VCALENDAR
VERSION:2.0
PRODID:-//Ester Village Library - ECPv6.15.20//NONSGML v1.0//EN
CALSCALE:GREGORIAN
METHOD:PUBLISH
X-WR-CALNAME:Ester Village Library
X-ORIGINAL-URL:https://www.esterlibrary.org
X-WR-CALDESC:Events for Ester Village Library
REFRESH-INTERVAL;VALUE=DURATION:PT1H
X-Robots-Tag:noindex
X-PUBLISHED-TTL:PT1H
BEGIN:VTIMEZONE
TZID:America/Anchorage
BEGIN:DAYLIGHT
TZOFFSETFROM:-0900
TZOFFSETTO:-0800
TZNAME:AKDT
DTSTART:20250309T110000
END:DAYLIGHT
BEGIN:STANDARD
TZOFFSETFROM:-0800
TZOFFSETTO:-0900
TZNAME:AKST
DTSTART:20251102T100000
END:STANDARD
BEGIN:DAYLIGHT
TZOFFSETFROM:-0900
TZOFFSETTO:-0800
TZNAME:AKDT
DTSTART:20260308T110000
END:DAYLIGHT
BEGIN:STANDARD
TZOFFSETFROM:-0800
TZOFFSETTO:-0900
TZNAME:AKST
DTSTART:20261101T100000
END:STANDARD
BEGIN:DAYLIGHT
TZOFFSETFROM:-0900
TZOFFSETTO:-0800
TZNAME:AKDT
DTSTART:20270314T110000
END:DAYLIGHT
BEGIN:STANDARD
TZOFFSETFROM:-0800
TZOFFSETTO:-0900
TZNAME:AKST
DTSTART:20271107T100000
END:STANDARD
END:VTIMEZONE
BEGIN:VEVENT
DTSTART;TZID=America/Anchorage:20260425T130000
DTEND;TZID=America/Anchorage:20260425T160000
DTSTAMP:20260423T084356
CREATED:20250422T013406Z
LAST-MODIFIED:20250422T013406Z
UID:10000834-1777122000-1777132800@www.esterlibrary.org
SUMMARY:Open Hours
DESCRIPTION:
URL:https://www.esterlibrary.org/event/open-hours-21/2026-04-25/
END:VEVENT
BEGIN:VEVENT
DTSTART;TZID=America/Anchorage:20260502T130000
DTEND;TZID=America/Anchorage:20260502T160000
DTSTAMP:20260423T084356
CREATED:20250422T013406Z
LAST-MODIFIED:20250422T013406Z
UID:10000835-1777726800-1777737600@www.esterlibrary.org
SUMMARY:Open Hours
DESCRIPTION:
URL:https://www.esterlibrary.org/event/open-hours-21/2026-05-02/
END:VEVENT
BEGIN:VEVENT
DTSTART;TZID=America/Anchorage:20260509T130000
DTEND;TZID=America/Anchorage:20260509T160000
DTSTAMP:20260423T084356
CREATED:20250422T013406Z
LAST-MODIFIED:20250422T013406Z
UID:10000836-1778331600-1778342400@www.esterlibrary.org
SUMMARY:Open Hours
DESCRIPTION:
URL:https://www.esterlibrary.org/event/open-hours-21/2026-05-09/
END:VEVENT
BEGIN:VEVENT
DTSTART;TZID=America/Anchorage:20260516T130000
DTEND;TZID=America/Anchorage:20260516T160000
DTSTAMP:20260423T084356
CREATED:20250422T013406Z
LAST-MODIFIED:20250422T013406Z
UID:10000837-1778936400-1778947200@www.esterlibrary.org
SUMMARY:Open Hours
DESCRIPTION:
URL:https://www.esterlibrary.org/event/open-hours-21/2026-05-16/
END:VEVENT
BEGIN:VEVENT
DTSTART;TZID=America/Anchorage:20260523T130000
DTEND;TZID=America/Anchorage:20260523T160000
DTSTAMP:20260423T084356
CREATED:20250422T013406Z
LAST-MODIFIED:20250422T013406Z
UID:10000838-1779541200-1779552000@www.esterlibrary.org
SUMMARY:Open Hours
DESCRIPTION:
URL:https://www.esterlibrary.org/event/open-hours-21/2026-05-23/
END:VEVENT
BEGIN:VEVENT
DTSTART;TZID=America/Anchorage:20260530T130000
DTEND;TZID=America/Anchorage:20260530T160000
DTSTAMP:20260423T084356
CREATED:20250422T013406Z
LAST-MODIFIED:20250422T013406Z
UID:10000839-1780146000-1780156800@www.esterlibrary.org
SUMMARY:Open Hours
DESCRIPTION:
URL:https://www.esterlibrary.org/event/open-hours-21/2026-05-30/
END:VEVENT
BEGIN:VEVENT
DTSTART;TZID=America/Anchorage:20260606T130000
DTEND;TZID=America/Anchorage:20260606T160000
DTSTAMP:20260423T084356
CREATED:20250422T013406Z
LAST-MODIFIED:20250422T013406Z
UID:10000840-1780750800-1780761600@www.esterlibrary.org
SUMMARY:Open Hours
DESCRIPTION:
URL:https://www.esterlibrary.org/event/open-hours-21/2026-06-06/
END:VEVENT
BEGIN:VEVENT
DTSTART;TZID=America/Anchorage:20260613T130000
DTEND;TZID=America/Anchorage:20260613T160000
DTSTAMP:20260423T084356
CREATED:20250422T013406Z
LAST-MODIFIED:20250422T013406Z
UID:10000841-1781355600-1781366400@www.esterlibrary.org
SUMMARY:Open Hours
DESCRIPTION:
URL:https://www.esterlibrary.org/event/open-hours-21/2026-06-13/
END:VEVENT
BEGIN:VEVENT
DTSTART;TZID=America/Anchorage:20260620T130000
DTEND;TZID=America/Anchorage:20260620T160000
DTSTAMP:20260423T084356
CREATED:20250422T013406Z
LAST-MODIFIED:20250422T013406Z
UID:10000842-1781960400-1781971200@www.esterlibrary.org
SUMMARY:Open Hours
DESCRIPTION:
URL:https://www.esterlibrary.org/event/open-hours-21/2026-06-20/
END:VEVENT
BEGIN:VEVENT
DTSTART;TZID=America/Anchorage:20260627T130000
DTEND;TZID=America/Anchorage:20260627T160000
DTSTAMP:20260423T084356
CREATED:20250422T013406Z
LAST-MODIFIED:20250422T013406Z
UID:10000843-1782565200-1782576000@www.esterlibrary.org
SUMMARY:Open Hours
DESCRIPTION:
URL:https://www.esterlibrary.org/event/open-hours-21/2026-06-27/
END:VEVENT
END:VCALENDAR