BEGIN:VCALENDAR
VERSION:2.0
PRODID:-//Ester Village Library - ECPv6.15.20//NONSGML v1.0//EN
CALSCALE:GREGORIAN
METHOD:PUBLISH
X-WR-CALNAME:Ester Village Library
X-ORIGINAL-URL:https://www.esterlibrary.org
X-WR-CALDESC:Events for Ester Village Library
REFRESH-INTERVAL;VALUE=DURATION:PT1H
X-Robots-Tag:noindex
X-PUBLISHED-TTL:PT1H
BEGIN:VTIMEZONE
TZID:America/Anchorage
BEGIN:DAYLIGHT
TZOFFSETFROM:-0900
TZOFFSETTO:-0800
TZNAME:AKDT
DTSTART:20250309T110000
END:DAYLIGHT
BEGIN:STANDARD
TZOFFSETFROM:-0800
TZOFFSETTO:-0900
TZNAME:AKST
DTSTART:20251102T100000
END:STANDARD
BEGIN:DAYLIGHT
TZOFFSETFROM:-0900
TZOFFSETTO:-0800
TZNAME:AKDT
DTSTART:20260308T110000
END:DAYLIGHT
BEGIN:STANDARD
TZOFFSETFROM:-0800
TZOFFSETTO:-0900
TZNAME:AKST
DTSTART:20261101T100000
END:STANDARD
BEGIN:DAYLIGHT
TZOFFSETFROM:-0900
TZOFFSETTO:-0800
TZNAME:AKDT
DTSTART:20270314T110000
END:DAYLIGHT
BEGIN:STANDARD
TZOFFSETFROM:-0800
TZOFFSETTO:-0900
TZNAME:AKST
DTSTART:20271107T100000
END:STANDARD
END:VTIMEZONE
BEGIN:VEVENT
DTSTART;TZID=America/Anchorage:20260425T130000
DTEND;TZID=America/Anchorage:20260425T160000
DTSTAMP:20260423T071239
CREATED:20250422T013406Z
LAST-MODIFIED:20250422T013406Z
UID:10000834-1777122000-1777132800@www.esterlibrary.org
SUMMARY:Open Hours
DESCRIPTION:
URL:https://www.esterlibrary.org/event/open-hours-21/2026-04-25/
END:VEVENT
BEGIN:VEVENT
DTSTART;TZID=America/Anchorage:20260426T160000
DTEND;TZID=America/Anchorage:20260426T180000
DTSTAMP:20260423T071239
CREATED:20250902T200832Z
LAST-MODIFIED:20250902T200833Z
UID:10000644-1777219200-1777226400@www.esterlibrary.org
SUMMARY:Writing Circle/Open hours
DESCRIPTION:
URL:https://www.esterlibrary.org/event/writing-circle-open-hours-2/2026-04-26/
LOCATION:Clausen Cabin\, 3629 Main Street\, Ester\, 99725
CATEGORIES:Events
END:VEVENT
BEGIN:VEVENT
DTSTART;TZID=America/Anchorage:20260427T150000
DTEND;TZID=America/Anchorage:20260427T180000
DTSTAMP:20260423T071239
CREATED:20250902T200222Z
LAST-MODIFIED:20250902T200222Z
UID:10001102-1777302000-1777312800@www.esterlibrary.org
SUMMARY:Kid's art and crafts
DESCRIPTION:
URL:https://www.esterlibrary.org/event/kids-art-and-crafts/2026-04-27/
CATEGORIES:Events
END:VEVENT
BEGIN:VEVENT
DTSTART;TZID=America/Anchorage:20260428T160000
DTEND;TZID=America/Anchorage:20260428T190000
DTSTAMP:20260423T071239
CREATED:20250803T060121Z
LAST-MODIFIED:20250803T060122Z
UID:10001047-1777392000-1777402800@www.esterlibrary.org
SUMMARY:Knit Night/Open Hours
DESCRIPTION:
URL:https://www.esterlibrary.org/event/knit-night-open-hours-2/2026-04-28/
CATEGORIES:Events
END:VEVENT
BEGIN:VEVENT
DTSTART;TZID=America/Anchorage:20260429T170000
DTEND;TZID=America/Anchorage:20260429T190000
DTSTAMP:20260423T071239
CREATED:20250603T202451Z
LAST-MODIFIED:20250603T202451Z
UID:10000987-1777482000-1777489200@www.esterlibrary.org
SUMMARY:Open Hours
DESCRIPTION:
URL:https://www.esterlibrary.org/event/open-hours-20/2026-04-29/
END:VEVENT
END:VCALENDAR