BEGIN:VCALENDAR
VERSION:2.0
PRODID:-//Ester Village Library - ECPv6.15.20//NONSGML v1.0//EN
CALSCALE:GREGORIAN
METHOD:PUBLISH
X-ORIGINAL-URL:https://www.esterlibrary.org
X-WR-CALDESC:Events for Ester Village Library
REFRESH-INTERVAL;VALUE=DURATION:PT1H
X-Robots-Tag:noindex
X-PUBLISHED-TTL:PT1H
BEGIN:VTIMEZONE
TZID:America/Anchorage
BEGIN:DAYLIGHT
TZOFFSETFROM:-0900
TZOFFSETTO:-0800
TZNAME:AKDT
DTSTART:20250309T110000
END:DAYLIGHT
BEGIN:STANDARD
TZOFFSETFROM:-0800
TZOFFSETTO:-0900
TZNAME:AKST
DTSTART:20251102T100000
END:STANDARD
BEGIN:DAYLIGHT
TZOFFSETFROM:-0900
TZOFFSETTO:-0800
TZNAME:AKDT
DTSTART:20260308T110000
END:DAYLIGHT
BEGIN:STANDARD
TZOFFSETFROM:-0800
TZOFFSETTO:-0900
TZNAME:AKST
DTSTART:20261101T100000
END:STANDARD
BEGIN:DAYLIGHT
TZOFFSETFROM:-0900
TZOFFSETTO:-0800
TZNAME:AKDT
DTSTART:20270314T110000
END:DAYLIGHT
BEGIN:STANDARD
TZOFFSETFROM:-0800
TZOFFSETTO:-0900
TZNAME:AKST
DTSTART:20271107T100000
END:STANDARD
END:VTIMEZONE
BEGIN:VEVENT
DTSTART;TZID=America/Anchorage:20260701T170000
DTEND;TZID=America/Anchorage:20260701T190000
DTSTAMP:20260423T101128
CREATED:20250603T202451Z
LAST-MODIFIED:20250603T202451Z
UID:10000996-1782925200-1782932400@www.esterlibrary.org
SUMMARY:Open Hours
DESCRIPTION:
URL:https://www.esterlibrary.org/event/open-hours-20/2026-07-01/
END:VEVENT
BEGIN:VEVENT
DTSTART;TZID=America/Anchorage:20260706T150000
DTEND;TZID=America/Anchorage:20260706T180000
DTSTAMP:20260423T101128
CREATED:20250902T200222Z
LAST-MODIFIED:20250902T200222Z
UID:10001112-1783350000-1783360800@www.esterlibrary.org
SUMMARY:Kid's art and crafts
DESCRIPTION:
URL:https://www.esterlibrary.org/event/kids-art-and-crafts/2026-07-06/
CATEGORIES:Events
END:VEVENT
BEGIN:VEVENT
DTSTART;TZID=America/Anchorage:20260707T160000
DTEND;TZID=America/Anchorage:20260707T190000
DTSTAMP:20260423T101128
CREATED:20250803T060121Z
LAST-MODIFIED:20250803T060122Z
UID:10001057-1783440000-1783450800@www.esterlibrary.org
SUMMARY:Knit Night/Open Hours
DESCRIPTION:
URL:https://www.esterlibrary.org/event/knit-night-open-hours-2/2026-07-07/
CATEGORIES:Events
END:VEVENT
BEGIN:VEVENT
DTSTART;TZID=America/Anchorage:20260708T170000
DTEND;TZID=America/Anchorage:20260708T190000
DTSTAMP:20260423T101128
CREATED:20250603T202451Z
LAST-MODIFIED:20250603T202451Z
UID:10000997-1783530000-1783537200@www.esterlibrary.org
SUMMARY:Open Hours
DESCRIPTION:
URL:https://www.esterlibrary.org/event/open-hours-20/2026-07-08/
END:VEVENT
BEGIN:VEVENT
DTSTART;TZID=America/Anchorage:20260713T150000
DTEND;TZID=America/Anchorage:20260713T180000
DTSTAMP:20260423T101128
CREATED:20250902T200222Z
LAST-MODIFIED:20250902T200222Z
UID:10001113-1783954800-1783965600@www.esterlibrary.org
SUMMARY:Kid's art and crafts
DESCRIPTION:
URL:https://www.esterlibrary.org/event/kids-art-and-crafts/2026-07-13/
CATEGORIES:Events
END:VEVENT
BEGIN:VEVENT
DTSTART;TZID=America/Anchorage:20260714T160000
DTEND;TZID=America/Anchorage:20260714T190000
DTSTAMP:20260423T101128
CREATED:20250803T060121Z
LAST-MODIFIED:20250803T060122Z
UID:10001058-1784044800-1784055600@www.esterlibrary.org
SUMMARY:Knit Night/Open Hours
DESCRIPTION:
URL:https://www.esterlibrary.org/event/knit-night-open-hours-2/2026-07-14/
CATEGORIES:Events
END:VEVENT
BEGIN:VEVENT
DTSTART;TZID=America/Anchorage:20260715T170000
DTEND;TZID=America/Anchorage:20260715T190000
DTSTAMP:20260423T101128
CREATED:20250603T202451Z
LAST-MODIFIED:20250603T202451Z
UID:10000998-1784134800-1784142000@www.esterlibrary.org
SUMMARY:Open Hours
DESCRIPTION:
URL:https://www.esterlibrary.org/event/open-hours-20/2026-07-15/
END:VEVENT
BEGIN:VEVENT
DTSTART;TZID=America/Anchorage:20260720T150000
DTEND;TZID=America/Anchorage:20260720T180000
DTSTAMP:20260423T101128
CREATED:20250902T200222Z
LAST-MODIFIED:20250902T200222Z
UID:10001114-1784559600-1784570400@www.esterlibrary.org
SUMMARY:Kid's art and crafts
DESCRIPTION:
URL:https://www.esterlibrary.org/event/kids-art-and-crafts/2026-07-20/
CATEGORIES:Events
END:VEVENT
BEGIN:VEVENT
DTSTART;TZID=America/Anchorage:20260721T160000
DTEND;TZID=America/Anchorage:20260721T190000
DTSTAMP:20260423T101128
CREATED:20250803T060121Z
LAST-MODIFIED:20250803T060122Z
UID:10001059-1784649600-1784660400@www.esterlibrary.org
SUMMARY:Knit Night/Open Hours
DESCRIPTION:
URL:https://www.esterlibrary.org/event/knit-night-open-hours-2/2026-07-21/
CATEGORIES:Events
END:VEVENT
BEGIN:VEVENT
DTSTART;TZID=America/Anchorage:20260722T170000
DTEND;TZID=America/Anchorage:20260722T190000
DTSTAMP:20260423T101128
CREATED:20250603T202451Z
LAST-MODIFIED:20250603T202451Z
UID:10000999-1784739600-1784746800@www.esterlibrary.org
SUMMARY:Open Hours
DESCRIPTION:
URL:https://www.esterlibrary.org/event/open-hours-20/2026-07-22/
END:VEVENT
BEGIN:VEVENT
DTSTART;TZID=America/Anchorage:20260727T150000
DTEND;TZID=America/Anchorage:20260727T180000
DTSTAMP:20260423T101128
CREATED:20250902T200222Z
LAST-MODIFIED:20250902T200222Z
UID:10001115-1785164400-1785175200@www.esterlibrary.org
SUMMARY:Kid's art and crafts
DESCRIPTION:
URL:https://www.esterlibrary.org/event/kids-art-and-crafts/2026-07-27/
CATEGORIES:Events
END:VEVENT
BEGIN:VEVENT
DTSTART;TZID=America/Anchorage:20260728T160000
DTEND;TZID=America/Anchorage:20260728T190000
DTSTAMP:20260423T101128
CREATED:20250803T060121Z
LAST-MODIFIED:20250803T060122Z
UID:10001060-1785254400-1785265200@www.esterlibrary.org
SUMMARY:Knit Night/Open Hours
DESCRIPTION:
URL:https://www.esterlibrary.org/event/knit-night-open-hours-2/2026-07-28/
CATEGORIES:Events
END:VEVENT
BEGIN:VEVENT
DTSTART;TZID=America/Anchorage:20260729T170000
DTEND;TZID=America/Anchorage:20260729T190000
DTSTAMP:20260423T101128
CREATED:20250603T202451Z
LAST-MODIFIED:20250603T202451Z
UID:10001000-1785344400-1785351600@www.esterlibrary.org
SUMMARY:Open Hours
DESCRIPTION:
URL:https://www.esterlibrary.org/event/open-hours-20/2026-07-29/
END:VEVENT
END:VCALENDAR