BEGIN:VCALENDAR
VERSION:2.0
PRODID:-//Ester Village Library - ECPv6.15.20//NONSGML v1.0//EN
CALSCALE:GREGORIAN
METHOD:PUBLISH
X-WR-CALNAME:Ester Village Library
X-ORIGINAL-URL:https://www.esterlibrary.org
X-WR-CALDESC:Events for Ester Village Library
REFRESH-INTERVAL;VALUE=DURATION:PT1H
X-Robots-Tag:noindex
X-PUBLISHED-TTL:PT1H
BEGIN:VTIMEZONE
TZID:America/Anchorage
BEGIN:DAYLIGHT
TZOFFSETFROM:-0900
TZOFFSETTO:-0800
TZNAME:AKDT
DTSTART:20230312T110000
END:DAYLIGHT
BEGIN:STANDARD
TZOFFSETFROM:-0800
TZOFFSETTO:-0900
TZNAME:AKST
DTSTART:20231105T100000
END:STANDARD
BEGIN:DAYLIGHT
TZOFFSETFROM:-0900
TZOFFSETTO:-0800
TZNAME:AKDT
DTSTART:20240310T110000
END:DAYLIGHT
BEGIN:STANDARD
TZOFFSETFROM:-0800
TZOFFSETTO:-0900
TZNAME:AKST
DTSTART:20241103T100000
END:STANDARD
BEGIN:DAYLIGHT
TZOFFSETFROM:-0900
TZOFFSETTO:-0800
TZNAME:AKDT
DTSTART:20250309T110000
END:DAYLIGHT
BEGIN:STANDARD
TZOFFSETFROM:-0800
TZOFFSETTO:-0900
TZNAME:AKST
DTSTART:20251102T100000
END:STANDARD
END:VTIMEZONE
BEGIN:VEVENT
DTSTART;TZID=America/Anchorage:20241117T160000
DTEND;TZID=America/Anchorage:20241117T180000
DTSTAMP:20260425T043320
CREATED:20240101T212428Z
LAST-MODIFIED:20240813T035929Z
UID:10000259-1731859200-1731866400@www.esterlibrary.org
SUMMARY:Writing Circle
DESCRIPTION:Enjoy quiet time and space for your own narrations
URL:https://www.esterlibrary.org/event/writing-circle-2/2024-11-17/
END:VEVENT
BEGIN:VEVENT
DTSTART;TZID=America/Anchorage:20241117T160000
DTEND;TZID=America/Anchorage:20241117T180000
DTSTAMP:20260425T043320
CREATED:20240813T040057Z
LAST-MODIFIED:20250111T222538Z
UID:10000504-1731859200-1731866400@www.esterlibrary.org
SUMMARY:Writing Circle (No browsing)
DESCRIPTION:Join us for some quiet time. The library is NOT open for browsing during this time.
URL:https://www.esterlibrary.org/event/writing-circle-3/2024-11-17/
LOCATION:Clausen Cabin\, 3629 Main Street\, Ester\, 99725
END:VEVENT
BEGIN:VEVENT
DTSTART;TZID=America/Anchorage:20241118T150000
DTEND;TZID=America/Anchorage:20241118T180000
DTSTAMP:20260425T043320
CREATED:20240101T214601Z
LAST-MODIFIED:20250111T222726Z
UID:10000354-1731942000-1731952800@www.esterlibrary.org
SUMMARY:Monday Open hours
DESCRIPTION:
URL:https://www.esterlibrary.org/event/open-hours-7/2024-11-18/
END:VEVENT
BEGIN:VEVENT
DTSTART;TZID=America/Anchorage:20241118T160000
DTEND;TZID=America/Anchorage:20241118T180000
DTSTAMP:20260425T043320
CREATED:20240909T211921Z
LAST-MODIFIED:20250111T223037Z
UID:10000553-1731945600-1731952800@www.esterlibrary.org
SUMMARY:Art Workshop
DESCRIPTION:Young or old\, join us to bring out your creative side! Workshop participants will decide what to explore each week.
URL:https://www.esterlibrary.org/event/kids-art-programs-2024-11-18/2024-11-18/
CATEGORIES:Events
END:VEVENT
BEGIN:VEVENT
DTSTART;TZID=America/Anchorage:20241121T160000
DTEND;TZID=America/Anchorage:20241121T190000
DTSTAMP:20260425T043320
CREATED:20240306T191828Z
LAST-MODIFIED:20241130T043930Z
UID:10000119-1732204800-1732215600@www.esterlibrary.org
SUMMARY:Open Hours
DESCRIPTION:
URL:https://www.esterlibrary.org/event/open-hours-geb-program-specialist/2024-11-21/
END:VEVENT
BEGIN:VEVENT
DTSTART;TZID=America/Anchorage:20241123T130000
DTEND;TZID=America/Anchorage:20241123T160000
DTSTAMP:20260425T043320
CREATED:20240101T215150Z
LAST-MODIFIED:20241202T214419Z
UID:10000449-1732366800-1732377600@www.esterlibrary.org
SUMMARY:Open hours
DESCRIPTION:
URL:https://www.esterlibrary.org/event/open-hours-16/2024-11-23/
END:VEVENT
BEGIN:VEVENT
DTSTART;TZID=America/Anchorage:20241124T160000
DTEND;TZID=America/Anchorage:20241124T180000
DTSTAMP:20260425T043320
CREATED:20240101T212428Z
LAST-MODIFIED:20240813T035929Z
UID:10000260-1732464000-1732471200@www.esterlibrary.org
SUMMARY:Writing Circle
DESCRIPTION:Enjoy quiet time and space for your own narrations
URL:https://www.esterlibrary.org/event/writing-circle-2/2024-11-24/
END:VEVENT
BEGIN:VEVENT
DTSTART;TZID=America/Anchorage:20241124T160000
DTEND;TZID=America/Anchorage:20241124T180000
DTSTAMP:20260425T043320
CREATED:20240813T040057Z
LAST-MODIFIED:20250111T222538Z
UID:10000505-1732464000-1732471200@www.esterlibrary.org
SUMMARY:Writing Circle (No browsing)
DESCRIPTION:Join us for some quiet time. The library is NOT open for browsing during this time.
URL:https://www.esterlibrary.org/event/writing-circle-3/2024-11-24/
LOCATION:Clausen Cabin\, 3629 Main Street\, Ester\, 99725
END:VEVENT
BEGIN:VEVENT
DTSTART;TZID=America/Anchorage:20241125T150000
DTEND;TZID=America/Anchorage:20241125T180000
DTSTAMP:20260425T043320
CREATED:20240101T214601Z
LAST-MODIFIED:20250111T222726Z
UID:10000355-1732546800-1732557600@www.esterlibrary.org
SUMMARY:Monday Open hours
DESCRIPTION:
URL:https://www.esterlibrary.org/event/open-hours-7/2024-11-25/
END:VEVENT
BEGIN:VEVENT
DTSTART;TZID=America/Anchorage:20241125T160000
DTEND;TZID=America/Anchorage:20241125T180000
DTSTAMP:20260425T043320
CREATED:20240909T211921Z
LAST-MODIFIED:20250111T223037Z
UID:10000554-1732550400-1732557600@www.esterlibrary.org
SUMMARY:Art Workshop
DESCRIPTION:Young or old\, join us to bring out your creative side! Workshop participants will decide what to explore each week.
URL:https://www.esterlibrary.org/event/kids-art-programs-2024-11-18/2024-11-25/
CATEGORIES:Events
END:VEVENT
BEGIN:VEVENT
DTSTART;VALUE=DATE:20241128
DTEND;VALUE=DATE:20241129
DTSTAMP:20260425T043320
CREATED:20240306T191828Z
LAST-MODIFIED:20240813T043433Z
UID:10000136-1732752000-1732838399@www.esterlibrary.org
SUMMARY:Closed - Happy Thanksgiving!
DESCRIPTION:
URL:https://www.esterlibrary.org/event/open-hours-geb-program-specialist-2024-11-28/
END:VEVENT
BEGIN:VEVENT
DTSTART;TZID=America/Anchorage:20241130T130000
DTEND;TZID=America/Anchorage:20241130T160000
DTSTAMP:20260425T043320
CREATED:20240101T215150Z
LAST-MODIFIED:20241202T214419Z
UID:10000450-1732971600-1732982400@www.esterlibrary.org
SUMMARY:Open hours
DESCRIPTION:
URL:https://www.esterlibrary.org/event/open-hours-16/2024-11-30/
END:VEVENT
BEGIN:VEVENT
DTSTART;TZID=America/Anchorage:20241201T160000
DTEND;TZID=America/Anchorage:20241201T180000
DTSTAMP:20260425T043320
CREATED:20240101T212428Z
LAST-MODIFIED:20240813T035929Z
UID:10000261-1733068800-1733076000@www.esterlibrary.org
SUMMARY:Writing Circle
DESCRIPTION:Enjoy quiet time and space for your own narrations
URL:https://www.esterlibrary.org/event/writing-circle-2/2024-12-01/
END:VEVENT
BEGIN:VEVENT
DTSTART;TZID=America/Anchorage:20241201T160000
DTEND;TZID=America/Anchorage:20241201T180000
DTSTAMP:20260425T043320
CREATED:20240813T040057Z
LAST-MODIFIED:20250111T222538Z
UID:10000506-1733068800-1733076000@www.esterlibrary.org
SUMMARY:Writing Circle (No browsing)
DESCRIPTION:Join us for some quiet time. The library is NOT open for browsing during this time.
URL:https://www.esterlibrary.org/event/writing-circle-3/2024-12-01/
LOCATION:Clausen Cabin\, 3629 Main Street\, Ester\, 99725
END:VEVENT
BEGIN:VEVENT
DTSTART;TZID=America/Anchorage:20241202T150000
DTEND;TZID=America/Anchorage:20241202T180000
DTSTAMP:20260425T043320
CREATED:20240101T214601Z
LAST-MODIFIED:20250111T222726Z
UID:10000356-1733151600-1733162400@www.esterlibrary.org
SUMMARY:Monday Open hours
DESCRIPTION:
URL:https://www.esterlibrary.org/event/open-hours-7/2024-12-02/
END:VEVENT
BEGIN:VEVENT
DTSTART;TZID=America/Anchorage:20241202T160000
DTEND;TZID=America/Anchorage:20241202T180000
DTSTAMP:20260425T043320
CREATED:20240909T211921Z
LAST-MODIFIED:20250111T223037Z
UID:10000555-1733155200-1733162400@www.esterlibrary.org
SUMMARY:Art Workshop
DESCRIPTION:Young or old\, join us to bring out your creative side! Workshop participants will decide what to explore each week.
URL:https://www.esterlibrary.org/event/kids-art-programs-2024-11-18/2024-12-02/
CATEGORIES:Events
END:VEVENT
BEGIN:VEVENT
DTSTART;TZID=America/Anchorage:20241202T183000
DTEND;TZID=America/Anchorage:20241202T203000
DTSTAMP:20260425T043320
CREATED:20241118T220423Z
LAST-MODIFIED:20241118T220640Z
UID:10000578-1733164200-1733171400@www.esterlibrary.org
SUMMARY:Monthly Board of Director's Meeting
DESCRIPTION:
URL:https://www.esterlibrary.org/event/monthly-board-of-directors-meeting/2024-12-02/
CATEGORIES:Board
END:VEVENT
BEGIN:VEVENT
DTSTART;TZID=America/Anchorage:20241203T150000
DTEND;TZID=America/Anchorage:20241203T190000
DTSTAMP:20260425T043320
CREATED:20241130T044318Z
LAST-MODIFIED:20250111T223118Z
UID:10000190-1733238000-1733252400@www.esterlibrary.org
SUMMARY:Knit Night and Open Hours
DESCRIPTION:
URL:https://www.esterlibrary.org/event/knit-night-and-open-hours/2024-12-03/
LOCATION:Clausen Cabin\, 3629 Main Street\, Ester\, 99725
END:VEVENT
BEGIN:VEVENT
DTSTART;TZID=America/Anchorage:20241205T160000
DTEND;TZID=America/Anchorage:20241205T190000
DTSTAMP:20260425T043320
CREATED:20240306T191828Z
LAST-MODIFIED:20241130T043930Z
UID:10000120-1733414400-1733425200@www.esterlibrary.org
SUMMARY:Open Hours
DESCRIPTION:
URL:https://www.esterlibrary.org/event/open-hours-geb-program-specialist/2024-12-05/
END:VEVENT
BEGIN:VEVENT
DTSTART;TZID=America/Anchorage:20241207T130000
DTEND;TZID=America/Anchorage:20241207T160000
DTSTAMP:20260425T043320
CREATED:20240101T215150Z
LAST-MODIFIED:20241202T214419Z
UID:10000451-1733576400-1733587200@www.esterlibrary.org
SUMMARY:Open hours
DESCRIPTION:
URL:https://www.esterlibrary.org/event/open-hours-16/2024-12-07/
END:VEVENT
BEGIN:VEVENT
DTSTART;TZID=America/Anchorage:20241207T150000
DTEND;TZID=America/Anchorage:20241207T163000
DTSTAMP:20260425T043320
CREATED:20240620T031016Z
LAST-MODIFIED:20241130T044750Z
UID:10000485-1733583600-1733589000@www.esterlibrary.org
SUMMARY:Book Club
DESCRIPTION:This month’s title: That Librarian\, by Amanda Jones \n“Amanda Jones started getting death threats\, all for standing up for our right to read . . . but she’s not stopped fighting against book bans or stopped advocating for access to diverse stories.”-Oprah Winfrey\, in a speech at the 2023 National Book Awards\n\nPart memoir\, part manifesto\, the inspiring story of a Louisiana librarian advocating for inclusivity on the front lines of our vicious culture wars. \nOne of the things small town librarian Amanda Jones values most about books is how they can affirm a young person’s sense of self. So in 2022\, when she caught wind of a local public hearing that would discuss “book content\,” she knew what was at stake. Schools and libraries nationwide have been bombarded by demands for books with LGTBQ+ references\, discussions of racism\, and more to be purged from the shelves. Amanda would be damned if her community were to ban stories representing minority groups. She spoke out that night at the meeting. Days later\, she woke up to a nightmare that is still ongoing. \nAmanda Jones has been called a groomer\, a pedo\, and a porn-pusher; she has faced death threats and attacks from strangers and friends alike. Her decision to support a collection of books with diverse perspectives made her a target for extremists using book banning campaigns-funded by dark money organizations and advanced by hard right politicians-in a crusade to make America more white\, straight\, and “Christian.” But Amanda Jones wouldn’t give up without a fight: she sued her harassers for defamation and urged others to join her in the resistance. \nMapping the book banning crisis occurring all across the nation\, That Librarian draws the battle lines in the war against equity and inclusion\, calling book lovers everywhere to rise in defense of our readers.
URL:https://www.esterlibrary.org/event/book-club-7-2024-12-07/
LOCATION:Clausen Cabin\, 3629 Main Street\, Ester\, 99725
CATEGORIES:Announcements,Events
END:VEVENT
BEGIN:VEVENT
DTSTART;TZID=America/Anchorage:20241208T160000
DTEND;TZID=America/Anchorage:20241208T180000
DTSTAMP:20260425T043320
CREATED:20240101T212428Z
LAST-MODIFIED:20240813T035929Z
UID:10000262-1733673600-1733680800@www.esterlibrary.org
SUMMARY:Writing Circle
DESCRIPTION:Enjoy quiet time and space for your own narrations
URL:https://www.esterlibrary.org/event/writing-circle-2/2024-12-08/
END:VEVENT
BEGIN:VEVENT
DTSTART;TZID=America/Anchorage:20241208T160000
DTEND;TZID=America/Anchorage:20241208T180000
DTSTAMP:20260425T043320
CREATED:20240813T040057Z
LAST-MODIFIED:20250111T222538Z
UID:10000507-1733673600-1733680800@www.esterlibrary.org
SUMMARY:Writing Circle (No browsing)
DESCRIPTION:Join us for some quiet time. The library is NOT open for browsing during this time.
URL:https://www.esterlibrary.org/event/writing-circle-3/2024-12-08/
LOCATION:Clausen Cabin\, 3629 Main Street\, Ester\, 99725
END:VEVENT
BEGIN:VEVENT
DTSTART;TZID=America/Anchorage:20241209T150000
DTEND;TZID=America/Anchorage:20241209T180000
DTSTAMP:20260425T043320
CREATED:20240101T214601Z
LAST-MODIFIED:20250111T222726Z
UID:10000357-1733756400-1733767200@www.esterlibrary.org
SUMMARY:Monday Open hours
DESCRIPTION:
URL:https://www.esterlibrary.org/event/open-hours-7/2024-12-09/
END:VEVENT
BEGIN:VEVENT
DTSTART;TZID=America/Anchorage:20241209T160000
DTEND;TZID=America/Anchorage:20241209T180000
DTSTAMP:20260425T043320
CREATED:20240909T211921Z
LAST-MODIFIED:20250111T223037Z
UID:10000556-1733760000-1733767200@www.esterlibrary.org
SUMMARY:Art Workshop
DESCRIPTION:Young or old\, join us to bring out your creative side! Workshop participants will decide what to explore each week.
URL:https://www.esterlibrary.org/event/kids-art-programs-2024-11-18/2024-12-09/
CATEGORIES:Events
END:VEVENT
BEGIN:VEVENT
DTSTART;TZID=America/Anchorage:20241210T150000
DTEND;TZID=America/Anchorage:20241210T190000
DTSTAMP:20260425T043320
CREATED:20241130T044318Z
LAST-MODIFIED:20250111T223118Z
UID:10000191-1733842800-1733857200@www.esterlibrary.org
SUMMARY:Knit Night and Open Hours
DESCRIPTION:
URL:https://www.esterlibrary.org/event/knit-night-and-open-hours/2024-12-10/
LOCATION:Clausen Cabin\, 3629 Main Street\, Ester\, 99725
END:VEVENT
BEGIN:VEVENT
DTSTART;TZID=America/Anchorage:20241212T160000
DTEND;TZID=America/Anchorage:20241212T190000
DTSTAMP:20260425T043320
CREATED:20240306T191828Z
LAST-MODIFIED:20241130T043930Z
UID:10000121-1734019200-1734030000@www.esterlibrary.org
SUMMARY:Open Hours
DESCRIPTION:
URL:https://www.esterlibrary.org/event/open-hours-geb-program-specialist/2024-12-12/
END:VEVENT
BEGIN:VEVENT
DTSTART;TZID=America/Anchorage:20241214T130000
DTEND;TZID=America/Anchorage:20241214T160000
DTSTAMP:20260425T043320
CREATED:20240101T215150Z
LAST-MODIFIED:20241202T214419Z
UID:10000452-1734181200-1734192000@www.esterlibrary.org
SUMMARY:Open hours
DESCRIPTION:
URL:https://www.esterlibrary.org/event/open-hours-16/2024-12-14/
END:VEVENT
BEGIN:VEVENT
DTSTART;TZID=America/Anchorage:20241214T143000
DTEND;TZID=America/Anchorage:20241214T150000
DTSTAMP:20260425T043320
CREATED:20241130T042850Z
LAST-MODIFIED:20241202T214139Z
UID:10000583-1734186600-1734188400@www.esterlibrary.org
SUMMARY:Children's Book Club
DESCRIPTION:
URL:https://www.esterlibrary.org/event/childrens-book-club/2024-12-14/
LOCATION:Clausen Cabin\, 3629 Main Street\, Ester\, 99725
CATEGORIES:Events
END:VEVENT
BEGIN:VEVENT
DTSTART;TZID=America/Anchorage:20241215T160000
DTEND;TZID=America/Anchorage:20241215T180000
DTSTAMP:20260425T043320
CREATED:20240101T212428Z
LAST-MODIFIED:20240813T035929Z
UID:10000263-1734278400-1734285600@www.esterlibrary.org
SUMMARY:Writing Circle
DESCRIPTION:Enjoy quiet time and space for your own narrations
URL:https://www.esterlibrary.org/event/writing-circle-2/2024-12-15/
END:VEVENT
END:VCALENDAR