BEGIN:VCALENDAR
VERSION:2.0
PRODID:-//Ester Village Library - ECPv6.15.20//NONSGML v1.0//EN
CALSCALE:GREGORIAN
METHOD:PUBLISH
X-WR-CALNAME:Ester Village Library
X-ORIGINAL-URL:https://www.esterlibrary.org
X-WR-CALDESC:Events for Ester Village Library
REFRESH-INTERVAL;VALUE=DURATION:PT1H
X-Robots-Tag:noindex
X-PUBLISHED-TTL:PT1H
BEGIN:VTIMEZONE
TZID:America/Anchorage
BEGIN:DAYLIGHT
TZOFFSETFROM:-0900
TZOFFSETTO:-0800
TZNAME:AKDT
DTSTART:20230312T110000
END:DAYLIGHT
BEGIN:STANDARD
TZOFFSETFROM:-0800
TZOFFSETTO:-0900
TZNAME:AKST
DTSTART:20231105T100000
END:STANDARD
BEGIN:DAYLIGHT
TZOFFSETFROM:-0900
TZOFFSETTO:-0800
TZNAME:AKDT
DTSTART:20240310T110000
END:DAYLIGHT
BEGIN:STANDARD
TZOFFSETFROM:-0800
TZOFFSETTO:-0900
TZNAME:AKST
DTSTART:20241103T100000
END:STANDARD
BEGIN:DAYLIGHT
TZOFFSETFROM:-0900
TZOFFSETTO:-0800
TZNAME:AKDT
DTSTART:20250309T110000
END:DAYLIGHT
BEGIN:STANDARD
TZOFFSETFROM:-0800
TZOFFSETTO:-0900
TZNAME:AKST
DTSTART:20251102T100000
END:STANDARD
END:VTIMEZONE
BEGIN:VEVENT
DTSTART;TZID=America/Anchorage:20240512T160000
DTEND;TZID=America/Anchorage:20240512T180000
DTSTAMP:20260425T031418
CREATED:20240101T212428Z
LAST-MODIFIED:20240813T035929Z
UID:10000232-1715529600-1715536800@www.esterlibrary.org
SUMMARY:Writing Circle
DESCRIPTION:Enjoy quiet time and space for your own narrations
URL:https://www.esterlibrary.org/event/writing-circle-2/2024-05-12/
END:VEVENT
BEGIN:VEVENT
DTSTART;TZID=America/Anchorage:20240511T130000
DTEND;TZID=America/Anchorage:20240511T160000
DTSTAMP:20260425T031418
CREATED:20240101T215150Z
LAST-MODIFIED:20241202T214419Z
UID:10000421-1715432400-1715443200@www.esterlibrary.org
SUMMARY:Open hours
DESCRIPTION:
URL:https://www.esterlibrary.org/event/open-hours-16/2024-05-11/
END:VEVENT
BEGIN:VEVENT
DTSTART;TZID=America/Anchorage:20240509T160000
DTEND;TZID=America/Anchorage:20240509T190000
DTSTAMP:20260425T031418
CREATED:20240306T191828Z
LAST-MODIFIED:20241130T043930Z
UID:10000092-1715270400-1715281200@www.esterlibrary.org
SUMMARY:Open Hours
DESCRIPTION:
URL:https://www.esterlibrary.org/event/open-hours-geb-program-specialist/2024-05-09/
END:VEVENT
BEGIN:VEVENT
DTSTART;TZID=America/Anchorage:20240507T150000
DTEND;TZID=America/Anchorage:20240507T190000
DTSTAMP:20260425T031418
CREATED:20240101T213350Z
LAST-MODIFIED:20241130T043835Z
UID:10000303-1715094000-1715108400@www.esterlibrary.org
SUMMARY:Knit Night & Open Hours
DESCRIPTION:
URL:https://www.esterlibrary.org/event/knit-night-5/2024-05-07/
END:VEVENT
BEGIN:VEVENT
DTSTART;TZID=America/Anchorage:20240506T150000
DTEND;TZID=America/Anchorage:20240506T180000
DTSTAMP:20260425T031418
CREATED:20250214T204012Z
LAST-MODIFIED:20250214T204012Z
UID:10000392-1715007600-1715018400@www.esterlibrary.org
SUMMARY:Monday Open hours
DESCRIPTION:
URL:https://www.esterlibrary.org/event/open-hours-7/2024-05-06/
END:VEVENT
BEGIN:VEVENT
DTSTART;TZID=America/Anchorage:20240506T150000
DTEND;TZID=America/Anchorage:20240506T180000
DTSTAMP:20260425T031418
CREATED:20240101T214601Z
LAST-MODIFIED:20250111T222726Z
UID:10000329-1715007600-1715018400@www.esterlibrary.org
SUMMARY:Monday Open hours
DESCRIPTION:
URL:https://www.esterlibrary.org/event/open-hours-7/2024-05-06/
END:VEVENT
BEGIN:VEVENT
DTSTART;TZID=America/Anchorage:20240505T160000
DTEND;TZID=America/Anchorage:20240505T180000
DTSTAMP:20260425T031418
CREATED:20250214T204008Z
LAST-MODIFIED:20250214T204008Z
UID:10000281-1714924800-1714932000@www.esterlibrary.org
SUMMARY:Writing Circle
DESCRIPTION:Enjoy quiet time and space for your own narrations
URL:https://www.esterlibrary.org/event/writing-circle-2/2024-05-05/
END:VEVENT
BEGIN:VEVENT
DTSTART;TZID=America/Anchorage:20240505T160000
DTEND;TZID=America/Anchorage:20240505T180000
DTSTAMP:20260425T031418
CREATED:20240101T212428Z
LAST-MODIFIED:20240813T035929Z
UID:10000231-1714924800-1714932000@www.esterlibrary.org
SUMMARY:Writing Circle
DESCRIPTION:Enjoy quiet time and space for your own narrations
URL:https://www.esterlibrary.org/event/writing-circle-2/2024-05-05/
END:VEVENT
BEGIN:VEVENT
DTSTART;TZID=America/Anchorage:20240505T150000
DTEND;TZID=America/Anchorage:20240505T170000
DTSTAMP:20260425T031418
CREATED:20240306T194607Z
LAST-MODIFIED:20240513T072703Z
UID:10000151-1714921200-1714928400@www.esterlibrary.org
SUMMARY:Book Club
DESCRIPTION:A Walk in the Woods by Bill Bryson \nBack in America after twenty years in Britain\, Bill Bryson decided to reacquaint himself with his native country by walking the 2\,100-mile Appalachian Trail\, which stretches from Georgia to Maine. The AT offers an astonishing landscape of silent forests and sparkling lakes—and to a writer with the comic genius of Bill Bryson\, it also provides endless opportunities to witness the majestic silliness of his fellow human beings. \nFor a start there’s the gloriously out-of-shape Stephen Katz\, a buddy from Iowa along for the walk. But A Walk in the Woods is more than just a laugh-out-loud hike. Bryson’s acute eye is a wise witness to this beautiful but fragile trail\, and as he tells its fascinating history\, he makes a moving plea for the conservation of America’s last great wilderness. An adventure\, a comedy\, and a celebration\, A Walk in the Woods is a modern classic of travel literature.
URL:https://www.esterlibrary.org/event/book-club-5/2024-05-05/
CATEGORIES:Announcements
END:VEVENT
BEGIN:VEVENT
DTSTART;TZID=America/Anchorage:20240504T150000
DTEND;TZID=America/Anchorage:20240504T170000
DTSTAMP:20260425T031418
CREATED:20240306T194607Z
LAST-MODIFIED:20240513T072703Z
UID:10000150-1714834800-1714842000@www.esterlibrary.org
SUMMARY:Book Club
DESCRIPTION:A Walk in the Woods by Bill Bryson \nBack in America after twenty years in Britain\, Bill Bryson decided to reacquaint himself with his native country by walking the 2\,100-mile Appalachian Trail\, which stretches from Georgia to Maine. The AT offers an astonishing landscape of silent forests and sparkling lakes—and to a writer with the comic genius of Bill Bryson\, it also provides endless opportunities to witness the majestic silliness of his fellow human beings. \nFor a start there’s the gloriously out-of-shape Stephen Katz\, a buddy from Iowa along for the walk. But A Walk in the Woods is more than just a laugh-out-loud hike. Bryson’s acute eye is a wise witness to this beautiful but fragile trail\, and as he tells its fascinating history\, he makes a moving plea for the conservation of America’s last great wilderness. An adventure\, a comedy\, and a celebration\, A Walk in the Woods is a modern classic of travel literature.
URL:https://www.esterlibrary.org/event/book-club-5/2024-05-04/
CATEGORIES:Announcements
END:VEVENT
BEGIN:VEVENT
DTSTART;TZID=America/Anchorage:20240504T130000
DTEND;TZID=America/Anchorage:20240504T160000
DTSTAMP:20260425T031418
CREATED:20240101T215150Z
LAST-MODIFIED:20241202T214419Z
UID:10000420-1714827600-1714838400@www.esterlibrary.org
SUMMARY:Open hours
DESCRIPTION:
URL:https://www.esterlibrary.org/event/open-hours-16/2024-05-04/
END:VEVENT
BEGIN:VEVENT
DTSTART;TZID=America/Anchorage:20240502T160000
DTEND;TZID=America/Anchorage:20240502T190000
DTSTAMP:20260425T031418
CREATED:20240306T191828Z
LAST-MODIFIED:20241130T043930Z
UID:10000091-1714665600-1714676400@www.esterlibrary.org
SUMMARY:Open Hours
DESCRIPTION:
URL:https://www.esterlibrary.org/event/open-hours-geb-program-specialist/2024-05-02/
END:VEVENT
BEGIN:VEVENT
DTSTART;TZID=America/Anchorage:20240430T150000
DTEND;TZID=America/Anchorage:20240430T190000
DTSTAMP:20260425T031418
CREATED:20240101T213350Z
LAST-MODIFIED:20241130T043835Z
UID:10000302-1714489200-1714503600@www.esterlibrary.org
SUMMARY:Knit Night & Open Hours
DESCRIPTION:
URL:https://www.esterlibrary.org/event/knit-night-5/2024-04-30/
END:VEVENT
BEGIN:VEVENT
DTSTART;TZID=America/Anchorage:20240429T150000
DTEND;TZID=America/Anchorage:20240429T180000
DTSTAMP:20260425T031418
CREATED:20250214T204012Z
LAST-MODIFIED:20250214T204012Z
UID:10000391-1714402800-1714413600@www.esterlibrary.org
SUMMARY:Monday Open hours
DESCRIPTION:
URL:https://www.esterlibrary.org/event/open-hours-7/2024-04-29/
END:VEVENT
BEGIN:VEVENT
DTSTART;TZID=America/Anchorage:20240429T150000
DTEND;TZID=America/Anchorage:20240429T180000
DTSTAMP:20260425T031418
CREATED:20240101T214601Z
LAST-MODIFIED:20250111T222726Z
UID:10000328-1714402800-1714413600@www.esterlibrary.org
SUMMARY:Monday Open hours
DESCRIPTION:
URL:https://www.esterlibrary.org/event/open-hours-7/2024-04-29/
END:VEVENT
BEGIN:VEVENT
DTSTART;TZID=America/Anchorage:20240428T160000
DTEND;TZID=America/Anchorage:20240428T180000
DTSTAMP:20260425T031418
CREATED:20250214T204008Z
LAST-MODIFIED:20250214T204008Z
UID:10000280-1714320000-1714327200@www.esterlibrary.org
SUMMARY:Writing Circle
DESCRIPTION:Enjoy quiet time and space for your own narrations
URL:https://www.esterlibrary.org/event/writing-circle-2/2024-04-28/
END:VEVENT
BEGIN:VEVENT
DTSTART;TZID=America/Anchorage:20240428T160000
DTEND;TZID=America/Anchorage:20240428T180000
DTSTAMP:20260425T031418
CREATED:20240101T212428Z
LAST-MODIFIED:20240813T035929Z
UID:10000230-1714320000-1714327200@www.esterlibrary.org
SUMMARY:Writing Circle
DESCRIPTION:Enjoy quiet time and space for your own narrations
URL:https://www.esterlibrary.org/event/writing-circle-2/2024-04-28/
END:VEVENT
BEGIN:VEVENT
DTSTART;TZID=America/Anchorage:20240427T130000
DTEND;TZID=America/Anchorage:20240427T160000
DTSTAMP:20260425T031418
CREATED:20240101T215150Z
LAST-MODIFIED:20241202T214419Z
UID:10000419-1714222800-1714233600@www.esterlibrary.org
SUMMARY:Open hours
DESCRIPTION:
URL:https://www.esterlibrary.org/event/open-hours-16/2024-04-27/
END:VEVENT
BEGIN:VEVENT
DTSTART;TZID=America/Anchorage:20240425T160000
DTEND;TZID=America/Anchorage:20240425T190000
DTSTAMP:20260425T031418
CREATED:20240306T191828Z
LAST-MODIFIED:20241130T043930Z
UID:10000090-1714060800-1714071600@www.esterlibrary.org
SUMMARY:Open Hours
DESCRIPTION:
URL:https://www.esterlibrary.org/event/open-hours-geb-program-specialist/2024-04-25/
END:VEVENT
BEGIN:VEVENT
DTSTART;TZID=America/Anchorage:20240423T150000
DTEND;TZID=America/Anchorage:20240423T190000
DTSTAMP:20260425T031418
CREATED:20240101T213350Z
LAST-MODIFIED:20241130T043835Z
UID:10000301-1713884400-1713898800@www.esterlibrary.org
SUMMARY:Knit Night & Open Hours
DESCRIPTION:
URL:https://www.esterlibrary.org/event/knit-night-5/2024-04-23/
END:VEVENT
BEGIN:VEVENT
DTSTART;TZID=America/Anchorage:20240422T150000
DTEND;TZID=America/Anchorage:20240422T180000
DTSTAMP:20260425T031418
CREATED:20250214T204012Z
LAST-MODIFIED:20250214T204012Z
UID:10000390-1713798000-1713808800@www.esterlibrary.org
SUMMARY:Monday Open hours
DESCRIPTION:
URL:https://www.esterlibrary.org/event/open-hours-7/2024-04-22/
END:VEVENT
BEGIN:VEVENT
DTSTART;TZID=America/Anchorage:20240422T150000
DTEND;TZID=America/Anchorage:20240422T180000
DTSTAMP:20260425T031418
CREATED:20240101T214601Z
LAST-MODIFIED:20250111T222726Z
UID:10000327-1713798000-1713808800@www.esterlibrary.org
SUMMARY:Monday Open hours
DESCRIPTION:
URL:https://www.esterlibrary.org/event/open-hours-7/2024-04-22/
END:VEVENT
BEGIN:VEVENT
DTSTART;TZID=America/Anchorage:20240421T180000
DTEND;TZID=America/Anchorage:20240421T193000
DTSTAMP:20260425T031418
CREATED:20240321T033209Z
LAST-MODIFIED:20240321T033209Z
UID:10000158-1713722400-1713727800@www.esterlibrary.org
SUMMARY:Board Meeting
DESCRIPTION:
URL:https://www.esterlibrary.org/event/board-meeting-4/
END:VEVENT
BEGIN:VEVENT
DTSTART;TZID=America/Anchorage:20240421T160000
DTEND;TZID=America/Anchorage:20240421T180000
DTSTAMP:20260425T031418
CREATED:20250214T204008Z
LAST-MODIFIED:20250214T204008Z
UID:10000279-1713715200-1713722400@www.esterlibrary.org
SUMMARY:Writing Circle
DESCRIPTION:Enjoy quiet time and space for your own narrations
URL:https://www.esterlibrary.org/event/writing-circle-2/2024-04-21/
END:VEVENT
BEGIN:VEVENT
DTSTART;TZID=America/Anchorage:20240421T160000
DTEND;TZID=America/Anchorage:20240421T180000
DTSTAMP:20260425T031418
CREATED:20240101T212428Z
LAST-MODIFIED:20240813T035929Z
UID:10000229-1713715200-1713722400@www.esterlibrary.org
SUMMARY:Writing Circle
DESCRIPTION:Enjoy quiet time and space for your own narrations
URL:https://www.esterlibrary.org/event/writing-circle-2/2024-04-21/
END:VEVENT
BEGIN:VEVENT
DTSTART;TZID=America/Anchorage:20240420T130000
DTEND;TZID=America/Anchorage:20240420T160000
DTSTAMP:20260425T031418
CREATED:20240101T215150Z
LAST-MODIFIED:20241202T214419Z
UID:10000418-1713618000-1713628800@www.esterlibrary.org
SUMMARY:Open hours
DESCRIPTION:
URL:https://www.esterlibrary.org/event/open-hours-16/2024-04-20/
END:VEVENT
BEGIN:VEVENT
DTSTART;TZID=America/Anchorage:20240418T160000
DTEND;TZID=America/Anchorage:20240418T190000
DTSTAMP:20260425T031418
CREATED:20240306T191828Z
LAST-MODIFIED:20241130T043930Z
UID:10000089-1713456000-1713466800@www.esterlibrary.org
SUMMARY:Open Hours
DESCRIPTION:
URL:https://www.esterlibrary.org/event/open-hours-geb-program-specialist/2024-04-18/
END:VEVENT
BEGIN:VEVENT
DTSTART;TZID=America/Anchorage:20240416T150000
DTEND;TZID=America/Anchorage:20240416T190000
DTSTAMP:20260425T031418
CREATED:20240101T213350Z
LAST-MODIFIED:20241130T043835Z
UID:10000300-1713279600-1713294000@www.esterlibrary.org
SUMMARY:Knit Night & Open Hours
DESCRIPTION:
URL:https://www.esterlibrary.org/event/knit-night-5/2024-04-16/
END:VEVENT
BEGIN:VEVENT
DTSTART;TZID=America/Anchorage:20240415T150000
DTEND;TZID=America/Anchorage:20240415T180000
DTSTAMP:20260425T031418
CREATED:20250214T204012Z
LAST-MODIFIED:20250214T204012Z
UID:10000389-1713193200-1713204000@www.esterlibrary.org
SUMMARY:Monday Open hours
DESCRIPTION:
URL:https://www.esterlibrary.org/event/open-hours-7/2024-04-15/
END:VEVENT
BEGIN:VEVENT
DTSTART;TZID=America/Anchorage:20240415T150000
DTEND;TZID=America/Anchorage:20240415T180000
DTSTAMP:20260425T031418
CREATED:20240101T214601Z
LAST-MODIFIED:20250111T222726Z
UID:10000326-1713193200-1713204000@www.esterlibrary.org
SUMMARY:Monday Open hours
DESCRIPTION:
URL:https://www.esterlibrary.org/event/open-hours-7/2024-04-15/
END:VEVENT
END:VCALENDAR