BEGIN:VCALENDAR
VERSION:2.0
PRODID:-//Ester Village Library - ECPv6.15.20//NONSGML v1.0//EN
CALSCALE:GREGORIAN
METHOD:PUBLISH
X-ORIGINAL-URL:https://www.esterlibrary.org
X-WR-CALDESC:Events for Ester Village Library
REFRESH-INTERVAL;VALUE=DURATION:PT1H
X-Robots-Tag:noindex
X-PUBLISHED-TTL:PT1H
BEGIN:VTIMEZONE
TZID:America/Anchorage
BEGIN:DAYLIGHT
TZOFFSETFROM:-0900
TZOFFSETTO:-0800
TZNAME:AKDT
DTSTART:20230312T110000
END:DAYLIGHT
BEGIN:STANDARD
TZOFFSETFROM:-0800
TZOFFSETTO:-0900
TZNAME:AKST
DTSTART:20231105T100000
END:STANDARD
BEGIN:DAYLIGHT
TZOFFSETFROM:-0900
TZOFFSETTO:-0800
TZNAME:AKDT
DTSTART:20240310T110000
END:DAYLIGHT
BEGIN:STANDARD
TZOFFSETFROM:-0800
TZOFFSETTO:-0900
TZNAME:AKST
DTSTART:20241103T100000
END:STANDARD
BEGIN:DAYLIGHT
TZOFFSETFROM:-0900
TZOFFSETTO:-0800
TZNAME:AKDT
DTSTART:20250309T110000
END:DAYLIGHT
BEGIN:STANDARD
TZOFFSETFROM:-0800
TZOFFSETTO:-0900
TZNAME:AKST
DTSTART:20251102T100000
END:STANDARD
END:VTIMEZONE
BEGIN:VEVENT
DTSTART;TZID=America/Anchorage:20240527T150000
DTEND;TZID=America/Anchorage:20240527T180000
DTSTAMP:20260425T073324
CREATED:20240101T214601Z
LAST-MODIFIED:20250111T222726Z
UID:10000332-1716822000-1716832800@www.esterlibrary.org
SUMMARY:Monday Open hours
DESCRIPTION:
URL:https://www.esterlibrary.org/event/open-hours-7/2024-05-27/
END:VEVENT
BEGIN:VEVENT
DTSTART;TZID=America/Anchorage:20240527T150000
DTEND;TZID=America/Anchorage:20240527T180000
DTSTAMP:20260425T073324
CREATED:20250214T204012Z
LAST-MODIFIED:20250214T204012Z
UID:10000395-1716822000-1716832800@www.esterlibrary.org
SUMMARY:Monday Open hours
DESCRIPTION:
URL:https://www.esterlibrary.org/event/open-hours-7/2024-05-27/
END:VEVENT
BEGIN:VEVENT
DTSTART;TZID=America/Anchorage:20240528T150000
DTEND;TZID=America/Anchorage:20240528T190000
DTSTAMP:20260425T073324
CREATED:20240101T213350Z
LAST-MODIFIED:20241130T043835Z
UID:10000306-1716908400-1716922800@www.esterlibrary.org
SUMMARY:Knit Night & Open Hours
DESCRIPTION:
URL:https://www.esterlibrary.org/event/knit-night-5/2024-05-28/
END:VEVENT
BEGIN:VEVENT
DTSTART;TZID=America/Anchorage:20240530T160000
DTEND;TZID=America/Anchorage:20240530T190000
DTSTAMP:20260425T073324
CREATED:20240306T191828Z
LAST-MODIFIED:20241130T043930Z
UID:10000095-1717084800-1717095600@www.esterlibrary.org
SUMMARY:Open Hours
DESCRIPTION:
URL:https://www.esterlibrary.org/event/open-hours-geb-program-specialist/2024-05-30/
END:VEVENT
BEGIN:VEVENT
DTSTART;TZID=America/Anchorage:20240601T130000
DTEND;TZID=America/Anchorage:20240601T160000
DTSTAMP:20260425T073324
CREATED:20240101T215150Z
LAST-MODIFIED:20241202T214419Z
UID:10000424-1717246800-1717257600@www.esterlibrary.org
SUMMARY:Open hours
DESCRIPTION:
URL:https://www.esterlibrary.org/event/open-hours-16/2024-06-01/
END:VEVENT
BEGIN:VEVENT
DTSTART;TZID=America/Anchorage:20240602T150000
DTEND;TZID=America/Anchorage:20240602T170000
DTSTAMP:20260425T073324
CREATED:20240306T194607Z
LAST-MODIFIED:20240513T072703Z
UID:10000152-1717340400-1717347600@www.esterlibrary.org
SUMMARY:Book Club
DESCRIPTION:A Walk in the Woods by Bill Bryson \nBack in America after twenty years in Britain\, Bill Bryson decided to reacquaint himself with his native country by walking the 2\,100-mile Appalachian Trail\, which stretches from Georgia to Maine. The AT offers an astonishing landscape of silent forests and sparkling lakes—and to a writer with the comic genius of Bill Bryson\, it also provides endless opportunities to witness the majestic silliness of his fellow human beings. \nFor a start there’s the gloriously out-of-shape Stephen Katz\, a buddy from Iowa along for the walk. But A Walk in the Woods is more than just a laugh-out-loud hike. Bryson’s acute eye is a wise witness to this beautiful but fragile trail\, and as he tells its fascinating history\, he makes a moving plea for the conservation of America’s last great wilderness. An adventure\, a comedy\, and a celebration\, A Walk in the Woods is a modern classic of travel literature.
URL:https://www.esterlibrary.org/event/book-club-5/2024-06-02/
CATEGORIES:Announcements
END:VEVENT
BEGIN:VEVENT
DTSTART;TZID=America/Anchorage:20240602T160000
DTEND;TZID=America/Anchorage:20240602T180000
DTSTAMP:20260425T073324
CREATED:20240101T212428Z
LAST-MODIFIED:20240813T035929Z
UID:10000235-1717344000-1717351200@www.esterlibrary.org
SUMMARY:Writing Circle
DESCRIPTION:Enjoy quiet time and space for your own narrations
URL:https://www.esterlibrary.org/event/writing-circle-2/2024-06-02/
END:VEVENT
BEGIN:VEVENT
DTSTART;TZID=America/Anchorage:20240603T150000
DTEND;TZID=America/Anchorage:20240603T180000
DTSTAMP:20260425T073324
CREATED:20240101T214601Z
LAST-MODIFIED:20250111T222726Z
UID:10000333-1717426800-1717437600@www.esterlibrary.org
SUMMARY:Monday Open hours
DESCRIPTION:
URL:https://www.esterlibrary.org/event/open-hours-7/2024-06-03/
END:VEVENT
BEGIN:VEVENT
DTSTART;TZID=America/Anchorage:20240606T160000
DTEND;TZID=America/Anchorage:20240606T190000
DTSTAMP:20260425T073324
CREATED:20240306T191828Z
LAST-MODIFIED:20241130T043930Z
UID:10000096-1717689600-1717700400@www.esterlibrary.org
SUMMARY:Open Hours
DESCRIPTION:
URL:https://www.esterlibrary.org/event/open-hours-geb-program-specialist/2024-06-06/
END:VEVENT
BEGIN:VEVENT
DTSTART;TZID=America/Anchorage:20240608T130000
DTEND;TZID=America/Anchorage:20240608T160000
DTSTAMP:20260425T073324
CREATED:20240101T215150Z
LAST-MODIFIED:20241202T214419Z
UID:10000425-1717851600-1717862400@www.esterlibrary.org
SUMMARY:Open hours
DESCRIPTION:
URL:https://www.esterlibrary.org/event/open-hours-16/2024-06-08/
END:VEVENT
BEGIN:VEVENT
DTSTART;TZID=America/Anchorage:20240609T160000
DTEND;TZID=America/Anchorage:20240609T180000
DTSTAMP:20260425T073324
CREATED:20240101T212428Z
LAST-MODIFIED:20240813T035929Z
UID:10000236-1717948800-1717956000@www.esterlibrary.org
SUMMARY:Writing Circle
DESCRIPTION:Enjoy quiet time and space for your own narrations
URL:https://www.esterlibrary.org/event/writing-circle-2/2024-06-09/
END:VEVENT
BEGIN:VEVENT
DTSTART;TZID=America/Anchorage:20240610T150000
DTEND;TZID=America/Anchorage:20240610T180000
DTSTAMP:20260425T073324
CREATED:20240101T214601Z
LAST-MODIFIED:20250111T222726Z
UID:10000334-1718031600-1718042400@www.esterlibrary.org
SUMMARY:Monday Open hours
DESCRIPTION:
URL:https://www.esterlibrary.org/event/open-hours-7/2024-06-10/
END:VEVENT
BEGIN:VEVENT
DTSTART;TZID=America/Anchorage:20240613T160000
DTEND;TZID=America/Anchorage:20240613T190000
DTSTAMP:20260425T073324
CREATED:20240306T191828Z
LAST-MODIFIED:20241130T043930Z
UID:10000097-1718294400-1718305200@www.esterlibrary.org
SUMMARY:Open Hours
DESCRIPTION:
URL:https://www.esterlibrary.org/event/open-hours-geb-program-specialist/2024-06-13/
END:VEVENT
BEGIN:VEVENT
DTSTART;TZID=America/Anchorage:20240615T130000
DTEND;TZID=America/Anchorage:20240615T160000
DTSTAMP:20260425T073324
CREATED:20240101T215150Z
LAST-MODIFIED:20241202T214419Z
UID:10000426-1718456400-1718467200@www.esterlibrary.org
SUMMARY:Open hours
DESCRIPTION:
URL:https://www.esterlibrary.org/event/open-hours-16/2024-06-15/
END:VEVENT
BEGIN:VEVENT
DTSTART;TZID=America/Anchorage:20240616T160000
DTEND;TZID=America/Anchorage:20240616T180000
DTSTAMP:20260425T073324
CREATED:20240101T212428Z
LAST-MODIFIED:20240813T035929Z
UID:10000237-1718553600-1718560800@www.esterlibrary.org
SUMMARY:Writing Circle
DESCRIPTION:Enjoy quiet time and space for your own narrations
URL:https://www.esterlibrary.org/event/writing-circle-2/2024-06-16/
END:VEVENT
BEGIN:VEVENT
DTSTART;TZID=America/Anchorage:20240617T150000
DTEND;TZID=America/Anchorage:20240617T180000
DTSTAMP:20260425T073324
CREATED:20240101T214601Z
LAST-MODIFIED:20250111T222726Z
UID:10000335-1718636400-1718647200@www.esterlibrary.org
SUMMARY:Monday Open hours
DESCRIPTION:
URL:https://www.esterlibrary.org/event/open-hours-7/2024-06-17/
END:VEVENT
BEGIN:VEVENT
DTSTART;TZID=America/Anchorage:20240620T030332
DTEND;TZID=America/Anchorage:20240620T030332
DTSTAMP:20260425T073324
CREATED:20240306T191828Z
LAST-MODIFIED:20240620T030332Z
UID:10000134-1718852612-1718852612@www.esterlibrary.org
SUMMARY:Open Hours
DESCRIPTION:
URL:https://www.esterlibrary.org/event/open-hours-geb-program-specialist-2024-07-04/
END:VEVENT
BEGIN:VEVENT
DTSTART;TZID=America/Anchorage:20240620T160000
DTEND;TZID=America/Anchorage:20240620T190000
DTSTAMP:20260425T073324
CREATED:20240306T191828Z
LAST-MODIFIED:20241130T043930Z
UID:10000098-1718899200-1718910000@www.esterlibrary.org
SUMMARY:Open Hours
DESCRIPTION:
URL:https://www.esterlibrary.org/event/open-hours-geb-program-specialist/2024-06-20/
END:VEVENT
BEGIN:VEVENT
DTSTART;TZID=America/Anchorage:20240622T130000
DTEND;TZID=America/Anchorage:20240622T160000
DTSTAMP:20260425T073324
CREATED:20240101T215150Z
LAST-MODIFIED:20241202T214419Z
UID:10000427-1719061200-1719072000@www.esterlibrary.org
SUMMARY:Open hours
DESCRIPTION:
URL:https://www.esterlibrary.org/event/open-hours-16/2024-06-22/
END:VEVENT
BEGIN:VEVENT
DTSTART;TZID=America/Anchorage:20240623T160000
DTEND;TZID=America/Anchorage:20240623T180000
DTSTAMP:20260425T073324
CREATED:20240101T212428Z
LAST-MODIFIED:20240813T035929Z
UID:10000238-1719158400-1719165600@www.esterlibrary.org
SUMMARY:Writing Circle
DESCRIPTION:Enjoy quiet time and space for your own narrations
URL:https://www.esterlibrary.org/event/writing-circle-2/2024-06-23/
END:VEVENT
BEGIN:VEVENT
DTSTART;TZID=America/Anchorage:20240624T150000
DTEND;TZID=America/Anchorage:20240624T180000
DTSTAMP:20260425T073324
CREATED:20240101T214601Z
LAST-MODIFIED:20250111T222726Z
UID:10000336-1719241200-1719252000@www.esterlibrary.org
SUMMARY:Monday Open hours
DESCRIPTION:
URL:https://www.esterlibrary.org/event/open-hours-7/2024-06-24/
END:VEVENT
BEGIN:VEVENT
DTSTART;TZID=America/Anchorage:20240627T160000
DTEND;TZID=America/Anchorage:20240627T190000
DTSTAMP:20260425T073324
CREATED:20240306T191828Z
LAST-MODIFIED:20241130T043930Z
UID:10000099-1719504000-1719514800@www.esterlibrary.org
SUMMARY:Open Hours
DESCRIPTION:
URL:https://www.esterlibrary.org/event/open-hours-geb-program-specialist/2024-06-27/
END:VEVENT
BEGIN:VEVENT
DTSTART;TZID=America/Anchorage:20240629T130000
DTEND;TZID=America/Anchorage:20240629T160000
DTSTAMP:20260425T073324
CREATED:20240101T215150Z
LAST-MODIFIED:20241202T214419Z
UID:10000428-1719666000-1719676800@www.esterlibrary.org
SUMMARY:Open hours
DESCRIPTION:
URL:https://www.esterlibrary.org/event/open-hours-16/2024-06-29/
END:VEVENT
BEGIN:VEVENT
DTSTART;TZID=America/Anchorage:20240630T160000
DTEND;TZID=America/Anchorage:20240630T180000
DTSTAMP:20260425T073324
CREATED:20240101T212428Z
LAST-MODIFIED:20240813T035929Z
UID:10000239-1719763200-1719770400@www.esterlibrary.org
SUMMARY:Writing Circle
DESCRIPTION:Enjoy quiet time and space for your own narrations
URL:https://www.esterlibrary.org/event/writing-circle-2/2024-06-30/
END:VEVENT
BEGIN:VEVENT
DTSTART;TZID=America/Anchorage:20240701T150000
DTEND;TZID=America/Anchorage:20240701T180000
DTSTAMP:20260425T073324
CREATED:20240101T214601Z
LAST-MODIFIED:20250111T222726Z
UID:10000337-1719846000-1719856800@www.esterlibrary.org
SUMMARY:Monday Open hours
DESCRIPTION:
URL:https://www.esterlibrary.org/event/open-hours-7/2024-07-01/
END:VEVENT
BEGIN:VEVENT
DTSTART;TZID=America/Anchorage:20240704T000000
DTEND;TZID=America/Anchorage:20240704T000000
DTSTAMP:20260425T073324
CREATED:20240620T030450Z
LAST-MODIFIED:20240620T030450Z
UID:10000482-1720051200-1720051200@www.esterlibrary.org
SUMMARY:Happy 4th of July
DESCRIPTION:
URL:https://www.esterlibrary.org/event/happy-4th-of-july/
END:VEVENT
BEGIN:VEVENT
DTSTART;TZID=America/Anchorage:20240706T130000
DTEND;TZID=America/Anchorage:20240706T160000
DTSTAMP:20260425T073324
CREATED:20240101T215150Z
LAST-MODIFIED:20241202T214419Z
UID:10000429-1720270800-1720281600@www.esterlibrary.org
SUMMARY:Open hours
DESCRIPTION:
URL:https://www.esterlibrary.org/event/open-hours-16/2024-07-06/
END:VEVENT
BEGIN:VEVENT
DTSTART;TZID=America/Anchorage:20240706T150000
DTEND;TZID=America/Anchorage:20240706T170000
DTSTAMP:20260425T073324
CREATED:20240513T074023Z
LAST-MODIFIED:20240620T034038Z
UID:10000481-1720278000-1720285200@www.esterlibrary.org
SUMMARY:Book Club
DESCRIPTION:Hidden in Snow by Viveca Sten \nThe splendor of the Swedish mountains becomes the backdrop for a bone-chilling crime. \nOn the day Stockholm police officer Hanna Ahlander’s personal and professional lives crash\, she takes refuge at her sister’s lodge in the Swedish ski resort paradise of Åre. But it’s a brief comfort. The entire village is shaken by the sudden vanishing of a local teenage girl. Hanna can’t help but investigate\, and while searching for the missing person\, she lands a job with the local police department. There she joins forces with Detective Inspector Daniel Lindskog\, who has been tasked with finding the girl. Their only lead: a scarf in the snow. \nAs subzero temperatures drop even further\, a treacherous blizzard sweeps toward Åre. Hanna and Daniel’s investigation is getting more desperate by the hour. Lost or abducted\, either way time is running out for the missing girl. Each new clue closes in on something far more sinister than either Hanna or Daniel imagined. In this devious novel by the bestselling author of the Sandhamn Murders series\, discover what it will take to solve a case when the truth can be so easily hidden in the coming storm.
URL:https://www.esterlibrary.org/event/book-club-6/
LOCATION:Clausen Cabin\, 3629 Main Street\, Ester\, 99725
CATEGORIES:Events
END:VEVENT
BEGIN:VEVENT
DTSTART;TZID=America/Anchorage:20240707T160000
DTEND;TZID=America/Anchorage:20240707T180000
DTSTAMP:20260425T073324
CREATED:20240101T212428Z
LAST-MODIFIED:20240813T035929Z
UID:10000240-1720368000-1720375200@www.esterlibrary.org
SUMMARY:Writing Circle
DESCRIPTION:Enjoy quiet time and space for your own narrations
URL:https://www.esterlibrary.org/event/writing-circle-2/2024-07-07/
END:VEVENT
BEGIN:VEVENT
DTSTART;TZID=America/Anchorage:20240708T150000
DTEND;TZID=America/Anchorage:20240708T180000
DTSTAMP:20260425T073324
CREATED:20240101T214601Z
LAST-MODIFIED:20250111T222726Z
UID:10000338-1720450800-1720461600@www.esterlibrary.org
SUMMARY:Monday Open hours
DESCRIPTION:
URL:https://www.esterlibrary.org/event/open-hours-7/2024-07-08/
END:VEVENT
END:VCALENDAR