BEGIN:VCALENDAR
VERSION:2.0
PRODID:-//Ester Village Library - ECPv6.15.20//NONSGML v1.0//EN
CALSCALE:GREGORIAN
METHOD:PUBLISH
X-WR-CALNAME:Ester Village Library
X-ORIGINAL-URL:https://www.esterlibrary.org
X-WR-CALDESC:Events for Ester Village Library
REFRESH-INTERVAL;VALUE=DURATION:PT1H
X-Robots-Tag:noindex
X-PUBLISHED-TTL:PT1H
BEGIN:VTIMEZONE
TZID:America/Anchorage
BEGIN:DAYLIGHT
TZOFFSETFROM:-0900
TZOFFSETTO:-0800
TZNAME:AKDT
DTSTART:20240310T110000
END:DAYLIGHT
BEGIN:STANDARD
TZOFFSETFROM:-0800
TZOFFSETTO:-0900
TZNAME:AKST
DTSTART:20241103T100000
END:STANDARD
BEGIN:DAYLIGHT
TZOFFSETFROM:-0900
TZOFFSETTO:-0800
TZNAME:AKDT
DTSTART:20250309T110000
END:DAYLIGHT
BEGIN:STANDARD
TZOFFSETFROM:-0800
TZOFFSETTO:-0900
TZNAME:AKST
DTSTART:20251102T100000
END:STANDARD
BEGIN:DAYLIGHT
TZOFFSETFROM:-0900
TZOFFSETTO:-0800
TZNAME:AKDT
DTSTART:20260308T110000
END:DAYLIGHT
BEGIN:STANDARD
TZOFFSETFROM:-0800
TZOFFSETTO:-0900
TZNAME:AKST
DTSTART:20261101T100000
END:STANDARD
END:VTIMEZONE
BEGIN:VEVENT
DTSTART;TZID=America/Anchorage:20250915T150000
DTEND;TZID=America/Anchorage:20250915T180000
DTSTAMP:20260423T231303
CREATED:20250902T200222Z
LAST-MODIFIED:20250902T200222Z
UID:10001070-1757948400-1757959200@www.esterlibrary.org
SUMMARY:Kid's art and crafts
DESCRIPTION:
URL:https://www.esterlibrary.org/event/kids-art-and-crafts/2025-09-15/
CATEGORIES:Events
END:VEVENT
BEGIN:VEVENT
DTSTART;TZID=America/Anchorage:20250914T160000
DTEND;TZID=America/Anchorage:20250914T180000
DTSTAMP:20260423T231303
CREATED:20250422T012127Z
LAST-MODIFIED:20250422T012127Z
UID:10000612-1757865600-1757872800@www.esterlibrary.org
SUMMARY:Writing Circle/Open hours
DESCRIPTION:
URL:https://www.esterlibrary.org/event/writing-circle-open-hours/2025-09-14/
LOCATION:Clausen Cabin\, 3629 Main Street\, Ester\, 99725
CATEGORIES:Events
END:VEVENT
BEGIN:VEVENT
DTSTART;TZID=America/Anchorage:20250913T143000
DTEND;TZID=America/Anchorage:20250913T160000
DTSTAMP:20260423T231303
CREATED:20250422T013952Z
LAST-MODIFIED:20250422T013952Z
UID:10000913-1757773800-1757779200@www.esterlibrary.org
SUMMARY:Children's Book Club
DESCRIPTION:
URL:https://www.esterlibrary.org/event/childrens-book-club-3/2025-09-13/
CATEGORIES:Events
END:VEVENT
BEGIN:VEVENT
DTSTART;TZID=America/Anchorage:20250913T130000
DTEND;TZID=America/Anchorage:20250913T160000
DTSTAMP:20260423T231303
CREATED:20250422T013406Z
LAST-MODIFIED:20250422T013406Z
UID:10000802-1757768400-1757779200@www.esterlibrary.org
SUMMARY:Open Hours
DESCRIPTION:
URL:https://www.esterlibrary.org/event/open-hours-21/2025-09-13/
END:VEVENT
BEGIN:VEVENT
DTSTART;TZID=America/Anchorage:20250913T120000
DTEND;TZID=America/Anchorage:20250913T140000
DTSTAMP:20260423T231303
CREATED:20250902T194421Z
LAST-MODIFIED:20250902T194421Z
UID:10001064-1757764800-1757772000@www.esterlibrary.org
SUMMARY:Annual Fall Garlic Sale
DESCRIPTION:
URL:https://www.esterlibrary.org/event/annual-fall-garlic-sale/
LOCATION:Clausen Cabin\, 3629 Main Street\, Ester\, 99725
CATEGORIES:Announcements,Events
END:VEVENT
BEGIN:VEVENT
DTSTART;TZID=America/Anchorage:20250911T180000
DTEND;TZID=America/Anchorage:20250911T200000
DTSTAMP:20260423T231303
CREATED:20250902T195250Z
LAST-MODIFIED:20250902T195250Z
UID:10001067-1757613600-1757620800@www.esterlibrary.org
SUMMARY:Adult paint workshop
DESCRIPTION:Join us for some fun times painting whatever your heart desires!
URL:https://www.esterlibrary.org/event/adult-paint-workshop/2025-09-11/
LOCATION:Clausen Cabin\, 3629 Main Street\, Ester\, 99725
CATEGORIES:Events
END:VEVENT
BEGIN:VEVENT
DTSTART;TZID=America/Anchorage:20250910T170000
DTEND;TZID=America/Anchorage:20250910T190000
DTSTAMP:20260423T231303
CREATED:20250603T202451Z
LAST-MODIFIED:20250603T202451Z
UID:10000954-1757523600-1757530800@www.esterlibrary.org
SUMMARY:Open Hours
DESCRIPTION:
URL:https://www.esterlibrary.org/event/open-hours-20/2025-09-10/
END:VEVENT
BEGIN:VEVENT
DTSTART;TZID=America/Anchorage:20250909T160000
DTEND;TZID=America/Anchorage:20250909T190000
DTSTAMP:20260423T231303
CREATED:20250803T060121Z
LAST-MODIFIED:20250803T060122Z
UID:10001014-1757433600-1757444400@www.esterlibrary.org
SUMMARY:Knit Night/Open Hours
DESCRIPTION:
URL:https://www.esterlibrary.org/event/knit-night-open-hours-2/2025-09-09/
CATEGORIES:Events
END:VEVENT
BEGIN:VEVENT
DTSTART;TZID=America/Anchorage:20250908T150000
DTEND;TZID=America/Anchorage:20250908T180000
DTSTAMP:20260423T231303
CREATED:20250422T013141Z
LAST-MODIFIED:20250902T200038Z
UID:10000654-1757343600-1757354400@www.esterlibrary.org
SUMMARY:Back to School Ice Cream Social
DESCRIPTION:Join us this week for ice cream!
URL:https://www.esterlibrary.org/event/open-hours-art-workshop/
LOCATION:Clausen Cabin\, 3629 Main Street\, Ester\, 99725
CATEGORIES:Events
END:VEVENT
BEGIN:VEVENT
DTSTART;TZID=America/Anchorage:20250907T160000
DTEND;TZID=America/Anchorage:20250907T180000
DTSTAMP:20260423T231303
CREATED:20250422T012127Z
LAST-MODIFIED:20250422T012127Z
UID:10000611-1757260800-1757268000@www.esterlibrary.org
SUMMARY:Writing Circle/Open hours
DESCRIPTION:
URL:https://www.esterlibrary.org/event/writing-circle-open-hours/2025-09-07/
LOCATION:Clausen Cabin\, 3629 Main Street\, Ester\, 99725
CATEGORIES:Events
END:VEVENT
BEGIN:VEVENT
DTSTART;TZID=America/Anchorage:20250906T160000
DTEND;TZID=America/Anchorage:20250906T170000
DTSTAMP:20260423T231303
CREATED:20250902T210015Z
LAST-MODIFIED:20250902T210015Z
UID:10001140-1757174400-1757178000@www.esterlibrary.org
SUMMARY:Lynda Sather\, local author\, presentation
DESCRIPTION:  \nJoin us to hear local author Lynda Sather talk about her latest book\,” A Smack of Jellyfish: Fear\, Fish and Finding Yourself in Alaska”\, a coming-of-age story about a young woman experiencing Petersburg\, Alaska for the first time in 1973. \nThis will be a 20-minute talk about her book\, and the process of writing fiction versus memoir\, followed by a Q & A session afterwards. \nHere is more of a description of the book: \nA Smack of Jellyfish \n 
URL:https://www.esterlibrary.org/event/lynda-sather-local-author-presentation/
CATEGORIES:Announcements,Events
END:VEVENT
BEGIN:VEVENT
DTSTART;TZID=America/Anchorage:20250906T150000
DTEND;TZID=America/Anchorage:20250906T160000
DTSTAMP:20260423T231303
CREATED:20250803T060453Z
LAST-MODIFIED:20250902T204122Z
UID:10001061-1757170800-1757174400@www.esterlibrary.org
SUMMARY:Adult Book Club
DESCRIPTION:The Sisters Brothers\, by Patrick deWitt \nFrom Amazon: \nHermann Kermit Warm is going to die. The enigmatic and powerful man known only as the Commodore has ordered it\, and his henchmen\, Eli and Charlie Sisters\, will make sure of it. Though Eli doesn’t share his brother’s appetite for whiskey and killing\, he’s never known anything else. But their prey isn’t an easy mark\, and on the road from Oregon City to Warm’s gold-mining claim outside Sacramento\, Eli begins to question what he does for a living-and whom he does it for. \nWith The Sisters Brothers\, Patrick deWitt pays homage to the classic Western\, transforming it into an unforgettable comic tour de force. Filled with a remarkable cast of characters-losers\, cheaters\, and ne’er-do-wells from all stripes of life-and told by a complex and compelling narrator\, it is a violent\, lustful odyssey through the underworld of the 1850s frontier that beautifully captures the humor\, melancholy\, and grit of the Old West and two brothers bound by blood\, violence\, and love.
URL:https://www.esterlibrary.org/event/adult-book-club-4/
LOCATION:Clausen Cabin\, 3629 Main Street\, Ester\, 99725
CATEGORIES:Events
END:VEVENT
BEGIN:VEVENT
DTSTART;TZID=America/Anchorage:20250906T130000
DTEND;TZID=America/Anchorage:20250906T160000
DTSTAMP:20260423T231303
CREATED:20250422T013406Z
LAST-MODIFIED:20250422T013406Z
UID:10000801-1757163600-1757174400@www.esterlibrary.org
SUMMARY:Open Hours
DESCRIPTION:
URL:https://www.esterlibrary.org/event/open-hours-21/2025-09-06/
END:VEVENT
BEGIN:VEVENT
DTSTART;TZID=America/Anchorage:20250904T180000
DTEND;TZID=America/Anchorage:20250904T200000
DTSTAMP:20260423T231303
CREATED:20250902T195250Z
LAST-MODIFIED:20250902T195250Z
UID:10001066-1757008800-1757016000@www.esterlibrary.org
SUMMARY:Adult paint workshop
DESCRIPTION:Join us for some fun times painting whatever your heart desires!
URL:https://www.esterlibrary.org/event/adult-paint-workshop/2025-09-04/
LOCATION:Clausen Cabin\, 3629 Main Street\, Ester\, 99725
CATEGORIES:Events
END:VEVENT
BEGIN:VEVENT
DTSTART;TZID=America/Anchorage:20250903T170000
DTEND;TZID=America/Anchorage:20250903T190000
DTSTAMP:20260423T231303
CREATED:20250603T202451Z
LAST-MODIFIED:20250603T202451Z
UID:10000953-1756918800-1756926000@www.esterlibrary.org
SUMMARY:Open Hours
DESCRIPTION:
URL:https://www.esterlibrary.org/event/open-hours-20/2025-09-03/
END:VEVENT
BEGIN:VEVENT
DTSTART;TZID=America/Anchorage:20250902T160000
DTEND;TZID=America/Anchorage:20250902T190000
DTSTAMP:20260423T231303
CREATED:20250803T060121Z
LAST-MODIFIED:20250803T060122Z
UID:10001013-1756828800-1756839600@www.esterlibrary.org
SUMMARY:Knit Night/Open Hours
DESCRIPTION:
URL:https://www.esterlibrary.org/event/knit-night-open-hours-2/2025-09-02/
CATEGORIES:Events
END:VEVENT
BEGIN:VEVENT
DTSTART;TZID=America/Anchorage:20250831T160000
DTEND;TZID=America/Anchorage:20250831T180000
DTSTAMP:20260423T231303
CREATED:20250422T012127Z
LAST-MODIFIED:20250422T012127Z
UID:10000610-1756656000-1756663200@www.esterlibrary.org
SUMMARY:Writing Circle/Open hours
DESCRIPTION:
URL:https://www.esterlibrary.org/event/writing-circle-open-hours/2025-08-31/
LOCATION:Clausen Cabin\, 3629 Main Street\, Ester\, 99725
CATEGORIES:Events
END:VEVENT
BEGIN:VEVENT
DTSTART;TZID=America/Anchorage:20250830T130000
DTEND;TZID=America/Anchorage:20250830T160000
DTSTAMP:20260423T231303
CREATED:20250422T013406Z
LAST-MODIFIED:20250422T013406Z
UID:10000800-1756558800-1756569600@www.esterlibrary.org
SUMMARY:Open Hours
DESCRIPTION:
URL:https://www.esterlibrary.org/event/open-hours-21/2025-08-30/
END:VEVENT
BEGIN:VEVENT
DTSTART;TZID=America/Anchorage:20250828T180000
DTEND;TZID=America/Anchorage:20250828T200000
DTSTAMP:20260423T231303
CREATED:20250803T055825Z
LAST-MODIFIED:20250803T055825Z
UID:10001009-1756404000-1756411200@www.esterlibrary.org
SUMMARY:Paint-in
DESCRIPTION:Come join us for an adult paint workshop!
URL:https://www.esterlibrary.org/event/paint-in/2025-08-28/
LOCATION:Clausen Cabin\, 3629 Main Street\, Ester\, 99725
CATEGORIES:Events
END:VEVENT
BEGIN:VEVENT
DTSTART;TZID=America/Anchorage:20250827T170000
DTEND;TZID=America/Anchorage:20250827T190000
DTSTAMP:20260423T231303
CREATED:20250603T202451Z
LAST-MODIFIED:20250603T202451Z
UID:10000952-1756314000-1756321200@www.esterlibrary.org
SUMMARY:Open Hours
DESCRIPTION:
URL:https://www.esterlibrary.org/event/open-hours-20/2025-08-27/
END:VEVENT
BEGIN:VEVENT
DTSTART;TZID=America/Anchorage:20250826T160000
DTEND;TZID=America/Anchorage:20250826T190000
DTSTAMP:20260423T231303
CREATED:20250803T060121Z
LAST-MODIFIED:20250803T060122Z
UID:10001012-1756224000-1756234800@www.esterlibrary.org
SUMMARY:Knit Night/Open Hours
DESCRIPTION:
URL:https://www.esterlibrary.org/event/knit-night-open-hours-2/2025-08-26/
CATEGORIES:Events
END:VEVENT
BEGIN:VEVENT
DTSTART;TZID=America/Anchorage:20250825T183000
DTEND;TZID=America/Anchorage:20250825T203000
DTSTAMP:20260423T231303
CREATED:20250803T061610Z
LAST-MODIFIED:20250803T061610Z
UID:10001063-1756146600-1756153800@www.esterlibrary.org
SUMMARY:Monthly Board Meeting
DESCRIPTION:
URL:https://www.esterlibrary.org/event/monthly-board-meeting/
LOCATION:Clausen Cabin\, 3629 Main Street\, Ester\, 99725
CATEGORIES:Board,Meetings
END:VEVENT
BEGIN:VEVENT
DTSTART;TZID=America/Anchorage:20250824T160000
DTEND;TZID=America/Anchorage:20250824T180000
DTSTAMP:20260423T231303
CREATED:20250422T012127Z
LAST-MODIFIED:20250422T012127Z
UID:10000609-1756051200-1756058400@www.esterlibrary.org
SUMMARY:Writing Circle/Open hours
DESCRIPTION:
URL:https://www.esterlibrary.org/event/writing-circle-open-hours/2025-08-24/
LOCATION:Clausen Cabin\, 3629 Main Street\, Ester\, 99725
CATEGORIES:Events
END:VEVENT
BEGIN:VEVENT
DTSTART;TZID=America/Anchorage:20250823T143000
DTEND;TZID=America/Anchorage:20250823T160000
DTSTAMP:20260423T231303
CREATED:20250422T014054Z
LAST-MODIFIED:20250422T014054Z
UID:10000927-1755959400-1755964800@www.esterlibrary.org
SUMMARY:Children's Book Club
DESCRIPTION:
URL:https://www.esterlibrary.org/event/childrens-book-club-4/2025-08-23/
CATEGORIES:Events
END:VEVENT
BEGIN:VEVENT
DTSTART;TZID=America/Anchorage:20250823T130000
DTEND;TZID=America/Anchorage:20250823T160000
DTSTAMP:20260423T231303
CREATED:20250422T013406Z
LAST-MODIFIED:20250422T013406Z
UID:10000799-1755954000-1755964800@www.esterlibrary.org
SUMMARY:Open Hours
DESCRIPTION:
URL:https://www.esterlibrary.org/event/open-hours-21/2025-08-23/
END:VEVENT
BEGIN:VEVENT
DTSTART;TZID=America/Anchorage:20250821T180000
DTEND;TZID=America/Anchorage:20250821T200000
DTSTAMP:20260423T231303
CREATED:20250803T055825Z
LAST-MODIFIED:20250803T055825Z
UID:10001008-1755799200-1755806400@www.esterlibrary.org
SUMMARY:Paint-in
DESCRIPTION:Come join us for an adult paint workshop!
URL:https://www.esterlibrary.org/event/paint-in/2025-08-21/
LOCATION:Clausen Cabin\, 3629 Main Street\, Ester\, 99725
CATEGORIES:Events
END:VEVENT
BEGIN:VEVENT
DTSTART;TZID=America/Anchorage:20250820T170000
DTEND;TZID=America/Anchorage:20250820T190000
DTSTAMP:20260423T231303
CREATED:20250603T202451Z
LAST-MODIFIED:20250603T202451Z
UID:10000951-1755709200-1755716400@www.esterlibrary.org
SUMMARY:Open Hours
DESCRIPTION:
URL:https://www.esterlibrary.org/event/open-hours-20/2025-08-20/
END:VEVENT
BEGIN:VEVENT
DTSTART;TZID=America/Anchorage:20250819T160000
DTEND;TZID=America/Anchorage:20250819T190000
DTSTAMP:20260423T231303
CREATED:20250803T060121Z
LAST-MODIFIED:20250803T060122Z
UID:10001011-1755619200-1755630000@www.esterlibrary.org
SUMMARY:Knit Night/Open Hours
DESCRIPTION:
URL:https://www.esterlibrary.org/event/knit-night-open-hours-2/2025-08-19/
CATEGORIES:Events
END:VEVENT
BEGIN:VEVENT
DTSTART;TZID=America/Anchorage:20250817T160000
DTEND;TZID=America/Anchorage:20250817T180000
DTSTAMP:20260423T231303
CREATED:20250422T012127Z
LAST-MODIFIED:20250422T012127Z
UID:10000608-1755446400-1755453600@www.esterlibrary.org
SUMMARY:Writing Circle/Open hours
DESCRIPTION:
URL:https://www.esterlibrary.org/event/writing-circle-open-hours/2025-08-17/
LOCATION:Clausen Cabin\, 3629 Main Street\, Ester\, 99725
CATEGORIES:Events
END:VEVENT
BEGIN:VEVENT
DTSTART;TZID=America/Anchorage:20250816T130000
DTEND;TZID=America/Anchorage:20250816T160000
DTSTAMP:20260423T231303
CREATED:20250422T013406Z
LAST-MODIFIED:20250422T013406Z
UID:10000798-1755349200-1755360000@www.esterlibrary.org
SUMMARY:Open Hours
DESCRIPTION:
URL:https://www.esterlibrary.org/event/open-hours-21/2025-08-16/
END:VEVENT
END:VCALENDAR