BEGIN:VCALENDAR
VERSION:2.0
PRODID:-//Ester Village Library - ECPv6.15.20//NONSGML v1.0//EN
CALSCALE:GREGORIAN
METHOD:PUBLISH
X-WR-CALNAME:Ester Village Library
X-ORIGINAL-URL:https://www.esterlibrary.org
X-WR-CALDESC:Events for Ester Village Library
REFRESH-INTERVAL;VALUE=DURATION:PT1H
X-Robots-Tag:noindex
X-PUBLISHED-TTL:PT1H
BEGIN:VTIMEZONE
TZID:America/Anchorage
BEGIN:DAYLIGHT
TZOFFSETFROM:-0900
TZOFFSETTO:-0800
TZNAME:AKDT
DTSTART:20160313T110000
END:DAYLIGHT
BEGIN:STANDARD
TZOFFSETFROM:-0800
TZOFFSETTO:-0900
TZNAME:AKST
DTSTART:20161106T100000
END:STANDARD
BEGIN:DAYLIGHT
TZOFFSETFROM:-0900
TZOFFSETTO:-0800
TZNAME:AKDT
DTSTART:20170312T110000
END:DAYLIGHT
BEGIN:STANDARD
TZOFFSETFROM:-0800
TZOFFSETTO:-0900
TZNAME:AKST
DTSTART:20171105T100000
END:STANDARD
BEGIN:DAYLIGHT
TZOFFSETFROM:-0900
TZOFFSETTO:-0800
TZNAME:AKDT
DTSTART:20180311T110000
END:DAYLIGHT
BEGIN:STANDARD
TZOFFSETFROM:-0800
TZOFFSETTO:-0900
TZNAME:AKST
DTSTART:20181104T100000
END:STANDARD
BEGIN:DAYLIGHT
TZOFFSETFROM:-0900
TZOFFSETTO:-0800
TZNAME:AKDT
DTSTART:20190310T110000
END:DAYLIGHT
BEGIN:STANDARD
TZOFFSETFROM:-0800
TZOFFSETTO:-0900
TZNAME:AKST
DTSTART:20191103T100000
END:STANDARD
BEGIN:DAYLIGHT
TZOFFSETFROM:-0900
TZOFFSETTO:-0800
TZNAME:AKDT
DTSTART:20200308T110000
END:DAYLIGHT
BEGIN:STANDARD
TZOFFSETFROM:-0800
TZOFFSETTO:-0900
TZNAME:AKST
DTSTART:20201101T100000
END:STANDARD
BEGIN:DAYLIGHT
TZOFFSETFROM:-0900
TZOFFSETTO:-0800
TZNAME:AKDT
DTSTART:20210314T110000
END:DAYLIGHT
BEGIN:STANDARD
TZOFFSETFROM:-0800
TZOFFSETTO:-0900
TZNAME:AKST
DTSTART:20211107T100000
END:STANDARD
BEGIN:DAYLIGHT
TZOFFSETFROM:-0900
TZOFFSETTO:-0800
TZNAME:AKDT
DTSTART:20220313T110000
END:DAYLIGHT
BEGIN:STANDARD
TZOFFSETFROM:-0800
TZOFFSETTO:-0900
TZNAME:AKST
DTSTART:20221106T100000
END:STANDARD
BEGIN:DAYLIGHT
TZOFFSETFROM:-0900
TZOFFSETTO:-0800
TZNAME:AKDT
DTSTART:20230312T110000
END:DAYLIGHT
BEGIN:STANDARD
TZOFFSETFROM:-0800
TZOFFSETTO:-0900
TZNAME:AKST
DTSTART:20231105T100000
END:STANDARD
BEGIN:DAYLIGHT
TZOFFSETFROM:-0900
TZOFFSETTO:-0800
TZNAME:AKDT
DTSTART:20240310T110000
END:DAYLIGHT
BEGIN:STANDARD
TZOFFSETFROM:-0800
TZOFFSETTO:-0900
TZNAME:AKST
DTSTART:20241103T100000
END:STANDARD
BEGIN:DAYLIGHT
TZOFFSETFROM:-0900
TZOFFSETTO:-0800
TZNAME:AKDT
DTSTART:20250309T110000
END:DAYLIGHT
BEGIN:STANDARD
TZOFFSETFROM:-0800
TZOFFSETTO:-0900
TZNAME:AKST
DTSTART:20251102T100000
END:STANDARD
END:VTIMEZONE
BEGIN:VEVENT
DTSTART;TZID=America/Anchorage:20240111T160000
DTEND;TZID=America/Anchorage:20240111T190000
DTSTAMP:20260425T073436
CREATED:20240101T213941Z
LAST-MODIFIED:20240101T214455Z
UID:10000311-1704988800-1704999600@www.esterlibrary.org
SUMMARY:Open hours
DESCRIPTION:
URL:https://www.esterlibrary.org/event/open-hours-4/
END:VEVENT
BEGIN:VEVENT
DTSTART;TZID=America/Anchorage:20240110T150000
DTEND;TZID=America/Anchorage:20240110T180000
DTSTAMP:20260425T073436
CREATED:20240101T213835Z
LAST-MODIFIED:20240101T213835Z
UID:10000309-1704898800-1704909600@www.esterlibrary.org
SUMMARY:Open hours
DESCRIPTION:
URL:https://www.esterlibrary.org/event/open-hours-2/
END:VEVENT
BEGIN:VEVENT
DTSTART;TZID=America/Anchorage:20240109T150000
DTEND;TZID=America/Anchorage:20240109T190000
DTSTAMP:20260425T073436
CREATED:20240101T213129Z
LAST-MODIFIED:20240104T023947Z
UID:10000286-1704812400-1704826800@www.esterlibrary.org
SUMMARY:Knit Night
DESCRIPTION:
URL:https://www.esterlibrary.org/event/knit-night-2/
END:VEVENT
BEGIN:VEVENT
DTSTART;TZID=America/Anchorage:20240108T150000
DTEND;TZID=America/Anchorage:20240108T180000
DTSTAMP:20260425T073436
CREATED:20240101T214709Z
LAST-MODIFIED:20240101T214709Z
UID:10000397-1704726000-1704736800@www.esterlibrary.org
SUMMARY:Open hours
DESCRIPTION:
URL:https://www.esterlibrary.org/event/open-hours-8/
END:VEVENT
BEGIN:VEVENT
DTSTART;TZID=America/Anchorage:20240107T160000
DTEND;TZID=America/Anchorage:20240107T180000
DTSTAMP:20260425T073436
CREATED:20240101T212428Z
LAST-MODIFIED:20240813T035929Z
UID:10000214-1704643200-1704650400@www.esterlibrary.org
SUMMARY:Writing Circle
DESCRIPTION:Enjoy quiet time and space for your own narrations
URL:https://www.esterlibrary.org/event/writing-circle-2/2024-01-07/
END:VEVENT
BEGIN:VEVENT
DTSTART;TZID=America/Anchorage:20240106T153000
DTEND;TZID=America/Anchorage:20240106T170000
DTSTAMP:20260425T073436
CREATED:20240101T215751Z
LAST-MODIFIED:20240104T024221Z
UID:10000473-1704555000-1704560400@www.esterlibrary.org
SUMMARY:Book Club
DESCRIPTION:We’ll be discussing “Happiness is a Choice You Make\, Lessons from a Year Amongst the Oldest Old”\, by John Leland \n 
URL:https://www.esterlibrary.org/event/book-club/
LOCATION:Clausen Cabin\, 3629 Main Street\, Ester\, 99725
END:VEVENT
BEGIN:VEVENT
DTSTART;TZID=America/Anchorage:20240106T130000
DTEND;TZID=America/Anchorage:20240106T160000
DTSTAMP:20260425T073436
CREATED:20240101T215040Z
LAST-MODIFIED:20240101T215040Z
UID:10000403-1704546000-1704556800@www.esterlibrary.org
SUMMARY:Open hours
DESCRIPTION:
URL:https://www.esterlibrary.org/event/open-hours-13/
END:VEVENT
BEGIN:VEVENT
DTSTART;TZID=America/Anchorage:20240104T160000
DTEND;TZID=America/Anchorage:20240104T190000
DTSTAMP:20260425T073436
CREATED:20240101T214030Z
LAST-MODIFIED:20240101T214401Z
UID:10000313-1704384000-1704394800@www.esterlibrary.org
SUMMARY:Open hours
DESCRIPTION:
URL:https://www.esterlibrary.org/event/open-hours-6/
END:VEVENT
BEGIN:VEVENT
DTSTART;TZID=America/Anchorage:20240103T150000
DTEND;TZID=America/Anchorage:20240103T180000
DTSTAMP:20260425T073436
CREATED:20240101T213721Z
LAST-MODIFIED:20240101T213721Z
UID:10000308-1704294000-1704304800@www.esterlibrary.org
SUMMARY:Open hours
DESCRIPTION:
URL:https://www.esterlibrary.org/event/open-hours/
END:VEVENT
BEGIN:VEVENT
DTSTART;TZID=America/Anchorage:20240102T160000
DTEND;TZID=America/Anchorage:20240102T190000
DTSTAMP:20260425T073436
CREATED:20240101T213014Z
LAST-MODIFIED:20240101T215313Z
UID:10000285-1704211200-1704222000@www.esterlibrary.org
SUMMARY:Knit Night
DESCRIPTION:
URL:https://www.esterlibrary.org/event/knit-night/
LOCATION:Clausen Cabin\, 3629 Main Street\, Ester\, 99725
END:VEVENT
BEGIN:VEVENT
DTSTART;TZID=America/Anchorage:20191031T183000
DTEND;TZID=America/Anchorage:20191031T200000
DTSTAMP:20260425T073436
CREATED:20191023T023609Z
LAST-MODIFIED:20191023T023609Z
UID:10000184-1572546600-1572552000@www.esterlibrary.org
SUMMARY:Halloween 2019
DESCRIPTION:Will you be out Trick-or-Treating on Halloween night?  \nStop into the Clausen Cabin between 6:30 and 8 p.m. to warm up\, find a treat or check-out a cool book.
URL:https://www.esterlibrary.org/event/halloween-2019/
LOCATION:Clausen Cabin\, 3629 Main Street\, Ester\, 99725
END:VEVENT
BEGIN:VEVENT
DTSTART;TZID=America/Anchorage:20191020T040000
DTEND;TZID=America/Anchorage:20191020T170000
DTSTAMP:20260425T073436
CREATED:20191023T023459Z
LAST-MODIFIED:20191023T023459Z
UID:10000180-1571544000-1571590800@www.esterlibrary.org
SUMMARY:Annual Meeting 2019
DESCRIPTION:The John Trigg Ester Library Annual Meeting will be held Sunday\, October 20\, at 4 p.m. in the Clausen Cabin. We will review annual reports and elect new board members. Please join us and learn more about the fantastic progress being made at the Ester library. Interested in becoming a member? Learn more at https://www.esterlibrary.org/about/board/
URL:https://www.esterlibrary.org/event/annual-meeting-2019/
LOCATION:Clausen Cabin\, 3629 Main Street\, Ester\, 99725
END:VEVENT
BEGIN:VEVENT
DTSTART;TZID=America/Anchorage:20181127T180000
DTEND;TZID=America/Anchorage:20181127T200000
DTSTAMP:20260425T073436
CREATED:20181121T040117Z
LAST-MODIFIED:20181121T040117Z
UID:10000179-1543341600-1543348800@www.esterlibrary.org
SUMMARY:#GivingTuesday
DESCRIPTION:Stop by on #GivingTuesday to learn more about ways to support your local library.
URL:https://www.esterlibrary.org/event/givingtuesday-2/
LOCATION:Clausen Cabin\, 3629 Main Street\, Ester\, 99725
ORGANIZER;CN="Monique Musick":MAILTO:momusick at hotmail.com
END:VEVENT
BEGIN:VEVENT
DTSTART;TZID=America/Anchorage:20181028T140000
DTEND;TZID=America/Anchorage:20181028T160000
DTSTAMP:20260425T073436
CREATED:20180926T025227Z
LAST-MODIFIED:20181002T032715Z
UID:10000178-1540735200-1540742400@www.esterlibrary.org
SUMMARY:Annual Meeting 2018
DESCRIPTION:JTEL Annual membership meeting\n4 p.m. Sunday\, Oct. 28\, 2018\nClausen Cabin\, 3629 Main St. Ester \nPlease mark Sunday October 28\, from 2-4 on your calendar for the annual membership meeting. Items on the agenda include a recap of the past year\, what’s in store for next year\, and board member elections.
URL:https://www.esterlibrary.org/event/annual-meeting-2018/
LOCATION:Clausen Cabin\, 3629 Main Street\, Ester\, 99725
END:VEVENT
BEGIN:VEVENT
DTSTART;TZID=America/Anchorage:20180922T180000
DTEND;TZID=America/Anchorage:20180922T220000
DTSTAMP:20260425T073436
CREATED:20180829T030908Z
LAST-MODIFIED:20180829T030959Z
UID:10000177-1537639200-1537653600@www.esterlibrary.org
SUMMARY:2018 LiBerry Music Festival and Berry Pie Throwdown
DESCRIPTION:Come hear great music\, eat pie\, and support Ester’s local library! \nLIVE MUSIC featuring the Bac’untry Bruthers and PIE BY THE SLICE 6 p.m. – 10 p.m at the Golden Eagle Saloon in Ester. \nEntry $10\, pie $5 slice. All proceeds benefit the Ester library. \nPIE CONTEST 2 p.m. – 4 p.m. Clausen Cabin\nBring your berry pie creation to the Clausen Cabin between 2 p.m and 4 p.m. to enter the competition. JUDGING: will begin at 4 p.m. The cabin is at 3629 Main Street\, across from the Golden Eagle Saloon. \nBERRY IMPORTANT: Pie contest submissions must contain a berry of some kind. For rules and information visit: https://www.esterlibrary.org/programs-events/liberry-music-festival-berry-pie-throwdown/pie-throwdown/ \nLearn more about berries: http://esterlibrary.blogspot.com/2013/07/yumm \nWinning pies to be auctioned at the Golden Eagle ~8 p.m. \nDon’t want to compete? Bring your pie to the Golden Eagle Saloon between 5 p.m. and 6 p.m. to be served during the music performances.
URL:https://www.esterlibrary.org/event/2018-liberry-music-festival-and-berry-pie-throwdown/
END:VEVENT
BEGIN:VEVENT
DTSTART;TZID=America/Anchorage:20180519T210000
DTEND;TZID=America/Anchorage:20180519T235500
DTSTAMP:20260425T073436
CREATED:20180510T031253Z
LAST-MODIFIED:20180510T031253Z
UID:10000057-1526763600-1526774100@www.esterlibrary.org
SUMMARY:Superheroes Night Out
DESCRIPTION:Calling all Superheroes!\nWe welcome you to be our ally for the first ever Superheroes Night Out\, a fundraiser for the John Trigg Ester Library on May 19\, 2018. \nOur mild mannered\, small community library in Ester needs you to help us in our mission to benefit humanity and serve as a beacon of literacy in our community. \nSuperheroes Night Out includes a superhero costume contest\, a silent auction plus rocking music and dancing to Unsupervised at the Golden Eagle Saloon in the (fictional?) metropolis of Ester. \nSuperheroes must be 21.
URL:https://www.esterlibrary.org/event/superheroes-night-out/
END:VEVENT
BEGIN:VEVENT
DTSTART;TZID=America/Anchorage:20180103T183000
DTEND;TZID=America/Anchorage:20180103T203000
DTSTAMP:20260425T073436
CREATED:20171227T185032Z
LAST-MODIFIED:20171227T185032Z
UID:10000055-1515004200-1515011400@www.esterlibrary.org
SUMMARY:January Board Meeting
DESCRIPTION:
URL:https://www.esterlibrary.org/event/january-board-meeting/
LOCATION:Clausen Cabin\, 3629 Main Street\, Ester\, 99725
CATEGORIES:Board,Meetings
END:VEVENT
BEGIN:VEVENT
DTSTART;TZID=America/Anchorage:20171206T183000
DTEND;TZID=America/Anchorage:20171206T203000
DTSTAMP:20260425T073436
CREATED:20171127T193401Z
LAST-MODIFIED:20171127T193401Z
UID:10000053-1512585000-1512592200@www.esterlibrary.org
SUMMARY:December Board of Directors Meeting
DESCRIPTION:
URL:https://www.esterlibrary.org/event/december-board-of-directors-meeting/
LOCATION:Clausen Cabin\, 3629 Main Street\, Ester\, 99725
CATEGORIES:Board,Meetings
END:VEVENT
BEGIN:VEVENT
DTSTART;TZID=America/Anchorage:20171108T183000
DTEND;TZID=America/Anchorage:20171108T200000
DTSTAMP:20260425T073436
CREATED:20171107T033718Z
LAST-MODIFIED:20171107T033718Z
UID:10000051-1510165800-1510171200@www.esterlibrary.org
SUMMARY:Finance Committee meeting
DESCRIPTION:Finance Committee minutes September 4\, 2017 \n Old Business — Finance \nRestricted Funds accounting \n New Business \n\nOctober Finance reports\nBills\, income\, and reimbursements\n            Income – 2 memberships\, Pick-Click-Give\, 2 donations\, 1 with questions\n            Outgo – P.O. Box\, property taxes\, cataloging supplies\, Halloween kids’ event\n            Other expenses – Bluehost\nFundraising in November\nCRS 2018 proposed numbers\nBudget proposal\nPreparation of report for BOD meeting\n\nReview with new Treasurer of accounts\, notebooks\, files\, systems
URL:https://www.esterlibrary.org/event/finance-committee-meeting-23/
END:VEVENT
BEGIN:VEVENT
DTSTART;TZID=America/Anchorage:20171008T140000
DTEND;TZID=America/Anchorage:20171008T160000
DTSTAMP:20260425T073436
CREATED:20170926T004819Z
LAST-MODIFIED:20171008T062445Z
UID:10000047-1507471200-1507478400@www.esterlibrary.org
SUMMARY:Annual Membership Meeting
DESCRIPTION:Annual Meeting Agenda (download)
URL:https://www.esterlibrary.org/event/annual-membership-meeting/
LOCATION:Clausen Cabin\, 3629 Main Street\, Ester\, 99725
CATEGORIES:Announcements,Meetings
END:VEVENT
BEGIN:VEVENT
DTSTART;TZID=America/Anchorage:20171004T183000
DTEND;TZID=America/Anchorage:20171004T203000
DTSTAMP:20260425T073436
CREATED:20170926T004941Z
LAST-MODIFIED:20170926T004941Z
UID:10000049-1507141800-1507149000@www.esterlibrary.org
SUMMARY:October Board of Directors Meeting
DESCRIPTION:
URL:https://www.esterlibrary.org/event/october-board-of-directors-meeting/
LOCATION:Clausen Cabin\, 3629 Main Street\, Ester\, 99725
CATEGORIES:Board,Meetings
END:VEVENT
BEGIN:VEVENT
DTSTART;TZID=America/Anchorage:20170923T180000
DTEND;TZID=America/Anchorage:20170923T220000
DTSTAMP:20260425T073436
CREATED:20170815T191505Z
LAST-MODIFIED:20170815T191505Z
UID:10000041-1506189600-1506204000@www.esterlibrary.org
SUMMARY:Li-Berry Pie Throwdown and Music Fest
DESCRIPTION:
URL:https://www.esterlibrary.org/event/li-berry-pie-throwdown-and-music-fest/
LOCATION:Golden Eagle Saloon\, 3530 Main Steet\, Fairbanks\, 99709\, United States
CATEGORIES:Events,Fundraising
END:VEVENT
BEGIN:VEVENT
DTSTART;TZID=America/Anchorage:20170912T183000
DTEND;TZID=America/Anchorage:20170912T203000
DTSTAMP:20260425T073436
CREATED:20170815T191617Z
LAST-MODIFIED:20170912T202440Z
UID:10000043-1505241000-1505248200@www.esterlibrary.org
SUMMARY:September Board Meeting
DESCRIPTION:Agenda
URL:https://www.esterlibrary.org/event/september-board-meeting/
CATEGORIES:Board,Meetings
END:VEVENT
BEGIN:VEVENT
DTSTART;TZID=America/Anchorage:20170904T183000
DTEND;TZID=America/Anchorage:20170904T193000
DTSTAMP:20260425T073436
CREATED:20170901T031515Z
LAST-MODIFIED:20170901T031515Z
UID:10000045-1504549800-1504553400@www.esterlibrary.org
SUMMARY:Finance Committee meeting
DESCRIPTION: Finance Committee minutes August 1\, 2017 \nOld Business — Finance \nRestricted Funds accounting \n New Business \n\nAugust Finance report\nBills\, income\, and reimbursements\n            Income –Fred Meyers\, barrel stove\,\n            Outgo – Dotster\, Librarything\, property taxes\n            Other expenses\nFundraising – Li-Berry\nBudget status\nCollections assessment\nFinance policy updates – review sample policy\nPreparation of report for BOD meeting
URL:https://www.esterlibrary.org/event/finance-committee-meeting-22/
END:VEVENT
BEGIN:VEVENT
DTSTART;TZID=America/Anchorage:20170808T183000
DTEND;TZID=America/Anchorage:20170808T203000
DTSTAMP:20260425T073436
CREATED:20170803T173001Z
LAST-MODIFIED:20170803T173001Z
UID:10000039-1502217000-1502224200@www.esterlibrary.org
SUMMARY:August Board of Directors Meeting
DESCRIPTION:
URL:https://www.esterlibrary.org/event/august-board-of-directors-meeting/
LOCATION:Clausen Cabin\, 3629 Main Street\, Ester\, 99725
CATEGORIES:Board,Meetings
END:VEVENT
BEGIN:VEVENT
DTSTART;TZID=America/Anchorage:20170801T183000
DTEND;TZID=America/Anchorage:20170801T203000
DTSTAMP:20260425T073436
CREATED:20170730T171635Z
LAST-MODIFIED:20170730T171635Z
UID:10000176-1501612200-1501619400@www.esterlibrary.org
SUMMARY:Finance Committee meeting
DESCRIPTION:Finance Committee minutes July 10\, 2017 \n Old Business — Finance \nRestricted Funds accounting \n New Business \n\nJuly Finance report\nBills\, income\, and reimbursements\n            Tape & Tarp\n            Membership\n            Dotster\n            Other expenses\nFundraising – Li-Berry budget\nBudget status\nCRS completion report\nCollections assessment\nFinance policy updates – review sample policy\nPreparation of report for BOD meeting
URL:https://www.esterlibrary.org/event/finance-committee-meeting-21/
END:VEVENT
BEGIN:VEVENT
DTSTART;TZID=America/Anchorage:20170715T190000
DTEND;TZID=America/Anchorage:20170715T230000
DTSTAMP:20260425T073436
CREATED:20170615T171849Z
LAST-MODIFIED:20170615T171849Z
UID:10000173-1500145200-1500159600@www.esterlibrary.org
SUMMARY:Tape and Tarp Ball
DESCRIPTION:
URL:https://www.esterlibrary.org/event/tape-and-tarp-ball/
LOCATION:Malemute Saloon\, Village Road\, Ester\, 99725\, United States
CATEGORIES:Events,Fundraising
END:VEVENT
BEGIN:VEVENT
DTSTART;TZID=America/Anchorage:20170711T183000
DTEND;TZID=America/Anchorage:20170711T203000
DTSTAMP:20260425T073436
CREATED:20170629T174441Z
LAST-MODIFIED:20170707T182824Z
UID:10000174-1499797800-1499805000@www.esterlibrary.org
SUMMARY:July Board Meeting
DESCRIPTION:Agenda
URL:https://www.esterlibrary.org/event/july-board-meeting-2/
LOCATION:Clausen Cabin\, 3629 Main Street\, Ester\, 99725
CATEGORIES:Board,Meetings
END:VEVENT
BEGIN:VEVENT
DTSTART;TZID=America/Anchorage:20170710T183000
DTEND;TZID=America/Anchorage:20170710T200000
DTSTAMP:20260425T073436
CREATED:20170703T180158Z
LAST-MODIFIED:20170703T180158Z
UID:10000175-1499711400-1499716800@www.esterlibrary.org
SUMMARY:Finance Committee meeting
DESCRIPTION:
URL:https://www.esterlibrary.org/event/finance-committee-meeting-20/
CATEGORIES:Finance,Meetings
END:VEVENT
BEGIN:VEVENT
DTSTART;TZID=America/Anchorage:20170625T120000
DTEND;TZID=America/Anchorage:20170625T160000
DTSTAMP:20260425T073436
CREATED:20170615T170340Z
LAST-MODIFIED:20170615T170340Z
UID:10000172-1498392000-1498406400@www.esterlibrary.org
SUMMARY:Garden/Yard Clean-up Party
DESCRIPTION:
URL:https://www.esterlibrary.org/event/gardenyard-clean-up-party/
LOCATION:Clausen Cabin\, 3629 Main Street\, Ester\, 99725
CATEGORIES:Events
END:VEVENT
END:VCALENDAR