BEGIN:VCALENDAR
VERSION:2.0
PRODID:-//Ester Village Library - ECPv6.15.20//NONSGML v1.0//EN
CALSCALE:GREGORIAN
METHOD:PUBLISH
X-WR-CALNAME:Ester Village Library
X-ORIGINAL-URL:https://www.esterlibrary.org
X-WR-CALDESC:Events for Ester Village Library
REFRESH-INTERVAL;VALUE=DURATION:PT1H
X-Robots-Tag:noindex
X-PUBLISHED-TTL:PT1H
BEGIN:VTIMEZONE
TZID:America/Anchorage
BEGIN:DAYLIGHT
TZOFFSETFROM:-0900
TZOFFSETTO:-0800
TZNAME:AKDT
DTSTART:20250309T110000
END:DAYLIGHT
BEGIN:STANDARD
TZOFFSETFROM:-0800
TZOFFSETTO:-0900
TZNAME:AKST
DTSTART:20251102T100000
END:STANDARD
BEGIN:DAYLIGHT
TZOFFSETFROM:-0900
TZOFFSETTO:-0800
TZNAME:AKDT
DTSTART:20260308T110000
END:DAYLIGHT
BEGIN:STANDARD
TZOFFSETFROM:-0800
TZOFFSETTO:-0900
TZNAME:AKST
DTSTART:20261101T100000
END:STANDARD
BEGIN:DAYLIGHT
TZOFFSETFROM:-0900
TZOFFSETTO:-0800
TZNAME:AKDT
DTSTART:20270314T110000
END:DAYLIGHT
BEGIN:STANDARD
TZOFFSETFROM:-0800
TZOFFSETTO:-0900
TZNAME:AKST
DTSTART:20271107T100000
END:STANDARD
END:VTIMEZONE
BEGIN:VEVENT
DTSTART;TZID=America/Anchorage:20260217T160000
DTEND;TZID=America/Anchorage:20260217T190000
DTSTAMP:20260423T155654
CREATED:20250803T060121Z
LAST-MODIFIED:20250803T060122Z
UID:10001037-1771344000-1771354800@www.esterlibrary.org
SUMMARY:Knit Night/Open Hours
DESCRIPTION:
URL:https://www.esterlibrary.org/event/knit-night-open-hours-2/2026-02-17/
CATEGORIES:Events
END:VEVENT
BEGIN:VEVENT
DTSTART;TZID=America/Anchorage:20260216T150000
DTEND;TZID=America/Anchorage:20260216T180000
DTSTAMP:20260423T155654
CREATED:20250902T200222Z
LAST-MODIFIED:20250902T200222Z
UID:10001092-1771254000-1771264800@www.esterlibrary.org
SUMMARY:Kid's art and crafts
DESCRIPTION:
URL:https://www.esterlibrary.org/event/kids-art-and-crafts/2026-02-16/
CATEGORIES:Events
END:VEVENT
BEGIN:VEVENT
DTSTART;TZID=America/Anchorage:20260215T160000
DTEND;TZID=America/Anchorage:20260215T180000
DTSTAMP:20260423T155654
CREATED:20250902T200832Z
LAST-MODIFIED:20250902T200833Z
UID:10000634-1771171200-1771178400@www.esterlibrary.org
SUMMARY:Writing Circle/Open hours
DESCRIPTION:
URL:https://www.esterlibrary.org/event/writing-circle-open-hours-2/2026-02-15/
LOCATION:Clausen Cabin\, 3629 Main Street\, Ester\, 99725
CATEGORIES:Events
END:VEVENT
BEGIN:VEVENT
DTSTART;TZID=America/Anchorage:20260214T130000
DTEND;TZID=America/Anchorage:20260214T160000
DTSTAMP:20260423T155654
CREATED:20250422T013406Z
LAST-MODIFIED:20250422T013406Z
UID:10000824-1771074000-1771084800@www.esterlibrary.org
SUMMARY:Open Hours
DESCRIPTION:
URL:https://www.esterlibrary.org/event/open-hours-21/2026-02-14/
END:VEVENT
BEGIN:VEVENT
DTSTART;TZID=America/Anchorage:20260211T170000
DTEND;TZID=America/Anchorage:20260211T190000
DTSTAMP:20260423T155654
CREATED:20250603T202451Z
LAST-MODIFIED:20250603T202451Z
UID:10000976-1770829200-1770836400@www.esterlibrary.org
SUMMARY:Open Hours
DESCRIPTION:
URL:https://www.esterlibrary.org/event/open-hours-20/2026-02-11/
END:VEVENT
BEGIN:VEVENT
DTSTART;TZID=America/Anchorage:20260210T160000
DTEND;TZID=America/Anchorage:20260210T190000
DTSTAMP:20260423T155654
CREATED:20250803T060121Z
LAST-MODIFIED:20250803T060122Z
UID:10001036-1770739200-1770750000@www.esterlibrary.org
SUMMARY:Knit Night/Open Hours
DESCRIPTION:
URL:https://www.esterlibrary.org/event/knit-night-open-hours-2/2026-02-10/
CATEGORIES:Events
END:VEVENT
BEGIN:VEVENT
DTSTART;TZID=America/Anchorage:20260209T150000
DTEND;TZID=America/Anchorage:20260209T180000
DTSTAMP:20260423T155654
CREATED:20250902T200222Z
LAST-MODIFIED:20250902T200222Z
UID:10001091-1770649200-1770660000@www.esterlibrary.org
SUMMARY:Kid's art and crafts
DESCRIPTION:
URL:https://www.esterlibrary.org/event/kids-art-and-crafts/2026-02-09/
CATEGORIES:Events
END:VEVENT
BEGIN:VEVENT
DTSTART;TZID=America/Anchorage:20260208T160000
DTEND;TZID=America/Anchorage:20260208T180000
DTSTAMP:20260423T155654
CREATED:20250902T200832Z
LAST-MODIFIED:20250902T200833Z
UID:10000633-1770566400-1770573600@www.esterlibrary.org
SUMMARY:Writing Circle/Open hours
DESCRIPTION:
URL:https://www.esterlibrary.org/event/writing-circle-open-hours-2/2026-02-08/
LOCATION:Clausen Cabin\, 3629 Main Street\, Ester\, 99725
CATEGORIES:Events
END:VEVENT
BEGIN:VEVENT
DTSTART;TZID=America/Anchorage:20260207T153000
DTEND;TZID=America/Anchorage:20260207T170000
DTSTAMP:20260423T155654
CREATED:20260204T024108Z
LAST-MODIFIED:20260204T024215Z
UID:10001154-1770478200-1770483600@www.esterlibrary.org
SUMMARY:Monthly Book Club
DESCRIPTION:Between Two Kingdoms\, by Suleika Jaouad \nFrom Amazon: \nIn the summer after graduating from college\, Suleika Jaouad was preparing\, as they say in commencement speeches\, to enter “the real world.” She had fallen in love and moved to Paris to pursue her dream of becoming a war correspondent. The real world she found\, however\, would take her into a very different kind of conflict zone. \nIt started with an itch—first on her feet\, then up her legs\, like a thousand invisible mosquito bites. Next came the exhaustion\, and the six-hour naps that only deepened her fatigue. Then a trip to the doctor and\, a few weeks shy of her twenty-third birthday\, a diagnosis: leukemia\, with a 35 percent chance of survival. Just like that\, the life she had imagined for herself had gone up in flames. By the time Jaouad flew home to New York\, she had lost her job\, her apartment\, and her independence. She would spend much of the next four years in a hospital bed\, fighting for her life and chronicling the saga in a column for The New York Times. \nWhen Jaouad finally walked out of the cancer ward—after countless rounds of chemo\, a clinical trial\, and a bone marrow transplant—she was\, according to the doctors\, cured. But as she would soon learn\, a cure is not where the work of healing ends; it’s where it begins. She had spent the past 1\,500 days in desperate pursuit of one goal—to survive. And now that she’d done so\, she realized that she had no idea how to live. \nHow would she reenter the world and live again? How could she reclaim what had been lost? Jaouad embarked—with her new best friend\, Oscar\, a scruffy terrier mutt—on a 100-day\, 15\,000-mile road trip across the country. She set out to meet some of the strangers who had written to her during her years in the hospital: a teenage girl in Florida also recovering from cancer; a teacher in California grieving the death of her son; a death-row inmate in Texas who’d spent his own years confined to a room. What she learned on this trip is that the divide between sick and well is porous\, that the vast majority of us will travel back and forth between these realms throughout our lives. Between Two Kingdoms is a profound chronicle of survivorship and a fierce\, tender\, and inspiring exploration of what it means to begin again.
URL:https://www.esterlibrary.org/event/monthly-book-club/
LOCATION:Clausen Cabin\, 3629 Main Street\, Ester\, 99725
CATEGORIES:Events
END:VEVENT
BEGIN:VEVENT
DTSTART;TZID=America/Anchorage:20260207T130000
DTEND;TZID=America/Anchorage:20260207T160000
DTSTAMP:20260423T155654
CREATED:20250422T013406Z
LAST-MODIFIED:20250422T013406Z
UID:10000823-1770469200-1770480000@www.esterlibrary.org
SUMMARY:Open Hours
DESCRIPTION:
URL:https://www.esterlibrary.org/event/open-hours-21/2026-02-07/
END:VEVENT
BEGIN:VEVENT
DTSTART;TZID=America/Anchorage:20260204T170000
DTEND;TZID=America/Anchorage:20260204T190000
DTSTAMP:20260423T155654
CREATED:20250603T202451Z
LAST-MODIFIED:20250603T202451Z
UID:10000975-1770224400-1770231600@www.esterlibrary.org
SUMMARY:Open Hours
DESCRIPTION:
URL:https://www.esterlibrary.org/event/open-hours-20/2026-02-04/
END:VEVENT
BEGIN:VEVENT
DTSTART;TZID=America/Anchorage:20260203T160000
DTEND;TZID=America/Anchorage:20260203T190000
DTSTAMP:20260423T155654
CREATED:20250803T060121Z
LAST-MODIFIED:20250803T060122Z
UID:10001035-1770134400-1770145200@www.esterlibrary.org
SUMMARY:Knit Night/Open Hours
DESCRIPTION:
URL:https://www.esterlibrary.org/event/knit-night-open-hours-2/2026-02-03/
CATEGORIES:Events
END:VEVENT
BEGIN:VEVENT
DTSTART;TZID=America/Anchorage:20260202T150000
DTEND;TZID=America/Anchorage:20260202T180000
DTSTAMP:20260423T155654
CREATED:20250902T200222Z
LAST-MODIFIED:20250902T200222Z
UID:10001090-1770044400-1770055200@www.esterlibrary.org
SUMMARY:Kid's art and crafts
DESCRIPTION:
URL:https://www.esterlibrary.org/event/kids-art-and-crafts/2026-02-02/
CATEGORIES:Events
END:VEVENT
BEGIN:VEVENT
DTSTART;TZID=America/Anchorage:20260201T160000
DTEND;TZID=America/Anchorage:20260201T180000
DTSTAMP:20260423T155654
CREATED:20250902T200832Z
LAST-MODIFIED:20250902T200833Z
UID:10000632-1769961600-1769968800@www.esterlibrary.org
SUMMARY:Writing Circle/Open hours
DESCRIPTION:
URL:https://www.esterlibrary.org/event/writing-circle-open-hours-2/2026-02-01/
LOCATION:Clausen Cabin\, 3629 Main Street\, Ester\, 99725
CATEGORIES:Events
END:VEVENT
BEGIN:VEVENT
DTSTART;TZID=America/Anchorage:20260131T130000
DTEND;TZID=America/Anchorage:20260131T160000
DTSTAMP:20260423T155654
CREATED:20250422T013406Z
LAST-MODIFIED:20250422T013406Z
UID:10000822-1769864400-1769875200@www.esterlibrary.org
SUMMARY:Open Hours
DESCRIPTION:
URL:https://www.esterlibrary.org/event/open-hours-21/2026-01-31/
END:VEVENT
BEGIN:VEVENT
DTSTART;TZID=America/Anchorage:20260128T170000
DTEND;TZID=America/Anchorage:20260128T190000
DTSTAMP:20260423T155654
CREATED:20250603T202451Z
LAST-MODIFIED:20250603T202451Z
UID:10000974-1769619600-1769626800@www.esterlibrary.org
SUMMARY:Open Hours
DESCRIPTION:
URL:https://www.esterlibrary.org/event/open-hours-20/2026-01-28/
END:VEVENT
BEGIN:VEVENT
DTSTART;TZID=America/Anchorage:20260127T160000
DTEND;TZID=America/Anchorage:20260127T190000
DTSTAMP:20260423T155654
CREATED:20250803T060121Z
LAST-MODIFIED:20250803T060122Z
UID:10001034-1769529600-1769540400@www.esterlibrary.org
SUMMARY:Knit Night/Open Hours
DESCRIPTION:
URL:https://www.esterlibrary.org/event/knit-night-open-hours-2/2026-01-27/
CATEGORIES:Events
END:VEVENT
BEGIN:VEVENT
DTSTART;TZID=America/Anchorage:20260126T150000
DTEND;TZID=America/Anchorage:20260126T180000
DTSTAMP:20260423T155654
CREATED:20250902T200222Z
LAST-MODIFIED:20250902T200222Z
UID:10001089-1769439600-1769450400@www.esterlibrary.org
SUMMARY:Kid's art and crafts
DESCRIPTION:
URL:https://www.esterlibrary.org/event/kids-art-and-crafts/2026-01-26/
CATEGORIES:Events
END:VEVENT
BEGIN:VEVENT
DTSTART;TZID=America/Anchorage:20260125T160000
DTEND;TZID=America/Anchorage:20260125T180000
DTSTAMP:20260423T155654
CREATED:20250902T200832Z
LAST-MODIFIED:20250902T200833Z
UID:10000631-1769356800-1769364000@www.esterlibrary.org
SUMMARY:Writing Circle/Open hours
DESCRIPTION:
URL:https://www.esterlibrary.org/event/writing-circle-open-hours-2/2026-01-25/
LOCATION:Clausen Cabin\, 3629 Main Street\, Ester\, 99725
CATEGORIES:Events
END:VEVENT
BEGIN:VEVENT
DTSTART;TZID=America/Anchorage:20260124T130000
DTEND;TZID=America/Anchorage:20260124T160000
DTSTAMP:20260423T155654
CREATED:20250422T013406Z
LAST-MODIFIED:20250422T013406Z
UID:10000821-1769259600-1769270400@www.esterlibrary.org
SUMMARY:Open Hours
DESCRIPTION:
URL:https://www.esterlibrary.org/event/open-hours-21/2026-01-24/
END:VEVENT
BEGIN:VEVENT
DTSTART;TZID=America/Anchorage:20260121T170000
DTEND;TZID=America/Anchorage:20260121T190000
DTSTAMP:20260423T155654
CREATED:20250603T202451Z
LAST-MODIFIED:20250603T202451Z
UID:10000973-1769014800-1769022000@www.esterlibrary.org
SUMMARY:Open Hours
DESCRIPTION:
URL:https://www.esterlibrary.org/event/open-hours-20/2026-01-21/
END:VEVENT
BEGIN:VEVENT
DTSTART;TZID=America/Anchorage:20260120T160000
DTEND;TZID=America/Anchorage:20260120T190000
DTSTAMP:20260423T155654
CREATED:20250803T060121Z
LAST-MODIFIED:20250803T060122Z
UID:10001033-1768924800-1768935600@www.esterlibrary.org
SUMMARY:Knit Night/Open Hours
DESCRIPTION:
URL:https://www.esterlibrary.org/event/knit-night-open-hours-2/2026-01-20/
CATEGORIES:Events
END:VEVENT
BEGIN:VEVENT
DTSTART;TZID=America/Anchorage:20260119T150000
DTEND;TZID=America/Anchorage:20260119T180000
DTSTAMP:20260423T155654
CREATED:20250902T200222Z
LAST-MODIFIED:20250902T200222Z
UID:10001088-1768834800-1768845600@www.esterlibrary.org
SUMMARY:Kid's art and crafts
DESCRIPTION:
URL:https://www.esterlibrary.org/event/kids-art-and-crafts/2026-01-19/
CATEGORIES:Events
END:VEVENT
BEGIN:VEVENT
DTSTART;TZID=America/Anchorage:20260118T160000
DTEND;TZID=America/Anchorage:20260118T180000
DTSTAMP:20260423T155654
CREATED:20250902T200832Z
LAST-MODIFIED:20250902T200833Z
UID:10000630-1768752000-1768759200@www.esterlibrary.org
SUMMARY:Writing Circle/Open hours
DESCRIPTION:
URL:https://www.esterlibrary.org/event/writing-circle-open-hours-2/2026-01-18/
LOCATION:Clausen Cabin\, 3629 Main Street\, Ester\, 99725
CATEGORIES:Events
END:VEVENT
BEGIN:VEVENT
DTSTART;TZID=America/Anchorage:20260117T130000
DTEND;TZID=America/Anchorage:20260117T160000
DTSTAMP:20260423T155654
CREATED:20250422T013406Z
LAST-MODIFIED:20250422T013406Z
UID:10000820-1768654800-1768665600@www.esterlibrary.org
SUMMARY:Open Hours
DESCRIPTION:
URL:https://www.esterlibrary.org/event/open-hours-21/2026-01-17/
END:VEVENT
BEGIN:VEVENT
DTSTART;TZID=America/Anchorage:20260114T170000
DTEND;TZID=America/Anchorage:20260114T190000
DTSTAMP:20260423T155654
CREATED:20250603T202451Z
LAST-MODIFIED:20250603T202451Z
UID:10000972-1768410000-1768417200@www.esterlibrary.org
SUMMARY:Open Hours
DESCRIPTION:
URL:https://www.esterlibrary.org/event/open-hours-20/2026-01-14/
END:VEVENT
BEGIN:VEVENT
DTSTART;TZID=America/Anchorage:20260113T160000
DTEND;TZID=America/Anchorage:20260113T190000
DTSTAMP:20260423T155654
CREATED:20250803T060121Z
LAST-MODIFIED:20250803T060122Z
UID:10001032-1768320000-1768330800@www.esterlibrary.org
SUMMARY:Knit Night/Open Hours
DESCRIPTION:
URL:https://www.esterlibrary.org/event/knit-night-open-hours-2/2026-01-13/
CATEGORIES:Events
END:VEVENT
BEGIN:VEVENT
DTSTART;TZID=America/Anchorage:20260112T150000
DTEND;TZID=America/Anchorage:20260112T180000
DTSTAMP:20260423T155654
CREATED:20250902T200222Z
LAST-MODIFIED:20250902T200222Z
UID:10001087-1768230000-1768240800@www.esterlibrary.org
SUMMARY:Kid's art and crafts
DESCRIPTION:
URL:https://www.esterlibrary.org/event/kids-art-and-crafts/2026-01-12/
CATEGORIES:Events
END:VEVENT
BEGIN:VEVENT
DTSTART;TZID=America/Anchorage:20260111T160000
DTEND;TZID=America/Anchorage:20260111T180000
DTSTAMP:20260423T155654
CREATED:20250902T200832Z
LAST-MODIFIED:20250902T200833Z
UID:10000629-1768147200-1768154400@www.esterlibrary.org
SUMMARY:Writing Circle/Open hours
DESCRIPTION:
URL:https://www.esterlibrary.org/event/writing-circle-open-hours-2/2026-01-11/
LOCATION:Clausen Cabin\, 3629 Main Street\, Ester\, 99725
CATEGORIES:Events
END:VEVENT
BEGIN:VEVENT
DTSTART;TZID=America/Anchorage:20260110T130000
DTEND;TZID=America/Anchorage:20260110T160000
DTSTAMP:20260423T155654
CREATED:20250422T013406Z
LAST-MODIFIED:20250422T013406Z
UID:10000819-1768050000-1768060800@www.esterlibrary.org
SUMMARY:Open Hours
DESCRIPTION:
URL:https://www.esterlibrary.org/event/open-hours-21/2026-01-10/
END:VEVENT
END:VCALENDAR