BEGIN:VCALENDAR
VERSION:2.0
PRODID:-//Ester Village Library - ECPv6.15.20//NONSGML v1.0//EN
CALSCALE:GREGORIAN
METHOD:PUBLISH
X-WR-CALNAME:Ester Village Library
X-ORIGINAL-URL:https://www.esterlibrary.org
X-WR-CALDESC:Events for Ester Village Library
REFRESH-INTERVAL;VALUE=DURATION:PT1H
X-Robots-Tag:noindex
X-PUBLISHED-TTL:PT1H
BEGIN:VTIMEZONE
TZID:America/Anchorage
BEGIN:DAYLIGHT
TZOFFSETFROM:-0900
TZOFFSETTO:-0800
TZNAME:AKDT
DTSTART:20240310T110000
END:DAYLIGHT
BEGIN:STANDARD
TZOFFSETFROM:-0800
TZOFFSETTO:-0900
TZNAME:AKST
DTSTART:20241103T100000
END:STANDARD
BEGIN:DAYLIGHT
TZOFFSETFROM:-0900
TZOFFSETTO:-0800
TZNAME:AKDT
DTSTART:20250309T110000
END:DAYLIGHT
BEGIN:STANDARD
TZOFFSETFROM:-0800
TZOFFSETTO:-0900
TZNAME:AKST
DTSTART:20251102T100000
END:STANDARD
BEGIN:DAYLIGHT
TZOFFSETFROM:-0900
TZOFFSETTO:-0800
TZNAME:AKDT
DTSTART:20260308T110000
END:DAYLIGHT
BEGIN:STANDARD
TZOFFSETFROM:-0800
TZOFFSETTO:-0900
TZNAME:AKST
DTSTART:20261101T100000
END:STANDARD
END:VTIMEZONE
BEGIN:VEVENT
DTSTART;TZID=America/Anchorage:20250617T150000
DTEND;TZID=America/Anchorage:20250617T190000
DTSTAMP:20260424T041235
CREATED:20250422T013253Z
LAST-MODIFIED:20250422T013253Z
UID:10000725-1750172400-1750186800@www.esterlibrary.org
SUMMARY:Knit Night/Open Hours
DESCRIPTION:
URL:https://www.esterlibrary.org/event/knit-night-open-hours/2025-06-17/
CATEGORIES:Events
END:VEVENT
BEGIN:VEVENT
DTSTART;TZID=America/Anchorage:20250618T170000
DTEND;TZID=America/Anchorage:20250618T190000
DTSTAMP:20260424T041235
CREATED:20250603T202451Z
LAST-MODIFIED:20250603T202451Z
UID:10000942-1750266000-1750273200@www.esterlibrary.org
SUMMARY:Open Hours
DESCRIPTION:
URL:https://www.esterlibrary.org/event/open-hours-20/2025-06-18/
END:VEVENT
BEGIN:VEVENT
DTSTART;TZID=America/Anchorage:20250621T130000
DTEND;TZID=America/Anchorage:20250621T160000
DTSTAMP:20260424T041235
CREATED:20250422T013406Z
LAST-MODIFIED:20250422T013406Z
UID:10000790-1750510800-1750521600@www.esterlibrary.org
SUMMARY:Open Hours
DESCRIPTION:
URL:https://www.esterlibrary.org/event/open-hours-21/2025-06-21/
END:VEVENT
BEGIN:VEVENT
DTSTART;TZID=America/Anchorage:20250622T160000
DTEND;TZID=America/Anchorage:20250622T180000
DTSTAMP:20260424T041235
CREATED:20250422T012127Z
LAST-MODIFIED:20250422T012127Z
UID:10000600-1750608000-1750615200@www.esterlibrary.org
SUMMARY:Writing Circle/Open hours
DESCRIPTION:
URL:https://www.esterlibrary.org/event/writing-circle-open-hours/2025-06-22/
LOCATION:Clausen Cabin\, 3629 Main Street\, Ester\, 99725
CATEGORIES:Events
END:VEVENT
BEGIN:VEVENT
DTSTART;TZID=America/Anchorage:20250624T150000
DTEND;TZID=America/Anchorage:20250624T190000
DTSTAMP:20260424T041235
CREATED:20250422T013253Z
LAST-MODIFIED:20250422T013253Z
UID:10000726-1750777200-1750791600@www.esterlibrary.org
SUMMARY:Knit Night/Open Hours
DESCRIPTION:
URL:https://www.esterlibrary.org/event/knit-night-open-hours/2025-06-24/
CATEGORIES:Events
END:VEVENT
BEGIN:VEVENT
DTSTART;TZID=America/Anchorage:20250625T170000
DTEND;TZID=America/Anchorage:20250625T190000
DTSTAMP:20260424T041235
CREATED:20250603T202451Z
LAST-MODIFIED:20250603T202451Z
UID:10000943-1750870800-1750878000@www.esterlibrary.org
SUMMARY:Open Hours
DESCRIPTION:
URL:https://www.esterlibrary.org/event/open-hours-20/2025-06-25/
END:VEVENT
BEGIN:VEVENT
DTSTART;TZID=America/Anchorage:20250628T130000
DTEND;TZID=America/Anchorage:20250628T160000
DTSTAMP:20260424T041235
CREATED:20250422T013406Z
LAST-MODIFIED:20250422T013406Z
UID:10000791-1751115600-1751126400@www.esterlibrary.org
SUMMARY:Open Hours
DESCRIPTION:
URL:https://www.esterlibrary.org/event/open-hours-21/2025-06-28/
END:VEVENT
BEGIN:VEVENT
DTSTART;TZID=America/Anchorage:20250628T143000
DTEND;TZID=America/Anchorage:20250628T160000
DTSTAMP:20260424T041235
CREATED:20250422T014054Z
LAST-MODIFIED:20250422T014054Z
UID:10000925-1751121000-1751126400@www.esterlibrary.org
SUMMARY:Children's Book Club
DESCRIPTION:
URL:https://www.esterlibrary.org/event/childrens-book-club-4/2025-06-28/
CATEGORIES:Events
END:VEVENT
BEGIN:VEVENT
DTSTART;TZID=America/Anchorage:20250629T160000
DTEND;TZID=America/Anchorage:20250629T180000
DTSTAMP:20260424T041235
CREATED:20250422T012127Z
LAST-MODIFIED:20250422T012127Z
UID:10000601-1751212800-1751220000@www.esterlibrary.org
SUMMARY:Writing Circle/Open hours
DESCRIPTION:
URL:https://www.esterlibrary.org/event/writing-circle-open-hours/2025-06-29/
LOCATION:Clausen Cabin\, 3629 Main Street\, Ester\, 99725
CATEGORIES:Events
END:VEVENT
BEGIN:VEVENT
DTSTART;TZID=America/Anchorage:20250701T150000
DTEND;TZID=America/Anchorage:20250701T190000
DTSTAMP:20260424T041235
CREATED:20250422T013253Z
LAST-MODIFIED:20250422T013253Z
UID:10000727-1751382000-1751396400@www.esterlibrary.org
SUMMARY:Knit Night/Open Hours
DESCRIPTION:
URL:https://www.esterlibrary.org/event/knit-night-open-hours/2025-07-01/
CATEGORIES:Events
END:VEVENT
BEGIN:VEVENT
DTSTART;TZID=America/Anchorage:20250702T170000
DTEND;TZID=America/Anchorage:20250702T190000
DTSTAMP:20260424T041235
CREATED:20250603T202451Z
LAST-MODIFIED:20250603T202451Z
UID:10000944-1751475600-1751482800@www.esterlibrary.org
SUMMARY:Open Hours
DESCRIPTION:
URL:https://www.esterlibrary.org/event/open-hours-20/2025-07-02/
END:VEVENT
BEGIN:VEVENT
DTSTART;TZID=America/Anchorage:20250705T130000
DTEND;TZID=America/Anchorage:20250705T160000
DTSTAMP:20260424T041235
CREATED:20250422T013406Z
LAST-MODIFIED:20250422T013406Z
UID:10000792-1751720400-1751731200@www.esterlibrary.org
SUMMARY:Open Hours
DESCRIPTION:
URL:https://www.esterlibrary.org/event/open-hours-21/2025-07-05/
END:VEVENT
BEGIN:VEVENT
DTSTART;TZID=America/Anchorage:20250706T160000
DTEND;TZID=America/Anchorage:20250706T180000
DTSTAMP:20260424T041235
CREATED:20250422T012127Z
LAST-MODIFIED:20250422T012127Z
UID:10000602-1751817600-1751824800@www.esterlibrary.org
SUMMARY:Writing Circle/Open hours
DESCRIPTION:
URL:https://www.esterlibrary.org/event/writing-circle-open-hours/2025-07-06/
LOCATION:Clausen Cabin\, 3629 Main Street\, Ester\, 99725
CATEGORIES:Events
END:VEVENT
BEGIN:VEVENT
DTSTART;TZID=America/Anchorage:20250708T150000
DTEND;TZID=America/Anchorage:20250708T190000
DTSTAMP:20260424T041235
CREATED:20250422T013253Z
LAST-MODIFIED:20250422T013253Z
UID:10000728-1751986800-1752001200@www.esterlibrary.org
SUMMARY:Knit Night/Open Hours
DESCRIPTION:
URL:https://www.esterlibrary.org/event/knit-night-open-hours/2025-07-08/
CATEGORIES:Events
END:VEVENT
BEGIN:VEVENT
DTSTART;TZID=America/Anchorage:20250709T170000
DTEND;TZID=America/Anchorage:20250709T190000
DTSTAMP:20260424T041235
CREATED:20250603T202451Z
LAST-MODIFIED:20250603T202451Z
UID:10000945-1752080400-1752087600@www.esterlibrary.org
SUMMARY:Open Hours
DESCRIPTION:
URL:https://www.esterlibrary.org/event/open-hours-20/2025-07-09/
END:VEVENT
BEGIN:VEVENT
DTSTART;TZID=America/Anchorage:20250712T130000
DTEND;TZID=America/Anchorage:20250712T160000
DTSTAMP:20260424T041235
CREATED:20250422T013406Z
LAST-MODIFIED:20250422T013406Z
UID:10000793-1752325200-1752336000@www.esterlibrary.org
SUMMARY:Open Hours
DESCRIPTION:
URL:https://www.esterlibrary.org/event/open-hours-21/2025-07-12/
END:VEVENT
BEGIN:VEVENT
DTSTART;TZID=America/Anchorage:20250712T143000
DTEND;TZID=America/Anchorage:20250712T160000
DTSTAMP:20260424T041235
CREATED:20250422T013952Z
LAST-MODIFIED:20250422T013952Z
UID:10000911-1752330600-1752336000@www.esterlibrary.org
SUMMARY:Children's Book Club
DESCRIPTION:
URL:https://www.esterlibrary.org/event/childrens-book-club-3/2025-07-12/
CATEGORIES:Events
END:VEVENT
BEGIN:VEVENT
DTSTART;TZID=America/Anchorage:20250713T160000
DTEND;TZID=America/Anchorage:20250713T180000
DTSTAMP:20260424T041236
CREATED:20250422T012127Z
LAST-MODIFIED:20250422T012127Z
UID:10000603-1752422400-1752429600@www.esterlibrary.org
SUMMARY:Writing Circle/Open hours
DESCRIPTION:
URL:https://www.esterlibrary.org/event/writing-circle-open-hours/2025-07-13/
LOCATION:Clausen Cabin\, 3629 Main Street\, Ester\, 99725
CATEGORIES:Events
END:VEVENT
BEGIN:VEVENT
DTSTART;TZID=America/Anchorage:20250715T150000
DTEND;TZID=America/Anchorage:20250715T190000
DTSTAMP:20260424T041236
CREATED:20250422T013253Z
LAST-MODIFIED:20250422T013253Z
UID:10000729-1752591600-1752606000@www.esterlibrary.org
SUMMARY:Knit Night/Open Hours
DESCRIPTION:
URL:https://www.esterlibrary.org/event/knit-night-open-hours/2025-07-15/
CATEGORIES:Events
END:VEVENT
BEGIN:VEVENT
DTSTART;TZID=America/Anchorage:20250716T170000
DTEND;TZID=America/Anchorage:20250716T190000
DTSTAMP:20260424T041236
CREATED:20250603T202451Z
LAST-MODIFIED:20250603T202451Z
UID:10000946-1752685200-1752692400@www.esterlibrary.org
SUMMARY:Open Hours
DESCRIPTION:
URL:https://www.esterlibrary.org/event/open-hours-20/2025-07-16/
END:VEVENT
BEGIN:VEVENT
DTSTART;TZID=America/Anchorage:20250719T130000
DTEND;TZID=America/Anchorage:20250719T160000
DTSTAMP:20260424T041236
CREATED:20250422T013406Z
LAST-MODIFIED:20250422T013406Z
UID:10000794-1752930000-1752940800@www.esterlibrary.org
SUMMARY:Open Hours
DESCRIPTION:
URL:https://www.esterlibrary.org/event/open-hours-21/2025-07-19/
END:VEVENT
BEGIN:VEVENT
DTSTART;TZID=America/Anchorage:20250720T160000
DTEND;TZID=America/Anchorage:20250720T180000
DTSTAMP:20260424T041236
CREATED:20250422T012127Z
LAST-MODIFIED:20250422T012127Z
UID:10000604-1753027200-1753034400@www.esterlibrary.org
SUMMARY:Writing Circle/Open hours
DESCRIPTION:
URL:https://www.esterlibrary.org/event/writing-circle-open-hours/2025-07-20/
LOCATION:Clausen Cabin\, 3629 Main Street\, Ester\, 99725
CATEGORIES:Events
END:VEVENT
BEGIN:VEVENT
DTSTART;TZID=America/Anchorage:20250722T150000
DTEND;TZID=America/Anchorage:20250722T190000
DTSTAMP:20260424T041236
CREATED:20250422T013253Z
LAST-MODIFIED:20250422T013253Z
UID:10000730-1753196400-1753210800@www.esterlibrary.org
SUMMARY:Knit Night/Open Hours
DESCRIPTION:
URL:https://www.esterlibrary.org/event/knit-night-open-hours/2025-07-22/
CATEGORIES:Events
END:VEVENT
BEGIN:VEVENT
DTSTART;TZID=America/Anchorage:20250723T170000
DTEND;TZID=America/Anchorage:20250723T190000
DTSTAMP:20260424T041236
CREATED:20250603T202451Z
LAST-MODIFIED:20250603T202451Z
UID:10000947-1753290000-1753297200@www.esterlibrary.org
SUMMARY:Open Hours
DESCRIPTION:
URL:https://www.esterlibrary.org/event/open-hours-20/2025-07-23/
END:VEVENT
BEGIN:VEVENT
DTSTART;TZID=America/Anchorage:20250726T130000
DTEND;TZID=America/Anchorage:20250726T160000
DTSTAMP:20260424T041236
CREATED:20250422T013406Z
LAST-MODIFIED:20250422T013406Z
UID:10000795-1753534800-1753545600@www.esterlibrary.org
SUMMARY:Open Hours
DESCRIPTION:
URL:https://www.esterlibrary.org/event/open-hours-21/2025-07-26/
END:VEVENT
BEGIN:VEVENT
DTSTART;TZID=America/Anchorage:20250726T143000
DTEND;TZID=America/Anchorage:20250726T160000
DTSTAMP:20260424T041236
CREATED:20250422T014054Z
LAST-MODIFIED:20250422T014054Z
UID:10000926-1753540200-1753545600@www.esterlibrary.org
SUMMARY:Children's Book Club
DESCRIPTION:
URL:https://www.esterlibrary.org/event/childrens-book-club-4/2025-07-26/
CATEGORIES:Events
END:VEVENT
BEGIN:VEVENT
DTSTART;TZID=America/Anchorage:20250727T160000
DTEND;TZID=America/Anchorage:20250727T180000
DTSTAMP:20260424T041236
CREATED:20250422T012127Z
LAST-MODIFIED:20250422T012127Z
UID:10000605-1753632000-1753639200@www.esterlibrary.org
SUMMARY:Writing Circle/Open hours
DESCRIPTION:
URL:https://www.esterlibrary.org/event/writing-circle-open-hours/2025-07-27/
LOCATION:Clausen Cabin\, 3629 Main Street\, Ester\, 99725
CATEGORIES:Events
END:VEVENT
BEGIN:VEVENT
DTSTART;TZID=America/Anchorage:20250729T150000
DTEND;TZID=America/Anchorage:20250729T190000
DTSTAMP:20260424T041236
CREATED:20250422T013253Z
LAST-MODIFIED:20250422T013253Z
UID:10000731-1753801200-1753815600@www.esterlibrary.org
SUMMARY:Knit Night/Open Hours
DESCRIPTION:
URL:https://www.esterlibrary.org/event/knit-night-open-hours/2025-07-29/
CATEGORIES:Events
END:VEVENT
BEGIN:VEVENT
DTSTART;TZID=America/Anchorage:20250730T170000
DTEND;TZID=America/Anchorage:20250730T190000
DTSTAMP:20260424T041236
CREATED:20250603T202451Z
LAST-MODIFIED:20250603T202451Z
UID:10000948-1753894800-1753902000@www.esterlibrary.org
SUMMARY:Open Hours
DESCRIPTION:
URL:https://www.esterlibrary.org/event/open-hours-20/2025-07-30/
END:VEVENT
BEGIN:VEVENT
DTSTART;TZID=America/Anchorage:20250802T130000
DTEND;TZID=America/Anchorage:20250802T160000
DTSTAMP:20260424T041236
CREATED:20250422T013406Z
LAST-MODIFIED:20250422T013406Z
UID:10000796-1754139600-1754150400@www.esterlibrary.org
SUMMARY:Open Hours
DESCRIPTION:
URL:https://www.esterlibrary.org/event/open-hours-21/2025-08-02/
END:VEVENT
END:VCALENDAR