BEGIN:VCALENDAR
VERSION:2.0
PRODID:-//Ester Village Library - ECPv6.15.20//NONSGML v1.0//EN
CALSCALE:GREGORIAN
METHOD:PUBLISH
X-WR-CALNAME:Ester Village Library
X-ORIGINAL-URL:https://www.esterlibrary.org
X-WR-CALDESC:Events for Ester Village Library
REFRESH-INTERVAL;VALUE=DURATION:PT1H
X-Robots-Tag:noindex
X-PUBLISHED-TTL:PT1H
BEGIN:VTIMEZONE
TZID:America/Anchorage
BEGIN:DAYLIGHT
TZOFFSETFROM:-0900
TZOFFSETTO:-0800
TZNAME:AKDT
DTSTART:20250309T110000
END:DAYLIGHT
BEGIN:STANDARD
TZOFFSETFROM:-0800
TZOFFSETTO:-0900
TZNAME:AKST
DTSTART:20251102T100000
END:STANDARD
BEGIN:DAYLIGHT
TZOFFSETFROM:-0900
TZOFFSETTO:-0800
TZNAME:AKDT
DTSTART:20260308T110000
END:DAYLIGHT
BEGIN:STANDARD
TZOFFSETFROM:-0800
TZOFFSETTO:-0900
TZNAME:AKST
DTSTART:20261101T100000
END:STANDARD
BEGIN:DAYLIGHT
TZOFFSETFROM:-0900
TZOFFSETTO:-0800
TZNAME:AKDT
DTSTART:20270314T110000
END:DAYLIGHT
BEGIN:STANDARD
TZOFFSETFROM:-0800
TZOFFSETTO:-0900
TZNAME:AKST
DTSTART:20271107T100000
END:STANDARD
END:VTIMEZONE
BEGIN:VEVENT
DTSTART;TZID=America/Anchorage:20260406T150000
DTEND;TZID=America/Anchorage:20260406T180000
DTSTAMP:20260423T142831
CREATED:20250902T200222Z
LAST-MODIFIED:20250902T200222Z
UID:10001099-1775487600-1775498400@www.esterlibrary.org
SUMMARY:Kid's art and crafts
DESCRIPTION:
URL:https://www.esterlibrary.org/event/kids-art-and-crafts/2026-04-06/
CATEGORIES:Events
END:VEVENT
BEGIN:VEVENT
DTSTART;TZID=America/Anchorage:20260405T160000
DTEND;TZID=America/Anchorage:20260405T180000
DTSTAMP:20260423T142831
CREATED:20250902T200832Z
LAST-MODIFIED:20250902T200833Z
UID:10000641-1775404800-1775412000@www.esterlibrary.org
SUMMARY:Writing Circle/Open hours
DESCRIPTION:
URL:https://www.esterlibrary.org/event/writing-circle-open-hours-2/2026-04-05/
LOCATION:Clausen Cabin\, 3629 Main Street\, Ester\, 99725
CATEGORIES:Events
END:VEVENT
BEGIN:VEVENT
DTSTART;TZID=America/Anchorage:20260404T153000
DTEND;TZID=America/Anchorage:20260404T170000
DTSTAMP:20260423T142831
CREATED:20260216T071746Z
LAST-MODIFIED:20260216T071746Z
UID:10001159-1775316600-1775322000@www.esterlibrary.org
SUMMARY:Adult Book Club
DESCRIPTION:This month\, “Delicate\, Edible Birds”\, by Lauren Groff. \nThis\, from Amazon: \nFollowing the publication of Groff’s first novel\, The Monsters of Templeton (2008)\, comes this collection of nine short stories\, six of which have never been published. The richly conceived\, finely detailed stories offer portraits of smart\, daring women who are in search of\, in thrall to\, or disillusioned by love. In “Lucky Chow Fun\,” winner of a Pushcart Prize\, Groff returns to the town of Templeton to tell the story of a high-school swimmer who uncovers the sordid sexual secrets of her seemingly idyllic small town. “L. DeBard and Aliette\,” included in the latest edition of Best American Short Stories\, is a reimagining of the love story of Abelard and Héloïse that sees the couple recast as an Olympic swimmer and his pupil\, both of whom suffer through the flu epidemic of 1918. And in the title story\, an unconventional female reporter\, fleeing the Nazis in rural France along with a band of male correspondents\, must strike a sordid bargain with a brutal farmer to secure their safe passage.
URL:https://www.esterlibrary.org/event/adult-book-club-8/
LOCATION:Clausen Cabin\, 3629 Main Street\, Ester\, 99725
CATEGORIES:Events
END:VEVENT
BEGIN:VEVENT
DTSTART;TZID=America/Anchorage:20260404T130000
DTEND;TZID=America/Anchorage:20260404T160000
DTSTAMP:20260423T142831
CREATED:20250422T013406Z
LAST-MODIFIED:20250422T013406Z
UID:10000831-1775307600-1775318400@www.esterlibrary.org
SUMMARY:Open Hours
DESCRIPTION:
URL:https://www.esterlibrary.org/event/open-hours-21/2026-04-04/
END:VEVENT
BEGIN:VEVENT
DTSTART;TZID=America/Anchorage:20260401T170000
DTEND;TZID=America/Anchorage:20260401T190000
DTSTAMP:20260423T142831
CREATED:20250603T202451Z
LAST-MODIFIED:20250603T202451Z
UID:10000983-1775062800-1775070000@www.esterlibrary.org
SUMMARY:Open Hours
DESCRIPTION:
URL:https://www.esterlibrary.org/event/open-hours-20/2026-04-01/
END:VEVENT
BEGIN:VEVENT
DTSTART;TZID=America/Anchorage:20260331T183000
DTEND;TZID=America/Anchorage:20260331T203000
DTSTAMP:20260423T142831
CREATED:20260216T072404Z
LAST-MODIFIED:20260318T212910Z
UID:10001161-1774981800-1774989000@www.esterlibrary.org
SUMMARY:Board of Director's Meeting
DESCRIPTION:
URL:https://www.esterlibrary.org/event/board-of-directors-meeting-4/
LOCATION:Clausen Cabin\, 3629 Main Street\, Ester\, 99725
CATEGORIES:Meetings
END:VEVENT
BEGIN:VEVENT
DTSTART;TZID=America/Anchorage:20260331T160000
DTEND;TZID=America/Anchorage:20260331T190000
DTSTAMP:20260423T142831
CREATED:20250803T060121Z
LAST-MODIFIED:20250803T060122Z
UID:10001043-1774972800-1774983600@www.esterlibrary.org
SUMMARY:Knit Night/Open Hours
DESCRIPTION:
URL:https://www.esterlibrary.org/event/knit-night-open-hours-2/2026-03-31/
CATEGORIES:Events
END:VEVENT
BEGIN:VEVENT
DTSTART;TZID=America/Anchorage:20260330T150000
DTEND;TZID=America/Anchorage:20260330T180000
DTSTAMP:20260423T142831
CREATED:20250902T200222Z
LAST-MODIFIED:20250902T200222Z
UID:10001098-1774882800-1774893600@www.esterlibrary.org
SUMMARY:Kid's art and crafts
DESCRIPTION:
URL:https://www.esterlibrary.org/event/kids-art-and-crafts/2026-03-30/
CATEGORIES:Events
END:VEVENT
BEGIN:VEVENT
DTSTART;TZID=America/Anchorage:20260329T160000
DTEND;TZID=America/Anchorage:20260329T180000
DTSTAMP:20260423T142831
CREATED:20250902T200832Z
LAST-MODIFIED:20250902T200833Z
UID:10000640-1774800000-1774807200@www.esterlibrary.org
SUMMARY:Writing Circle/Open hours
DESCRIPTION:
URL:https://www.esterlibrary.org/event/writing-circle-open-hours-2/2026-03-29/
LOCATION:Clausen Cabin\, 3629 Main Street\, Ester\, 99725
CATEGORIES:Events
END:VEVENT
BEGIN:VEVENT
DTSTART;TZID=America/Anchorage:20260328T130000
DTEND;TZID=America/Anchorage:20260328T160000
DTSTAMP:20260423T142831
CREATED:20250422T013406Z
LAST-MODIFIED:20250422T013406Z
UID:10000830-1774702800-1774713600@www.esterlibrary.org
SUMMARY:Open Hours
DESCRIPTION:
URL:https://www.esterlibrary.org/event/open-hours-21/2026-03-28/
END:VEVENT
BEGIN:VEVENT
DTSTART;TZID=America/Anchorage:20260328T130000
DTEND;TZID=America/Anchorage:20260328T150000
DTSTAMP:20260423T142831
CREATED:20260216T070543Z
LAST-MODIFIED:20260318T212831Z
UID:10001158-1774702800-1774710000@www.esterlibrary.org
SUMMARY:Seedy Saturday
DESCRIPTION:Seed swap – Bring your saved/extra seeds. Come browse our extensive seed catalog and “check out” some seeds! \nAt 2:00\, we will be holding a seed starting workshop. Information on variety selection\, starting dates\, container selection and temperature and lighting. \nLearn more about the community garden and Seed Library\, seed stewards\, the Spring plant sale and Alaska gardening.
URL:https://www.esterlibrary.org/event/seedy-saturday/
LOCATION:Hartung Hall
CATEGORIES:Events
END:VEVENT
BEGIN:VEVENT
DTSTART;TZID=America/Anchorage:20260325T170000
DTEND;TZID=America/Anchorage:20260325T190000
DTSTAMP:20260423T142831
CREATED:20250603T202451Z
LAST-MODIFIED:20250603T202451Z
UID:10000982-1774458000-1774465200@www.esterlibrary.org
SUMMARY:Open Hours
DESCRIPTION:
URL:https://www.esterlibrary.org/event/open-hours-20/2026-03-25/
END:VEVENT
BEGIN:VEVENT
DTSTART;TZID=America/Anchorage:20260324T160000
DTEND;TZID=America/Anchorage:20260324T190000
DTSTAMP:20260423T142831
CREATED:20250803T060121Z
LAST-MODIFIED:20250803T060122Z
UID:10001042-1774368000-1774378800@www.esterlibrary.org
SUMMARY:Knit Night/Open Hours
DESCRIPTION:
URL:https://www.esterlibrary.org/event/knit-night-open-hours-2/2026-03-24/
CATEGORIES:Events
END:VEVENT
BEGIN:VEVENT
DTSTART;TZID=America/Anchorage:20260323T150000
DTEND;TZID=America/Anchorage:20260323T180000
DTSTAMP:20260423T142831
CREATED:20250902T200222Z
LAST-MODIFIED:20250902T200222Z
UID:10001097-1774278000-1774288800@www.esterlibrary.org
SUMMARY:Kid's art and crafts
DESCRIPTION:
URL:https://www.esterlibrary.org/event/kids-art-and-crafts/2026-03-23/
CATEGORIES:Events
END:VEVENT
BEGIN:VEVENT
DTSTART;TZID=America/Anchorage:20260322T160000
DTEND;TZID=America/Anchorage:20260322T180000
DTSTAMP:20260423T142831
CREATED:20250902T200832Z
LAST-MODIFIED:20250902T200833Z
UID:10000639-1774195200-1774202400@www.esterlibrary.org
SUMMARY:Writing Circle/Open hours
DESCRIPTION:
URL:https://www.esterlibrary.org/event/writing-circle-open-hours-2/2026-03-22/
LOCATION:Clausen Cabin\, 3629 Main Street\, Ester\, 99725
CATEGORIES:Events
END:VEVENT
BEGIN:VEVENT
DTSTART;TZID=America/Anchorage:20260321T130000
DTEND;TZID=America/Anchorage:20260321T160000
DTSTAMP:20260423T142831
CREATED:20250422T013406Z
LAST-MODIFIED:20250422T013406Z
UID:10000829-1774098000-1774108800@www.esterlibrary.org
SUMMARY:Open Hours
DESCRIPTION:
URL:https://www.esterlibrary.org/event/open-hours-21/2026-03-21/
END:VEVENT
BEGIN:VEVENT
DTSTART;TZID=America/Anchorage:20260318T170000
DTEND;TZID=America/Anchorage:20260318T190000
DTSTAMP:20260423T142831
CREATED:20250603T202451Z
LAST-MODIFIED:20250603T202451Z
UID:10000981-1773853200-1773860400@www.esterlibrary.org
SUMMARY:Open Hours
DESCRIPTION:
URL:https://www.esterlibrary.org/event/open-hours-20/2026-03-18/
END:VEVENT
BEGIN:VEVENT
DTSTART;TZID=America/Anchorage:20260317T160000
DTEND;TZID=America/Anchorage:20260317T190000
DTSTAMP:20260423T142831
CREATED:20250803T060121Z
LAST-MODIFIED:20250803T060122Z
UID:10001041-1773763200-1773774000@www.esterlibrary.org
SUMMARY:Knit Night/Open Hours
DESCRIPTION:
URL:https://www.esterlibrary.org/event/knit-night-open-hours-2/2026-03-17/
CATEGORIES:Events
END:VEVENT
BEGIN:VEVENT
DTSTART;TZID=America/Anchorage:20260316T150000
DTEND;TZID=America/Anchorage:20260316T180000
DTSTAMP:20260423T142831
CREATED:20250902T200222Z
LAST-MODIFIED:20250902T200222Z
UID:10001096-1773673200-1773684000@www.esterlibrary.org
SUMMARY:Kid's art and crafts
DESCRIPTION:
URL:https://www.esterlibrary.org/event/kids-art-and-crafts/2026-03-16/
CATEGORIES:Events
END:VEVENT
BEGIN:VEVENT
DTSTART;TZID=America/Anchorage:20260315T160000
DTEND;TZID=America/Anchorage:20260315T180000
DTSTAMP:20260423T142831
CREATED:20250902T200832Z
LAST-MODIFIED:20250902T200833Z
UID:10000638-1773590400-1773597600@www.esterlibrary.org
SUMMARY:Writing Circle/Open hours
DESCRIPTION:
URL:https://www.esterlibrary.org/event/writing-circle-open-hours-2/2026-03-15/
LOCATION:Clausen Cabin\, 3629 Main Street\, Ester\, 99725
CATEGORIES:Events
END:VEVENT
BEGIN:VEVENT
DTSTART;TZID=America/Anchorage:20260314T130000
DTEND;TZID=America/Anchorage:20260314T160000
DTSTAMP:20260423T142831
CREATED:20250422T013406Z
LAST-MODIFIED:20250422T013406Z
UID:10000828-1773493200-1773504000@www.esterlibrary.org
SUMMARY:Open Hours
DESCRIPTION:
URL:https://www.esterlibrary.org/event/open-hours-21/2026-03-14/
END:VEVENT
BEGIN:VEVENT
DTSTART;TZID=America/Anchorage:20260311T170000
DTEND;TZID=America/Anchorage:20260311T190000
DTSTAMP:20260423T142831
CREATED:20250603T202451Z
LAST-MODIFIED:20250603T202451Z
UID:10000980-1773248400-1773255600@www.esterlibrary.org
SUMMARY:Open Hours
DESCRIPTION:
URL:https://www.esterlibrary.org/event/open-hours-20/2026-03-11/
END:VEVENT
BEGIN:VEVENT
DTSTART;TZID=America/Anchorage:20260310T160000
DTEND;TZID=America/Anchorage:20260310T190000
DTSTAMP:20260423T142831
CREATED:20250803T060121Z
LAST-MODIFIED:20250803T060122Z
UID:10001040-1773158400-1773169200@www.esterlibrary.org
SUMMARY:Knit Night/Open Hours
DESCRIPTION:
URL:https://www.esterlibrary.org/event/knit-night-open-hours-2/2026-03-10/
CATEGORIES:Events
END:VEVENT
BEGIN:VEVENT
DTSTART;TZID=America/Anchorage:20260309T150000
DTEND;TZID=America/Anchorage:20260309T180000
DTSTAMP:20260423T142831
CREATED:20250902T200222Z
LAST-MODIFIED:20250902T200222Z
UID:10001095-1773068400-1773079200@www.esterlibrary.org
SUMMARY:Kid's art and crafts
DESCRIPTION:
URL:https://www.esterlibrary.org/event/kids-art-and-crafts/2026-03-09/
CATEGORIES:Events
END:VEVENT
BEGIN:VEVENT
DTSTART;TZID=America/Anchorage:20260308T160000
DTEND;TZID=America/Anchorage:20260308T180000
DTSTAMP:20260423T142831
CREATED:20250902T200832Z
LAST-MODIFIED:20250902T200833Z
UID:10000637-1772985600-1772992800@www.esterlibrary.org
SUMMARY:Writing Circle/Open hours
DESCRIPTION:
URL:https://www.esterlibrary.org/event/writing-circle-open-hours-2/2026-03-08/
LOCATION:Clausen Cabin\, 3629 Main Street\, Ester\, 99725
CATEGORIES:Events
END:VEVENT
BEGIN:VEVENT
DTSTART;TZID=America/Anchorage:20260307T153000
DTEND;TZID=America/Anchorage:20260307T170000
DTSTAMP:20260423T142831
CREATED:20260204T024907Z
LAST-MODIFIED:20260206T220518Z
UID:10001155-1772897400-1772902800@www.esterlibrary.org
SUMMARY:Monthly Book Club
DESCRIPTION:West with Giraffes\, by Lynda Rutledge \nFrom Amazon: \nWoodrow Wilson Nickel\, age 105\, feels his life ebbing away. But when he learns giraffes are going extinct\, he finds himself recalling the unforgettable experience he cannot take to his grave. \nIt’s 1938. The Great Depression lingers. Hitler is threatening Europe\, and world-weary Americans long for wonder. They find it in two giraffes who miraculously survive a hurricane while crossing the Atlantic. What follows is a twelve-day road trip in a custom truck to deliver Southern California’s first giraffes to the San Diego Zoo. Behind the wheel is the young Dust Bowl rowdy Woodrow. Inspired by true events\, the tale weaves real-life figures with fictional ones\, including the world’s first female zoo director\, a crusty old man with a past\, a young female photographer with a secret\, and assorted reprobates as spotty as the giraffes. \nPart adventure\, part historical saga\, and part coming-of-age love story\, West with Giraffes explores what it means to be changed by the grace of animals\, the kindness of strangers\, the passing of time\, and a story told before it’s too late.
URL:https://www.esterlibrary.org/event/monthly-book-club-2/
LOCATION:Clausen Cabin\, 3629 Main Street\, Ester\, 99725
CATEGORIES:Events
END:VEVENT
BEGIN:VEVENT
DTSTART;TZID=America/Anchorage:20260307T130000
DTEND;TZID=America/Anchorage:20260307T160000
DTSTAMP:20260423T142831
CREATED:20250422T013406Z
LAST-MODIFIED:20250422T013406Z
UID:10000827-1772888400-1772899200@www.esterlibrary.org
SUMMARY:Open Hours
DESCRIPTION:
URL:https://www.esterlibrary.org/event/open-hours-21/2026-03-07/
END:VEVENT
BEGIN:VEVENT
DTSTART;TZID=America/Anchorage:20260304T170000
DTEND;TZID=America/Anchorage:20260304T190000
DTSTAMP:20260423T142831
CREATED:20250603T202451Z
LAST-MODIFIED:20250603T202451Z
UID:10000979-1772643600-1772650800@www.esterlibrary.org
SUMMARY:Open Hours
DESCRIPTION:
URL:https://www.esterlibrary.org/event/open-hours-20/2026-03-04/
END:VEVENT
BEGIN:VEVENT
DTSTART;TZID=America/Anchorage:20260303T160000
DTEND;TZID=America/Anchorage:20260303T190000
DTSTAMP:20260423T142831
CREATED:20250803T060121Z
LAST-MODIFIED:20250803T060122Z
UID:10001039-1772553600-1772564400@www.esterlibrary.org
SUMMARY:Knit Night/Open Hours
DESCRIPTION:
URL:https://www.esterlibrary.org/event/knit-night-open-hours-2/2026-03-03/
CATEGORIES:Events
END:VEVENT
BEGIN:VEVENT
DTSTART;TZID=America/Anchorage:20260302T183000
DTEND;TZID=America/Anchorage:20260302T203000
DTSTAMP:20260423T142831
CREATED:20260216T070217Z
LAST-MODIFIED:20260216T070217Z
UID:10001157-1772476200-1772483400@www.esterlibrary.org
SUMMARY:Library Board of Director's Meeting
DESCRIPTION:
URL:https://www.esterlibrary.org/event/library-board-of-directors-meeting/
LOCATION:Clausen Cabin\, 3629 Main Street\, Ester\, 99725
CATEGORIES:Board,Meetings
END:VEVENT
END:VCALENDAR