BEGIN:VCALENDAR
VERSION:2.0
PRODID:-//Ester Village Library - ECPv6.15.20//NONSGML v1.0//EN
CALSCALE:GREGORIAN
METHOD:PUBLISH
X-WR-CALNAME:Ester Village Library
X-ORIGINAL-URL:https://www.esterlibrary.org
X-WR-CALDESC:Events for Ester Village Library
REFRESH-INTERVAL;VALUE=DURATION:PT1H
X-Robots-Tag:noindex
X-PUBLISHED-TTL:PT1H
BEGIN:VTIMEZONE
TZID:America/Anchorage
BEGIN:DAYLIGHT
TZOFFSETFROM:-0900
TZOFFSETTO:-0800
TZNAME:AKDT
DTSTART:20230312T110000
END:DAYLIGHT
BEGIN:STANDARD
TZOFFSETFROM:-0800
TZOFFSETTO:-0900
TZNAME:AKST
DTSTART:20231105T100000
END:STANDARD
BEGIN:DAYLIGHT
TZOFFSETFROM:-0900
TZOFFSETTO:-0800
TZNAME:AKDT
DTSTART:20240310T110000
END:DAYLIGHT
BEGIN:STANDARD
TZOFFSETFROM:-0800
TZOFFSETTO:-0900
TZNAME:AKST
DTSTART:20241103T100000
END:STANDARD
BEGIN:DAYLIGHT
TZOFFSETFROM:-0900
TZOFFSETTO:-0800
TZNAME:AKDT
DTSTART:20250309T110000
END:DAYLIGHT
BEGIN:STANDARD
TZOFFSETFROM:-0800
TZOFFSETTO:-0900
TZNAME:AKST
DTSTART:20251102T100000
END:STANDARD
BEGIN:DAYLIGHT
TZOFFSETFROM:-0900
TZOFFSETTO:-0800
TZNAME:AKDT
DTSTART:20260308T110000
END:DAYLIGHT
BEGIN:STANDARD
TZOFFSETFROM:-0800
TZOFFSETTO:-0900
TZNAME:AKST
DTSTART:20261101T100000
END:STANDARD
END:VTIMEZONE
BEGIN:VEVENT
DTSTART;TZID=America/Anchorage:20250125T130000
DTEND;TZID=America/Anchorage:20250125T160000
DTSTAMP:20260425T075718
CREATED:20240101T215150Z
LAST-MODIFIED:20241202T214419Z
UID:10000458-1737810000-1737820800@www.esterlibrary.org
SUMMARY:Open hours
DESCRIPTION:
URL:https://www.esterlibrary.org/event/open-hours-16/2025-01-25/
END:VEVENT
BEGIN:VEVENT
DTSTART;TZID=America/Anchorage:20250123T160000
DTEND;TZID=America/Anchorage:20250123T190000
DTSTAMP:20260425T075718
CREATED:20240306T191828Z
LAST-MODIFIED:20241130T043930Z
UID:10000127-1737648000-1737658800@www.esterlibrary.org
SUMMARY:Open Hours
DESCRIPTION:
URL:https://www.esterlibrary.org/event/open-hours-geb-program-specialist/2025-01-23/
END:VEVENT
BEGIN:VEVENT
DTSTART;TZID=America/Anchorage:20250121T150000
DTEND;TZID=America/Anchorage:20250121T190000
DTSTAMP:20260425T075718
CREATED:20241130T044318Z
LAST-MODIFIED:20250111T223118Z
UID:10000197-1737471600-1737486000@www.esterlibrary.org
SUMMARY:Knit Night and Open Hours
DESCRIPTION:
URL:https://www.esterlibrary.org/event/knit-night-and-open-hours/2025-01-21/
LOCATION:Clausen Cabin\, 3629 Main Street\, Ester\, 99725
END:VEVENT
BEGIN:VEVENT
DTSTART;TZID=America/Anchorage:20250120T160000
DTEND;TZID=America/Anchorage:20250120T180000
DTSTAMP:20260425T075718
CREATED:20240909T211921Z
LAST-MODIFIED:20250111T223037Z
UID:10000562-1737388800-1737396000@www.esterlibrary.org
SUMMARY:Art Workshop
DESCRIPTION:Young or old\, join us to bring out your creative side! Workshop participants will decide what to explore each week.
URL:https://www.esterlibrary.org/event/kids-art-programs-2024-11-18/2025-01-20/
CATEGORIES:Events
END:VEVENT
BEGIN:VEVENT
DTSTART;TZID=America/Anchorage:20250120T150000
DTEND;TZID=America/Anchorage:20250120T180000
DTSTAMP:20260425T075718
CREATED:20240101T214601Z
LAST-MODIFIED:20250111T222726Z
UID:10000363-1737385200-1737396000@www.esterlibrary.org
SUMMARY:Monday Open hours
DESCRIPTION:
URL:https://www.esterlibrary.org/event/open-hours-7/2025-01-20/
END:VEVENT
BEGIN:VEVENT
DTSTART;TZID=America/Anchorage:20250119T160000
DTEND;TZID=America/Anchorage:20250119T180000
DTSTAMP:20260425T075718
CREATED:20240813T040057Z
LAST-MODIFIED:20250111T222538Z
UID:10000513-1737302400-1737309600@www.esterlibrary.org
SUMMARY:Writing Circle (No browsing)
DESCRIPTION:Join us for some quiet time. The library is NOT open for browsing during this time.
URL:https://www.esterlibrary.org/event/writing-circle-3/2025-01-19/
LOCATION:Clausen Cabin\, 3629 Main Street\, Ester\, 99725
END:VEVENT
BEGIN:VEVENT
DTSTART;TZID=America/Anchorage:20250118T130000
DTEND;TZID=America/Anchorage:20250118T160000
DTSTAMP:20260425T075718
CREATED:20240101T215150Z
LAST-MODIFIED:20241202T214419Z
UID:10000457-1737205200-1737216000@www.esterlibrary.org
SUMMARY:Open hours
DESCRIPTION:
URL:https://www.esterlibrary.org/event/open-hours-16/2025-01-18/
END:VEVENT
BEGIN:VEVENT
DTSTART;TZID=America/Anchorage:20250116T160000
DTEND;TZID=America/Anchorage:20250116T190000
DTSTAMP:20260425T075718
CREATED:20240306T191828Z
LAST-MODIFIED:20241130T043930Z
UID:10000126-1737043200-1737054000@www.esterlibrary.org
SUMMARY:Open Hours
DESCRIPTION:
URL:https://www.esterlibrary.org/event/open-hours-geb-program-specialist/2025-01-16/
END:VEVENT
BEGIN:VEVENT
DTSTART;TZID=America/Anchorage:20250114T150000
DTEND;TZID=America/Anchorage:20250114T190000
DTSTAMP:20260425T075718
CREATED:20241130T044318Z
LAST-MODIFIED:20250111T223118Z
UID:10000196-1736866800-1736881200@www.esterlibrary.org
SUMMARY:Knit Night and Open Hours
DESCRIPTION:
URL:https://www.esterlibrary.org/event/knit-night-and-open-hours/2025-01-14/
LOCATION:Clausen Cabin\, 3629 Main Street\, Ester\, 99725
END:VEVENT
BEGIN:VEVENT
DTSTART;TZID=America/Anchorage:20250113T160000
DTEND;TZID=America/Anchorage:20250113T180000
DTSTAMP:20260425T075718
CREATED:20240909T211921Z
LAST-MODIFIED:20250111T223037Z
UID:10000561-1736784000-1736791200@www.esterlibrary.org
SUMMARY:Art Workshop
DESCRIPTION:Young or old\, join us to bring out your creative side! Workshop participants will decide what to explore each week.
URL:https://www.esterlibrary.org/event/kids-art-programs-2024-11-18/2025-01-13/
CATEGORIES:Events
END:VEVENT
BEGIN:VEVENT
DTSTART;TZID=America/Anchorage:20250113T150000
DTEND;TZID=America/Anchorage:20250113T180000
DTSTAMP:20260425T075718
CREATED:20240101T214601Z
LAST-MODIFIED:20250111T222726Z
UID:10000362-1736780400-1736791200@www.esterlibrary.org
SUMMARY:Monday Open hours
DESCRIPTION:
URL:https://www.esterlibrary.org/event/open-hours-7/2025-01-13/
END:VEVENT
BEGIN:VEVENT
DTSTART;TZID=America/Anchorage:20250112T160000
DTEND;TZID=America/Anchorage:20250112T180000
DTSTAMP:20260425T075718
CREATED:20240813T040057Z
LAST-MODIFIED:20250111T222538Z
UID:10000512-1736697600-1736704800@www.esterlibrary.org
SUMMARY:Writing Circle (No browsing)
DESCRIPTION:Join us for some quiet time. The library is NOT open for browsing during this time.
URL:https://www.esterlibrary.org/event/writing-circle-3/2025-01-12/
LOCATION:Clausen Cabin\, 3629 Main Street\, Ester\, 99725
END:VEVENT
BEGIN:VEVENT
DTSTART;TZID=America/Anchorage:20250111T143000
DTEND;TZID=America/Anchorage:20250111T150000
DTSTAMP:20260425T075718
CREATED:20241130T042850Z
LAST-MODIFIED:20241202T214139Z
UID:10000584-1736605800-1736607600@www.esterlibrary.org
SUMMARY:Children's Book Club
DESCRIPTION:
URL:https://www.esterlibrary.org/event/childrens-book-club/2025-01-11/
LOCATION:Clausen Cabin\, 3629 Main Street\, Ester\, 99725
CATEGORIES:Events
END:VEVENT
BEGIN:VEVENT
DTSTART;TZID=America/Anchorage:20250111T130000
DTEND;TZID=America/Anchorage:20250111T160000
DTSTAMP:20260425T075718
CREATED:20240101T215150Z
LAST-MODIFIED:20241202T214419Z
UID:10000456-1736600400-1736611200@www.esterlibrary.org
SUMMARY:Open hours
DESCRIPTION:
URL:https://www.esterlibrary.org/event/open-hours-16/2025-01-11/
END:VEVENT
BEGIN:VEVENT
DTSTART;TZID=America/Anchorage:20250109T160000
DTEND;TZID=America/Anchorage:20250109T190000
DTSTAMP:20260425T075718
CREATED:20240306T191828Z
LAST-MODIFIED:20241130T043930Z
UID:10000125-1736438400-1736449200@www.esterlibrary.org
SUMMARY:Open Hours
DESCRIPTION:
URL:https://www.esterlibrary.org/event/open-hours-geb-program-specialist/2025-01-09/
END:VEVENT
BEGIN:VEVENT
DTSTART;TZID=America/Anchorage:20250107T150000
DTEND;TZID=America/Anchorage:20250107T190000
DTSTAMP:20260425T075718
CREATED:20241130T044318Z
LAST-MODIFIED:20250111T223118Z
UID:10000195-1736262000-1736276400@www.esterlibrary.org
SUMMARY:Knit Night and Open Hours
DESCRIPTION:
URL:https://www.esterlibrary.org/event/knit-night-and-open-hours/2025-01-07/
LOCATION:Clausen Cabin\, 3629 Main Street\, Ester\, 99725
END:VEVENT
BEGIN:VEVENT
DTSTART;TZID=America/Anchorage:20250106T183000
DTEND;TZID=America/Anchorage:20250106T203000
DTSTAMP:20260425T075718
CREATED:20241118T220423Z
LAST-MODIFIED:20241118T220640Z
UID:10000579-1736188200-1736195400@www.esterlibrary.org
SUMMARY:Monthly Board of Director's Meeting
DESCRIPTION:
URL:https://www.esterlibrary.org/event/monthly-board-of-directors-meeting/2025-01-06/
CATEGORIES:Board
END:VEVENT
BEGIN:VEVENT
DTSTART;TZID=America/Anchorage:20250106T160000
DTEND;TZID=America/Anchorage:20250106T180000
DTSTAMP:20260425T075718
CREATED:20240909T211921Z
LAST-MODIFIED:20250111T223037Z
UID:10000560-1736179200-1736186400@www.esterlibrary.org
SUMMARY:Art Workshop
DESCRIPTION:Young or old\, join us to bring out your creative side! Workshop participants will decide what to explore each week.
URL:https://www.esterlibrary.org/event/kids-art-programs-2024-11-18/2025-01-06/
CATEGORIES:Events
END:VEVENT
BEGIN:VEVENT
DTSTART;TZID=America/Anchorage:20250106T150000
DTEND;TZID=America/Anchorage:20250106T180000
DTSTAMP:20260425T075718
CREATED:20240101T214601Z
LAST-MODIFIED:20250111T222726Z
UID:10000361-1736175600-1736186400@www.esterlibrary.org
SUMMARY:Monday Open hours
DESCRIPTION:
URL:https://www.esterlibrary.org/event/open-hours-7/2025-01-06/
END:VEVENT
BEGIN:VEVENT
DTSTART;TZID=America/Anchorage:20250105T160000
DTEND;TZID=America/Anchorage:20250105T180000
DTSTAMP:20260425T075718
CREATED:20240813T040057Z
LAST-MODIFIED:20250111T222538Z
UID:10000511-1736092800-1736100000@www.esterlibrary.org
SUMMARY:Writing Circle (No browsing)
DESCRIPTION:Join us for some quiet time. The library is NOT open for browsing during this time.
URL:https://www.esterlibrary.org/event/writing-circle-3/2025-01-05/
LOCATION:Clausen Cabin\, 3629 Main Street\, Ester\, 99725
END:VEVENT
BEGIN:VEVENT
DTSTART;TZID=America/Anchorage:20250104T150000
DTEND;TZID=America/Anchorage:20250104T163000
DTSTAMP:20260425T075718
CREATED:20240620T031016Z
LAST-MODIFIED:20250111T223404Z
UID:10000487-1736002800-1736008200@www.esterlibrary.org
SUMMARY:Book Club
DESCRIPTION:
URL:https://www.esterlibrary.org/event/book-club-7-2024-12-07-2025-01-04/2025-01-04/
LOCATION:Clausen Cabin\, 3629 Main Street\, Ester\, 99725
CATEGORIES:Announcements,Events
END:VEVENT
BEGIN:VEVENT
DTSTART;TZID=America/Anchorage:20250104T130000
DTEND;TZID=America/Anchorage:20250104T160000
DTSTAMP:20260425T075718
CREATED:20240101T215150Z
LAST-MODIFIED:20241202T214419Z
UID:10000455-1735995600-1736006400@www.esterlibrary.org
SUMMARY:Open hours
DESCRIPTION:
URL:https://www.esterlibrary.org/event/open-hours-16/2025-01-04/
END:VEVENT
BEGIN:VEVENT
DTSTART;TZID=America/Anchorage:20250102T160000
DTEND;TZID=America/Anchorage:20250102T190000
DTSTAMP:20260425T075718
CREATED:20240306T191828Z
LAST-MODIFIED:20241130T043930Z
UID:10000124-1735833600-1735844400@www.esterlibrary.org
SUMMARY:Open Hours
DESCRIPTION:
URL:https://www.esterlibrary.org/event/open-hours-geb-program-specialist/2025-01-02/
END:VEVENT
BEGIN:VEVENT
DTSTART;TZID=America/Anchorage:20241231T150000
DTEND;TZID=America/Anchorage:20241231T190000
DTSTAMP:20260425T075718
CREATED:20241130T044318Z
LAST-MODIFIED:20250111T223118Z
UID:10000194-1735657200-1735671600@www.esterlibrary.org
SUMMARY:Knit Night and Open Hours
DESCRIPTION:
URL:https://www.esterlibrary.org/event/knit-night-and-open-hours/2024-12-31/
LOCATION:Clausen Cabin\, 3629 Main Street\, Ester\, 99725
END:VEVENT
BEGIN:VEVENT
DTSTART;TZID=America/Anchorage:20241230T160000
DTEND;TZID=America/Anchorage:20241230T180000
DTSTAMP:20260425T075718
CREATED:20240909T211921Z
LAST-MODIFIED:20250111T223037Z
UID:10000559-1735574400-1735581600@www.esterlibrary.org
SUMMARY:Art Workshop
DESCRIPTION:Young or old\, join us to bring out your creative side! Workshop participants will decide what to explore each week.
URL:https://www.esterlibrary.org/event/kids-art-programs-2024-11-18/2024-12-30/
CATEGORIES:Events
END:VEVENT
BEGIN:VEVENT
DTSTART;TZID=America/Anchorage:20241230T150000
DTEND;TZID=America/Anchorage:20241230T180000
DTSTAMP:20260425T075718
CREATED:20240101T214601Z
LAST-MODIFIED:20250111T222726Z
UID:10000360-1735570800-1735581600@www.esterlibrary.org
SUMMARY:Monday Open hours
DESCRIPTION:
URL:https://www.esterlibrary.org/event/open-hours-7/2024-12-30/
END:VEVENT
BEGIN:VEVENT
DTSTART;TZID=America/Anchorage:20241229T160000
DTEND;TZID=America/Anchorage:20241229T180000
DTSTAMP:20260425T075718
CREATED:20240813T040057Z
LAST-MODIFIED:20250111T222538Z
UID:10000510-1735488000-1735495200@www.esterlibrary.org
SUMMARY:Writing Circle (No browsing)
DESCRIPTION:Join us for some quiet time. The library is NOT open for browsing during this time.
URL:https://www.esterlibrary.org/event/writing-circle-3/2024-12-29/
LOCATION:Clausen Cabin\, 3629 Main Street\, Ester\, 99725
END:VEVENT
BEGIN:VEVENT
DTSTART;TZID=America/Anchorage:20241228T143000
DTEND;TZID=America/Anchorage:20241228T160000
DTSTAMP:20260425T075718
CREATED:20241130T043143Z
LAST-MODIFIED:20241202T214223Z
UID:10000185-1735396200-1735401600@www.esterlibrary.org
SUMMARY:Children's Book Club
DESCRIPTION:
URL:https://www.esterlibrary.org/event/childrens-book-club-2/
LOCATION:Clausen Cabin\, 3629 Main Street\, Ester\, 99725
END:VEVENT
BEGIN:VEVENT
DTSTART;TZID=America/Anchorage:20241228T130000
DTEND;TZID=America/Anchorage:20241228T160000
DTSTAMP:20260425T075718
CREATED:20240101T215150Z
LAST-MODIFIED:20241202T214419Z
UID:10000454-1735390800-1735401600@www.esterlibrary.org
SUMMARY:Open hours
DESCRIPTION:
URL:https://www.esterlibrary.org/event/open-hours-16/2024-12-28/
END:VEVENT
BEGIN:VEVENT
DTSTART;TZID=America/Anchorage:20241226T160000
DTEND;TZID=America/Anchorage:20241226T190000
DTSTAMP:20260425T075718
CREATED:20240306T191828Z
LAST-MODIFIED:20241130T043930Z
UID:10000123-1735228800-1735239600@www.esterlibrary.org
SUMMARY:Open Hours
DESCRIPTION:
URL:https://www.esterlibrary.org/event/open-hours-geb-program-specialist/2024-12-26/
END:VEVENT
END:VCALENDAR