BEGIN:VCALENDAR
VERSION:2.0
PRODID:-//Ester Village Library - ECPv6.15.20//NONSGML v1.0//EN
CALSCALE:GREGORIAN
METHOD:PUBLISH
X-WR-CALNAME:Ester Village Library
X-ORIGINAL-URL:https://www.esterlibrary.org
X-WR-CALDESC:Events for Ester Village Library
REFRESH-INTERVAL;VALUE=DURATION:PT1H
X-Robots-Tag:noindex
X-PUBLISHED-TTL:PT1H
BEGIN:VTIMEZONE
TZID:America/Anchorage
BEGIN:DAYLIGHT
TZOFFSETFROM:-0900
TZOFFSETTO:-0800
TZNAME:AKDT
DTSTART:20240310T110000
END:DAYLIGHT
BEGIN:STANDARD
TZOFFSETFROM:-0800
TZOFFSETTO:-0900
TZNAME:AKST
DTSTART:20241103T100000
END:STANDARD
BEGIN:DAYLIGHT
TZOFFSETFROM:-0900
TZOFFSETTO:-0800
TZNAME:AKDT
DTSTART:20250309T110000
END:DAYLIGHT
BEGIN:STANDARD
TZOFFSETFROM:-0800
TZOFFSETTO:-0900
TZNAME:AKST
DTSTART:20251102T100000
END:STANDARD
BEGIN:DAYLIGHT
TZOFFSETFROM:-0900
TZOFFSETTO:-0800
TZNAME:AKDT
DTSTART:20260308T110000
END:DAYLIGHT
BEGIN:STANDARD
TZOFFSETFROM:-0800
TZOFFSETTO:-0900
TZNAME:AKST
DTSTART:20261101T100000
END:STANDARD
END:VTIMEZONE
BEGIN:VEVENT
DTSTART;TZID=America/Anchorage:20250412T130000
DTEND;TZID=America/Anchorage:20250412T160000
DTSTAMP:20260425T050509
CREATED:20240101T215150Z
LAST-MODIFIED:20250111T223957Z
UID:10000470-1744462800-1744473600@www.esterlibrary.org
SUMMARY:Open hours
DESCRIPTION:
URL:https://www.esterlibrary.org/event/open-hours-16-2025-02-22/2025-04-12/
END:VEVENT
BEGIN:VEVENT
DTSTART;TZID=America/Anchorage:20250410T160000
DTEND;TZID=America/Anchorage:20250410T190000
DTSTAMP:20260425T050509
CREATED:20240306T191828Z
LAST-MODIFIED:20250111T223828Z
UID:10000144-1744300800-1744311600@www.esterlibrary.org
SUMMARY:Open Hours
DESCRIPTION:
URL:https://www.esterlibrary.org/event/open-hours-geb-program-specialist-2025-02-27/2025-04-10/
END:VEVENT
BEGIN:VEVENT
DTSTART;TZID=America/Anchorage:20250408T150000
DTEND;TZID=America/Anchorage:20250408T190000
DTSTAMP:20260425T050509
CREATED:20241130T044318Z
LAST-MODIFIED:20250111T223118Z
UID:10000208-1744124400-1744138800@www.esterlibrary.org
SUMMARY:Knit Night and Open Hours
DESCRIPTION:
URL:https://www.esterlibrary.org/event/knit-night-and-open-hours/2025-04-08/
LOCATION:Clausen Cabin\, 3629 Main Street\, Ester\, 99725
END:VEVENT
BEGIN:VEVENT
DTSTART;TZID=America/Anchorage:20250407T183000
DTEND;TZID=America/Anchorage:20250407T203000
DTSTAMP:20260425T050509
CREATED:20241118T220423Z
LAST-MODIFIED:20241118T220640Z
UID:10000582-1744050600-1744057800@www.esterlibrary.org
SUMMARY:Monthly Board of Director's Meeting
DESCRIPTION:
URL:https://www.esterlibrary.org/event/monthly-board-of-directors-meeting/2025-04-07/
CATEGORIES:Board
END:VEVENT
BEGIN:VEVENT
DTSTART;TZID=America/Anchorage:20250407T160000
DTEND;TZID=America/Anchorage:20250407T180000
DTSTAMP:20260425T050509
CREATED:20240909T211921Z
LAST-MODIFIED:20250111T223037Z
UID:10000573-1744041600-1744048800@www.esterlibrary.org
SUMMARY:Art Workshop
DESCRIPTION:Young or old\, join us to bring out your creative side! Workshop participants will decide what to explore each week.
URL:https://www.esterlibrary.org/event/kids-art-programs-2024-11-18/2025-04-07/
CATEGORIES:Events
END:VEVENT
BEGIN:VEVENT
DTSTART;TZID=America/Anchorage:20250407T150000
DTEND;TZID=America/Anchorage:20250407T180000
DTSTAMP:20260425T050509
CREATED:20240101T214601Z
LAST-MODIFIED:20250111T222726Z
UID:10000374-1744038000-1744048800@www.esterlibrary.org
SUMMARY:Monday Open hours
DESCRIPTION:
URL:https://www.esterlibrary.org/event/open-hours-7/2025-04-07/
END:VEVENT
BEGIN:VEVENT
DTSTART;TZID=America/Anchorage:20250406T160000
DTEND;TZID=America/Anchorage:20250406T180000
DTSTAMP:20260425T050509
CREATED:20240813T040057Z
LAST-MODIFIED:20250111T222538Z
UID:10000524-1743955200-1743962400@www.esterlibrary.org
SUMMARY:Writing Circle (No browsing)
DESCRIPTION:Join us for some quiet time. The library is NOT open for browsing during this time.
URL:https://www.esterlibrary.org/event/writing-circle-3/2025-04-06/
LOCATION:Clausen Cabin\, 3629 Main Street\, Ester\, 99725
END:VEVENT
BEGIN:VEVENT
DTSTART;TZID=America/Anchorage:20250405T150000
DTEND;TZID=America/Anchorage:20250405T163000
DTSTAMP:20260425T050509
CREATED:20240620T031016Z
LAST-MODIFIED:20250111T223404Z
UID:10000488-1743865200-1743870600@www.esterlibrary.org
SUMMARY:Book Club
DESCRIPTION:
URL:https://www.esterlibrary.org/event/book-club-7-2024-12-07-2025-01-04/2025-04-05/
LOCATION:Clausen Cabin\, 3629 Main Street\, Ester\, 99725
CATEGORIES:Announcements,Events
END:VEVENT
BEGIN:VEVENT
DTSTART;TZID=America/Anchorage:20250405T130000
DTEND;TZID=America/Anchorage:20250405T160000
DTSTAMP:20260425T050509
CREATED:20240101T215150Z
LAST-MODIFIED:20250111T223957Z
UID:10000469-1743858000-1743868800@www.esterlibrary.org
SUMMARY:Open hours
DESCRIPTION:
URL:https://www.esterlibrary.org/event/open-hours-16-2025-02-22/2025-04-05/
END:VEVENT
BEGIN:VEVENT
DTSTART;TZID=America/Anchorage:20250403T160000
DTEND;TZID=America/Anchorage:20250403T190000
DTSTAMP:20260425T050509
CREATED:20240306T191828Z
LAST-MODIFIED:20250111T223828Z
UID:10000143-1743696000-1743706800@www.esterlibrary.org
SUMMARY:Open Hours
DESCRIPTION:
URL:https://www.esterlibrary.org/event/open-hours-geb-program-specialist-2025-02-27/2025-04-03/
END:VEVENT
BEGIN:VEVENT
DTSTART;TZID=America/Anchorage:20250401T150000
DTEND;TZID=America/Anchorage:20250401T190000
DTSTAMP:20260425T050509
CREATED:20241130T044318Z
LAST-MODIFIED:20250111T223118Z
UID:10000207-1743519600-1743534000@www.esterlibrary.org
SUMMARY:Knit Night and Open Hours
DESCRIPTION:
URL:https://www.esterlibrary.org/event/knit-night-and-open-hours/2025-04-01/
LOCATION:Clausen Cabin\, 3629 Main Street\, Ester\, 99725
END:VEVENT
BEGIN:VEVENT
DTSTART;TZID=America/Anchorage:20250331T160000
DTEND;TZID=America/Anchorage:20250331T180000
DTSTAMP:20260425T050509
CREATED:20240909T211921Z
LAST-MODIFIED:20250111T223037Z
UID:10000572-1743436800-1743444000@www.esterlibrary.org
SUMMARY:Art Workshop
DESCRIPTION:Young or old\, join us to bring out your creative side! Workshop participants will decide what to explore each week.
URL:https://www.esterlibrary.org/event/kids-art-programs-2024-11-18/2025-03-31/
CATEGORIES:Events
END:VEVENT
BEGIN:VEVENT
DTSTART;TZID=America/Anchorage:20250331T150000
DTEND;TZID=America/Anchorage:20250331T180000
DTSTAMP:20260425T050509
CREATED:20240101T214601Z
LAST-MODIFIED:20250111T222726Z
UID:10000373-1743433200-1743444000@www.esterlibrary.org
SUMMARY:Monday Open hours
DESCRIPTION:
URL:https://www.esterlibrary.org/event/open-hours-7/2025-03-31/
END:VEVENT
BEGIN:VEVENT
DTSTART;TZID=America/Anchorage:20250330T160000
DTEND;TZID=America/Anchorage:20250330T180000
DTSTAMP:20260425T050509
CREATED:20240813T040057Z
LAST-MODIFIED:20250111T222538Z
UID:10000523-1743350400-1743357600@www.esterlibrary.org
SUMMARY:Writing Circle (No browsing)
DESCRIPTION:Join us for some quiet time. The library is NOT open for browsing during this time.
URL:https://www.esterlibrary.org/event/writing-circle-3/2025-03-30/
LOCATION:Clausen Cabin\, 3629 Main Street\, Ester\, 99725
END:VEVENT
BEGIN:VEVENT
DTSTART;TZID=America/Anchorage:20250329T130000
DTEND;TZID=America/Anchorage:20250329T160000
DTSTAMP:20260425T050509
CREATED:20240101T215150Z
LAST-MODIFIED:20250111T223957Z
UID:10000468-1743253200-1743264000@www.esterlibrary.org
SUMMARY:Open hours
DESCRIPTION:
URL:https://www.esterlibrary.org/event/open-hours-16-2025-02-22/2025-03-29/
END:VEVENT
BEGIN:VEVENT
DTSTART;TZID=America/Anchorage:20250327T160000
DTEND;TZID=America/Anchorage:20250327T190000
DTSTAMP:20260425T050509
CREATED:20240306T191828Z
LAST-MODIFIED:20250111T223828Z
UID:10000142-1743091200-1743102000@www.esterlibrary.org
SUMMARY:Open Hours
DESCRIPTION:
URL:https://www.esterlibrary.org/event/open-hours-geb-program-specialist-2025-02-27/2025-03-27/
END:VEVENT
BEGIN:VEVENT
DTSTART;TZID=America/Anchorage:20250325T150000
DTEND;TZID=America/Anchorage:20250325T190000
DTSTAMP:20260425T050509
CREATED:20241130T044318Z
LAST-MODIFIED:20250111T223118Z
UID:10000206-1742914800-1742929200@www.esterlibrary.org
SUMMARY:Knit Night and Open Hours
DESCRIPTION:
URL:https://www.esterlibrary.org/event/knit-night-and-open-hours/2025-03-25/
LOCATION:Clausen Cabin\, 3629 Main Street\, Ester\, 99725
END:VEVENT
BEGIN:VEVENT
DTSTART;TZID=America/Anchorage:20250324T160000
DTEND;TZID=America/Anchorage:20250324T180000
DTSTAMP:20260425T050509
CREATED:20240909T211921Z
LAST-MODIFIED:20250111T223037Z
UID:10000571-1742832000-1742839200@www.esterlibrary.org
SUMMARY:Art Workshop
DESCRIPTION:Young or old\, join us to bring out your creative side! Workshop participants will decide what to explore each week.
URL:https://www.esterlibrary.org/event/kids-art-programs-2024-11-18/2025-03-24/
CATEGORIES:Events
END:VEVENT
BEGIN:VEVENT
DTSTART;TZID=America/Anchorage:20250324T150000
DTEND;TZID=America/Anchorage:20250324T180000
DTSTAMP:20260425T050509
CREATED:20240101T214601Z
LAST-MODIFIED:20250111T222726Z
UID:10000372-1742828400-1742839200@www.esterlibrary.org
SUMMARY:Monday Open hours
DESCRIPTION:
URL:https://www.esterlibrary.org/event/open-hours-7/2025-03-24/
END:VEVENT
BEGIN:VEVENT
DTSTART;TZID=America/Anchorage:20250323T160000
DTEND;TZID=America/Anchorage:20250323T180000
DTSTAMP:20260425T050509
CREATED:20240813T040057Z
LAST-MODIFIED:20250111T222538Z
UID:10000522-1742745600-1742752800@www.esterlibrary.org
SUMMARY:Writing Circle (No browsing)
DESCRIPTION:Join us for some quiet time. The library is NOT open for browsing during this time.
URL:https://www.esterlibrary.org/event/writing-circle-3/2025-03-23/
LOCATION:Clausen Cabin\, 3629 Main Street\, Ester\, 99725
END:VEVENT
BEGIN:VEVENT
DTSTART;TZID=America/Anchorage:20250322T143000
DTEND;TZID=America/Anchorage:20250322T160000
DTSTAMP:20260425T050509
CREATED:20241130T043143Z
LAST-MODIFIED:20250111T224238Z
UID:10000188-1742653800-1742659200@www.esterlibrary.org
SUMMARY:Children's Book Club
DESCRIPTION:
URL:https://www.esterlibrary.org/event/childrens-book-club-2-2025-01-25/2025-03-22/
LOCATION:Clausen Cabin\, 3629 Main Street\, Ester\, 99725
END:VEVENT
BEGIN:VEVENT
DTSTART;TZID=America/Anchorage:20250322T130000
DTEND;TZID=America/Anchorage:20250322T160000
DTSTAMP:20260425T050509
CREATED:20240101T215150Z
LAST-MODIFIED:20250111T223957Z
UID:10000467-1742648400-1742659200@www.esterlibrary.org
SUMMARY:Open hours
DESCRIPTION:
URL:https://www.esterlibrary.org/event/open-hours-16-2025-02-22/2025-03-22/
END:VEVENT
BEGIN:VEVENT
DTSTART;TZID=America/Anchorage:20250320T160000
DTEND;TZID=America/Anchorage:20250320T190000
DTSTAMP:20260425T050509
CREATED:20240306T191828Z
LAST-MODIFIED:20250111T223828Z
UID:10000141-1742486400-1742497200@www.esterlibrary.org
SUMMARY:Open Hours
DESCRIPTION:
URL:https://www.esterlibrary.org/event/open-hours-geb-program-specialist-2025-02-27/2025-03-20/
END:VEVENT
BEGIN:VEVENT
DTSTART;TZID=America/Anchorage:20250318T150000
DTEND;TZID=America/Anchorage:20250318T190000
DTSTAMP:20260425T050509
CREATED:20241130T044318Z
LAST-MODIFIED:20250111T223118Z
UID:10000205-1742310000-1742324400@www.esterlibrary.org
SUMMARY:Knit Night and Open Hours
DESCRIPTION:
URL:https://www.esterlibrary.org/event/knit-night-and-open-hours/2025-03-18/
LOCATION:Clausen Cabin\, 3629 Main Street\, Ester\, 99725
END:VEVENT
BEGIN:VEVENT
DTSTART;TZID=America/Anchorage:20250317T160000
DTEND;TZID=America/Anchorage:20250317T180000
DTSTAMP:20260425T050509
CREATED:20240909T211921Z
LAST-MODIFIED:20250111T223037Z
UID:10000570-1742227200-1742234400@www.esterlibrary.org
SUMMARY:Art Workshop
DESCRIPTION:Young or old\, join us to bring out your creative side! Workshop participants will decide what to explore each week.
URL:https://www.esterlibrary.org/event/kids-art-programs-2024-11-18/2025-03-17/
CATEGORIES:Events
END:VEVENT
BEGIN:VEVENT
DTSTART;TZID=America/Anchorage:20250317T150000
DTEND;TZID=America/Anchorage:20250317T180000
DTSTAMP:20260425T050509
CREATED:20240101T214601Z
LAST-MODIFIED:20250111T222726Z
UID:10000371-1742223600-1742234400@www.esterlibrary.org
SUMMARY:Monday Open hours
DESCRIPTION:
URL:https://www.esterlibrary.org/event/open-hours-7/2025-03-17/
END:VEVENT
BEGIN:VEVENT
DTSTART;TZID=America/Anchorage:20250316T160000
DTEND;TZID=America/Anchorage:20250316T180000
DTSTAMP:20260425T050509
CREATED:20240813T040057Z
LAST-MODIFIED:20250111T222538Z
UID:10000521-1742140800-1742148000@www.esterlibrary.org
SUMMARY:Writing Circle (No browsing)
DESCRIPTION:Join us for some quiet time. The library is NOT open for browsing during this time.
URL:https://www.esterlibrary.org/event/writing-circle-3/2025-03-16/
LOCATION:Clausen Cabin\, 3629 Main Street\, Ester\, 99725
END:VEVENT
BEGIN:VEVENT
DTSTART;TZID=America/Anchorage:20250315T130000
DTEND;TZID=America/Anchorage:20250315T160000
DTSTAMP:20260425T050509
CREATED:20240101T215150Z
LAST-MODIFIED:20250111T223957Z
UID:10000466-1742043600-1742054400@www.esterlibrary.org
SUMMARY:Open hours
DESCRIPTION:
URL:https://www.esterlibrary.org/event/open-hours-16-2025-02-22/2025-03-15/
END:VEVENT
BEGIN:VEVENT
DTSTART;TZID=America/Anchorage:20250313T160000
DTEND;TZID=America/Anchorage:20250313T190000
DTSTAMP:20260425T050509
CREATED:20240306T191828Z
LAST-MODIFIED:20250111T223828Z
UID:10000140-1741881600-1741892400@www.esterlibrary.org
SUMMARY:Open Hours
DESCRIPTION:
URL:https://www.esterlibrary.org/event/open-hours-geb-program-specialist-2025-02-27/2025-03-13/
END:VEVENT
BEGIN:VEVENT
DTSTART;TZID=America/Anchorage:20250311T150000
DTEND;TZID=America/Anchorage:20250311T190000
DTSTAMP:20260425T050509
CREATED:20241130T044318Z
LAST-MODIFIED:20250111T223118Z
UID:10000204-1741705200-1741719600@www.esterlibrary.org
SUMMARY:Knit Night and Open Hours
DESCRIPTION:
URL:https://www.esterlibrary.org/event/knit-night-and-open-hours/2025-03-11/
LOCATION:Clausen Cabin\, 3629 Main Street\, Ester\, 99725
END:VEVENT
END:VCALENDAR