BEGIN:VCALENDAR
VERSION:2.0
PRODID:-//Ester Village Library - ECPv6.15.20//NONSGML v1.0//EN
CALSCALE:GREGORIAN
METHOD:PUBLISH
X-WR-CALNAME:Ester Village Library
X-ORIGINAL-URL:https://www.esterlibrary.org
X-WR-CALDESC:Events for Ester Village Library
REFRESH-INTERVAL;VALUE=DURATION:PT1H
X-Robots-Tag:noindex
X-PUBLISHED-TTL:PT1H
BEGIN:VTIMEZONE
TZID:America/Anchorage
BEGIN:DAYLIGHT
TZOFFSETFROM:-0900
TZOFFSETTO:-0800
TZNAME:AKDT
DTSTART:20150308T110000
END:DAYLIGHT
BEGIN:STANDARD
TZOFFSETFROM:-0800
TZOFFSETTO:-0900
TZNAME:AKST
DTSTART:20151101T100000
END:STANDARD
BEGIN:DAYLIGHT
TZOFFSETFROM:-0900
TZOFFSETTO:-0800
TZNAME:AKDT
DTSTART:20160313T110000
END:DAYLIGHT
BEGIN:STANDARD
TZOFFSETFROM:-0800
TZOFFSETTO:-0900
TZNAME:AKST
DTSTART:20161106T100000
END:STANDARD
BEGIN:DAYLIGHT
TZOFFSETFROM:-0900
TZOFFSETTO:-0800
TZNAME:AKDT
DTSTART:20170312T110000
END:DAYLIGHT
BEGIN:STANDARD
TZOFFSETFROM:-0800
TZOFFSETTO:-0900
TZNAME:AKST
DTSTART:20171105T100000
END:STANDARD
BEGIN:DAYLIGHT
TZOFFSETFROM:-0900
TZOFFSETTO:-0800
TZNAME:AKDT
DTSTART:20180311T110000
END:DAYLIGHT
BEGIN:STANDARD
TZOFFSETFROM:-0800
TZOFFSETTO:-0900
TZNAME:AKST
DTSTART:20181104T100000
END:STANDARD
END:VTIMEZONE
BEGIN:VEVENT
DTSTART;TZID=America/Anchorage:20170912T183000
DTEND;TZID=America/Anchorage:20170912T203000
DTSTAMP:20260425T073327
CREATED:20170815T191617Z
LAST-MODIFIED:20170912T202440Z
UID:10000043-1505241000-1505248200@www.esterlibrary.org
SUMMARY:September Board Meeting
DESCRIPTION:Agenda
URL:https://www.esterlibrary.org/event/september-board-meeting/
CATEGORIES:Board,Meetings
END:VEVENT
BEGIN:VEVENT
DTSTART;TZID=America/Anchorage:20170904T183000
DTEND;TZID=America/Anchorage:20170904T193000
DTSTAMP:20260425T073327
CREATED:20170901T031515Z
LAST-MODIFIED:20170901T031515Z
UID:10000045-1504549800-1504553400@www.esterlibrary.org
SUMMARY:Finance Committee meeting
DESCRIPTION: Finance Committee minutes August 1\, 2017 \nOld Business — Finance \nRestricted Funds accounting \n New Business \n\nAugust Finance report\nBills\, income\, and reimbursements\n            Income –Fred Meyers\, barrel stove\,\n            Outgo – Dotster\, Librarything\, property taxes\n            Other expenses\nFundraising – Li-Berry\nBudget status\nCollections assessment\nFinance policy updates – review sample policy\nPreparation of report for BOD meeting
URL:https://www.esterlibrary.org/event/finance-committee-meeting-22/
END:VEVENT
BEGIN:VEVENT
DTSTART;TZID=America/Anchorage:20170808T183000
DTEND;TZID=America/Anchorage:20170808T203000
DTSTAMP:20260425T073327
CREATED:20170803T173001Z
LAST-MODIFIED:20170803T173001Z
UID:10000039-1502217000-1502224200@www.esterlibrary.org
SUMMARY:August Board of Directors Meeting
DESCRIPTION:
URL:https://www.esterlibrary.org/event/august-board-of-directors-meeting/
LOCATION:Clausen Cabin\, 3629 Main Street\, Ester\, 99725
CATEGORIES:Board,Meetings
END:VEVENT
BEGIN:VEVENT
DTSTART;TZID=America/Anchorage:20170801T183000
DTEND;TZID=America/Anchorage:20170801T203000
DTSTAMP:20260425T073327
CREATED:20170730T171635Z
LAST-MODIFIED:20170730T171635Z
UID:10000176-1501612200-1501619400@www.esterlibrary.org
SUMMARY:Finance Committee meeting
DESCRIPTION:Finance Committee minutes July 10\, 2017 \n Old Business — Finance \nRestricted Funds accounting \n New Business \n\nJuly Finance report\nBills\, income\, and reimbursements\n            Tape & Tarp\n            Membership\n            Dotster\n            Other expenses\nFundraising – Li-Berry budget\nBudget status\nCRS completion report\nCollections assessment\nFinance policy updates – review sample policy\nPreparation of report for BOD meeting
URL:https://www.esterlibrary.org/event/finance-committee-meeting-21/
END:VEVENT
BEGIN:VEVENT
DTSTART;TZID=America/Anchorage:20170715T190000
DTEND;TZID=America/Anchorage:20170715T230000
DTSTAMP:20260425T073327
CREATED:20170615T171849Z
LAST-MODIFIED:20170615T171849Z
UID:10000173-1500145200-1500159600@www.esterlibrary.org
SUMMARY:Tape and Tarp Ball
DESCRIPTION:
URL:https://www.esterlibrary.org/event/tape-and-tarp-ball/
LOCATION:Malemute Saloon\, Village Road\, Ester\, 99725\, United States
CATEGORIES:Events,Fundraising
END:VEVENT
BEGIN:VEVENT
DTSTART;TZID=America/Anchorage:20170711T183000
DTEND;TZID=America/Anchorage:20170711T203000
DTSTAMP:20260425T073327
CREATED:20170629T174441Z
LAST-MODIFIED:20170707T182824Z
UID:10000174-1499797800-1499805000@www.esterlibrary.org
SUMMARY:July Board Meeting
DESCRIPTION:Agenda
URL:https://www.esterlibrary.org/event/july-board-meeting-2/
LOCATION:Clausen Cabin\, 3629 Main Street\, Ester\, 99725
CATEGORIES:Board,Meetings
END:VEVENT
BEGIN:VEVENT
DTSTART;TZID=America/Anchorage:20170710T183000
DTEND;TZID=America/Anchorage:20170710T200000
DTSTAMP:20260425T073327
CREATED:20170703T180158Z
LAST-MODIFIED:20170703T180158Z
UID:10000175-1499711400-1499716800@www.esterlibrary.org
SUMMARY:Finance Committee meeting
DESCRIPTION:
URL:https://www.esterlibrary.org/event/finance-committee-meeting-20/
CATEGORIES:Finance,Meetings
END:VEVENT
BEGIN:VEVENT
DTSTART;TZID=America/Anchorage:20170625T120000
DTEND;TZID=America/Anchorage:20170625T160000
DTSTAMP:20260425T073327
CREATED:20170615T170340Z
LAST-MODIFIED:20170615T170340Z
UID:10000172-1498392000-1498406400@www.esterlibrary.org
SUMMARY:Garden/Yard Clean-up Party
DESCRIPTION:
URL:https://www.esterlibrary.org/event/gardenyard-clean-up-party/
LOCATION:Clausen Cabin\, 3629 Main Street\, Ester\, 99725
CATEGORIES:Events
END:VEVENT
BEGIN:VEVENT
DTSTART;TZID=America/Anchorage:20170613T183000
DTEND;TZID=America/Anchorage:20170613T203000
DTSTAMP:20260425T073327
CREATED:20170523T171350Z
LAST-MODIFIED:20170603T185305Z
UID:10000170-1497378600-1497385800@www.esterlibrary.org
SUMMARY:June Board of Director's Meeting
DESCRIPTION:
URL:https://www.esterlibrary.org/event/june-board-of-directors-meeting/
LOCATION:Clausen Cabin\, 3629 Main Street\, Ester\, 99725
CATEGORIES:Announcements,Board,Meetings
END:VEVENT
BEGIN:VEVENT
DTSTART;TZID=America/Anchorage:20170608T183000
DTEND;TZID=America/Anchorage:20170608T200000
DTSTAMP:20260425T073327
CREATED:20170603T185212Z
LAST-MODIFIED:20170622T213938Z
UID:10000171-1496946600-1496952000@www.esterlibrary.org
SUMMARY:Finance Committee meeting
DESCRIPTION:Finance Committee minutes June 8\, 2017 \nMembers Present: Mindy\, S.T.\, Monique \nMinutes approved – from May 2 and April 4 \nAccounting review – completed. Cost: $350 \nRestricted funds accounting: \nBought beanbags from Kids Read grant \nDedicated funding for accountant- some carry forward \nReworked Community Revenue Sharing accounting for this fiscal year – preparing for year-end report.  Mindy will file closing paperwork at the end of June. \n990 E-Z is filed with IRS and accounting expenses paid. \nNew Quickbooks progress: The process of filing the E-Z form led to some accounting questions and Quickbooks updates.  In some line-item areas\, ST noticed amounts that didn’t match\, these were found to be in other areas.  ST worked to resolve accounts to match records/files\, accountant Virginia Farmier also back-dated depreciation. \nReviewed May monthly finance summary. \nBills/Income/Reimbursements: \nPurchased raspberries (need to set-up rain catch system or plan for hauling water. The more that we plant or develop in the yard\, the more we need to address water) \nBudget status – at 54% of expected budget – (not counting final Behr bill and PH grants/expenditures) \nFinance policy –A draft generic policy was downloaded for review and adaptation.  Discussed some of the good aspects of the policy – was interested in particular in the budgeting process and other suggested standard operating procedures.  We should establish deadlines for the planning process. Suggest having a draft budget developed for the board in August and approved under the new board in November.  Mindy and ST will review the policy and draft an initial JTEL version. \nProposed budget for the Tape & Tarp Ball \nSound – $350 \nBand – $125 \nMarketing – $50 \nAuction supplies – printing\, tickets\, etc. – $30 \nTotal = $555 \nCookbooks and t-shirt sales – we need to order more binders for cookbooks and will discuss t-shirt sales with the board. \nPublicity – Discussed poster with Amanda\, she is going to do this \nMonique will create a Facebook Event: \nCotton Ginny @ the Malemute Saloon\, July 15\, 2017\, 7 p.m. – 11 p.m. \nS.T. developed a donation letter – board members need to get out and hustle donations \nBehr electric – still need a final bill.  Will send a check along with estimate less credit tendered in order to close it out. \nAdditional donor recognition needs to be added to the Friend of the Library page to recognize those who donated to the accounting review fund. \nOther: \nGulliver’s Credit – need to make a plan to purchase books while Gulliver’s is still open. We have about $1\,354 in used book credit. \nPurchase hardbacks of various styles to help establish the Clausen collection \nFill in missing books (e.g. Harry Potter series) \nSeek out young adult section \nAdjourn 7:37 \n 
URL:https://www.esterlibrary.org/event/finance-committee-meeting-19/
CATEGORIES:Finance,Meetings
END:VEVENT
BEGIN:VEVENT
DTSTART;TZID=America/Anchorage:20170509T063000
DTEND;TZID=America/Anchorage:20170509T203000
DTSTAMP:20260425T073327
CREATED:20170414T180240Z
LAST-MODIFIED:20170504T164934Z
UID:10000168-1494311400-1494361800@www.esterlibrary.org
SUMMARY:May Board of Directors Meeting
DESCRIPTION:May 9\, 2017 Agenda
URL:https://www.esterlibrary.org/event/may-board-of-directors-meeting/
LOCATION:Clausen Cabin\, 3629 Main Street\, Ester\, 99725
CATEGORIES:Board,Meetings
END:VEVENT
BEGIN:VEVENT
DTSTART;TZID=America/Anchorage:20170502T183000
DTEND;TZID=America/Anchorage:20170502T193000
DTSTAMP:20260425T073327
CREATED:20170430T005455Z
LAST-MODIFIED:20170504T164524Z
UID:10000169-1493749800-1493753400@www.esterlibrary.org
SUMMARY:Finance Committee meeting
DESCRIPTION:Finance Committee Meeting Minutes May 2\, 2017 \nFinance Committee minutes April 4\, 2017 \n Old Business — Finance \n\nRestricted Funds accounting\n            Outstanding bill for Bear Electric\n            Tracking Kids Read grant\n            Tracking accounting cost donations\n\n New Business \n\nMarch and preliminary April Finance Reports\nBills\, income\, and reimbursements\nAccounting review and 990 EZ progress\nNew QuickBooks program progress\nMid-year finance numbers/ budget revision\nAlaska Library Association dues\nFinance policy updates:\n            Petty cash\n            Other?\nFundraising plans\nPreparation of report for BOD meeting
URL:https://www.esterlibrary.org/event/finance-committee-meeting-18/
CATEGORIES:Finance,Meetings
END:VEVENT
BEGIN:VEVENT
DTSTART;TZID=America/Anchorage:20170411T183000
DTEND;TZID=America/Anchorage:20170411T203000
DTSTAMP:20260425T073327
CREATED:20170309T010724Z
LAST-MODIFIED:20170421T173857Z
UID:10000166-1491935400-1491942600@www.esterlibrary.org
SUMMARY:April Board of Directors Meeting
DESCRIPTION:Here is the Agenda\, the Minutes and Deirdre Helfferich’s resignation letter
URL:https://www.esterlibrary.org/event/april-board-of-directors-meeting/
LOCATION:Clausen Cabin\, 3629 Main Street\, Ester\, 99725
CATEGORIES:Board,Meetings
END:VEVENT
BEGIN:VEVENT
DTSTART;TZID=America/Anchorage:20170404T183000
DTEND;TZID=America/Anchorage:20170404T193000
DTSTAMP:20260425T073327
CREATED:20170329T002722Z
LAST-MODIFIED:20170401T161631Z
UID:10000167-1491330600-1491334200@www.esterlibrary.org
SUMMARY:Finance Committee meeting
DESCRIPTION:Finance Committee minutes January 29\, 2017 \nFinance Committee minutes February 28\, 2017 \n Old Business — Finance \n\nRestricted Funds accounting\nSigners on accounts – Mt. McKinley done!\n\nNew Business \n\nFebruary and preliminary March Finance Reports\nBills\, income\, and reimbursements\nFuel oil payment/delivery/auto-delivery?\nAccounting review\, status for fiscal year to date\nNew QuickBooks program progress\n1099 report to IRS\, and extension of time for filing\nEndowment fund contact questions\nPick-Click-Give filing\nAlaska Library Association dues\nForaker Group dues\nFundraising plans\nNeed for policy updates re: finance\nPreparation of report for BOD meeting
URL:https://www.esterlibrary.org/event/finance-committee-meeting-17/
CATEGORIES:Announcements,Finance,Meetings
END:VEVENT
BEGIN:VEVENT
DTSTART;TZID=America/Anchorage:20170306T063000
DTEND;TZID=America/Anchorage:20170306T203000
DTSTAMP:20260425T073327
CREATED:20170217T201143Z
LAST-MODIFIED:20170311T213614Z
UID:10000164-1488781800-1488832200@www.esterlibrary.org
SUMMARY:March Board of Directors Meeting
DESCRIPTION:Here is the agenda: Board Meeting Agenda \nHere are the minutes: Minutes
URL:https://www.esterlibrary.org/event/march-board-of-directors-meeting/
LOCATION:Clausen Cabin\, 3629 Main Street\, Ester\, 99725
CATEGORIES:Announcements,Board,Meetings
END:VEVENT
BEGIN:VEVENT
DTSTART;TZID=America/Anchorage:20170304T130000
DTEND;TZID=America/Anchorage:20170304T170000
DTSTAMP:20260425T073327
CREATED:20170123T210531Z
LAST-MODIFIED:20170305T173101Z
UID:10000162-1488632400-1488646800@www.esterlibrary.org
SUMMARY:Seedy Saturday #2
DESCRIPTION:Schedule: \n\n11 am: setup\n1 pm: doors open\n3 pm: featured speaker: Dr. Carol E. Lewis\, Dean & Director Emerita of the UAF School of Natural Resources & Agricultural Sciences and the Alaska Agricultural & Forestry Experiment Station\, on the history of the Experiment Station\n5 pm: doors close\, cleanup\n\nMore information: \n\n2nd Seedy Saturday update\nTreatise by Carol E. Lewis: Alaska’s Agricultural Experiment Station (PDF\, 9 pp.\, includes bibliography)\nSeedy Saturday notes\n1st Seedy Saturday a HUGE success!!\nPress release on Seedy Saturdays\nCommunity Seed Resources\nSeedy Saturdays Are Coming!
URL:https://www.esterlibrary.org/event/seedy-saturday-2-2/
CATEGORIES:Events
END:VEVENT
BEGIN:VEVENT
DTSTART;TZID=America/Anchorage:20170228T183000
DTEND;TZID=America/Anchorage:20170228T193000
DTSTAMP:20260425T073327
CREATED:20170219T221005Z
LAST-MODIFIED:20170226T203212Z
UID:10000165-1488306600-1488310200@www.esterlibrary.org
SUMMARY:Finance Committee meeting
DESCRIPTION:Finance Committee minutes January 29\, 2017 \n Old Business — Finance \n\nRestricted Funds accounting\nSigners on accounts – Mt. McKinley\n\nNew Business \n\nJanuary and preliminary February Finance Reports\nBills\, income\, and reimbursements\nAccounting review\, new QuickBooks program\n1099 report to IRS\nEndowment fund contact questions\nFundraising plans\nPreparation of report for BOD meeting
URL:https://www.esterlibrary.org/event/finance-committee-meeting-16/
END:VEVENT
BEGIN:VEVENT
DTSTART;TZID=America/Anchorage:20170225T130000
DTEND;TZID=America/Anchorage:20170225T170000
DTSTAMP:20260425T073327
CREATED:20170123T200405Z
LAST-MODIFIED:20170303T212336Z
UID:10000161-1488027600-1488042000@www.esterlibrary.org
SUMMARY:Seedy Saturday #1
DESCRIPTION:Schedule: \n\n11 am: setup\n1 pm: doors open\n3 pm: featured speaker: Christine & Brad St. Pierre of Goosefoot Farm\, a diversified vegetable farm using ecological\, sustainable methods\n5 pm: doors close\, cleanup\n\nLinks to more information about this year’s Seedy Saturdays.
URL:https://www.esterlibrary.org/event/seedy-saturday-1-2/
LOCATION:Hartung Hall
CATEGORIES:Events
END:VEVENT
BEGIN:VEVENT
DTSTART;TZID=America/Anchorage:20170213T100000
DTEND;TZID=America/Anchorage:20170213T110000
DTSTAMP:20260425T073327
CREATED:20170209T182637Z
LAST-MODIFIED:20170211T030958Z
UID:10000163-1486980000-1486983600@www.esterlibrary.org
SUMMARY:Grants Committee mtg
DESCRIPTION:Items for discussion: \n\nPick.Click.Give. webinar\, grants\, and developments\nCAPSIS application to legislature for Phase 2\nPossibility of resolution of support/matching grant from FNSB\nother grants
URL:https://www.esterlibrary.org/event/grants-committee-mtg-2/
LOCATION:Clausen Cabin\, 3629 Main Street\, Ester\, 99725
CATEGORIES:Fundraising,Grants,Meetings
END:VEVENT
BEGIN:VEVENT
DTSTART;TZID=America/Anchorage:20170211T170000
DTEND;TZID=America/Anchorage:20170211T180000
DTSTAMP:20260425T073327
CREATED:20170123T181508Z
LAST-MODIFIED:20170129T021053Z
UID:10000160-1486832400-1486836000@www.esterlibrary.org
SUMMARY:Garden Group
DESCRIPTION:Organizing meeting for summer gardening events and schedule\, with tentative agenda: \n\nCommunity Seed Resource Program Toolkit\nSeedy Saturdays: February 25 & March 4 (preview & assignments)\nCommunity garden repair & upkeep/oversight assignments\nHistoric & perennial bed care assignments at Clausen Cabin\nGazebo perennial bed care assignments\nFlower pots & maintenance\nGarden work parties\n\nSee Garden Group page for general info and last year’s plans.
URL:https://www.esterlibrary.org/event/garden-group/
LOCATION:Clausen Cabin\, 3629 Main Street\, Ester\, 99725
CATEGORIES:Meetings
END:VEVENT
BEGIN:VEVENT
DTSTART;TZID=America/Anchorage:20170207T183000
DTEND;TZID=America/Anchorage:20170207T203000
DTSTAMP:20260425T073327
CREATED:20170120T195240Z
LAST-MODIFIED:20170120T195240Z
UID:10000159-1486492200-1486499400@www.esterlibrary.org
SUMMARY:February Board of Director's Meeting
DESCRIPTION:
URL:https://www.esterlibrary.org/event/february-board-of-directors-meeting/
LOCATION:Clausen Cabin\, 3629 Main Street\, Ester\, 99725
CATEGORIES:Announcements,Board,Meetings
END:VEVENT
BEGIN:VEVENT
DTSTART;TZID=America/Anchorage:20170130T183000
DTEND;TZID=America/Anchorage:20170130T193000
DTSTAMP:20260425T073327
CREATED:20170117T012913Z
LAST-MODIFIED:20170406T205753Z
UID:10000157-1485801000-1485804600@www.esterlibrary.org
SUMMARY:Finance committee meeting
DESCRIPTION:Minutes: JTEL Finance Committee \nAgenda for January 30\, 2017 \n Finance Committee minutes January 3\, 2017 \n Old Business — Finance \n\nRestricted Funds accounting\nFinal budget for FY 2017\nSigners on accounts – Mt. McKinley\nList of donors\, end of year letters sent\n\nNew Business \n\nDecember and preliminary January Finance Reports\nBills and reimbursements\nAccounting review\, new QuickBooks program\nState of Alaska corporate paperwork\nGVEA bills/refund of deposit\nFred Meyer Community Rewards\n1099 forms\nFundraising plans\nPreparation of report for BOD meeting
URL:https://www.esterlibrary.org/event/finance-committee-meeting-15/
CATEGORIES:Finance,Meetings
END:VEVENT
BEGIN:VEVENT
DTSTART;TZID=America/Anchorage:20170110T063000
DTEND;TZID=America/Anchorage:20170110T203000
DTSTAMP:20260425T073327
CREATED:20170101T212006Z
LAST-MODIFIED:20170120T194822Z
UID:10000153-1484029800-1484080200@www.esterlibrary.org
SUMMARY:January Board of Director's Meeting
DESCRIPTION:Agenda: board-meeting-agenda \n 
URL:https://www.esterlibrary.org/event/january-board-of-directors-meeting/
LOCATION:Clausen Cabin\, 3629 Main Street\, Ester\, 99725
CATEGORIES:Announcements,Board,Events,Meetings
END:VEVENT
BEGIN:VEVENT
DTSTART;TZID=America/Anchorage:20170109T130000
DTEND;TZID=America/Anchorage:20170109T140000
DTSTAMP:20260425T073327
CREATED:20170109T193047Z
LAST-MODIFIED:20170112T022950Z
UID:10000155-1483966800-1483970400@www.esterlibrary.org
SUMMARY:Grants Committee Mtg
DESCRIPTION:Meeting at 1ish at the Clausen Cabin to go over CAPSIS submission\, contact form for Paul G. Allen Family Foundation\, and other possible grants for Phase 2 of the Passive House. Also other grants. \nPresent: Deirdre Helfferich\, Gary Pohl\, Syriln Tong \nOther grants: Sam’s Club & Lend-A-Hand fell through\, still working on GoodCents. \nDiscussed minor edits to CAPSIS submission: Deirdre will do first re-write and send to Gary; Gary will use AKWarm program to create fuel cost vs. savings projections. \nPaul G. Allen Family Foundation: may not be giving out grants\, judging by recent grants lists; Deirdre will contact via e-mail to see if worthwhile to fill out contact form. Grants to libraries in several states\, but not any libraries in Alaska. \nThe group discussed a Go-NoGo form for rating potential grants; Gary will adapt one he uses and send to the group for editing.
URL:https://www.esterlibrary.org/event/grants-committee-mtg/
LOCATION:Clausen Cabin\, 3629 Main Street\, Ester\, 99725
CATEGORIES:Grants,Meetings
END:VEVENT
BEGIN:VEVENT
DTSTART;TZID=America/Anchorage:20170103T183000
DTEND;TZID=America/Anchorage:20170103T200000
DTSTAMP:20260425T073327
CREATED:20161230T182134Z
LAST-MODIFIED:20170123T181721Z
UID:10000149-1483468200-1483473600@www.esterlibrary.org
SUMMARY:Finance Committee meeting
DESCRIPTION:Finance Committee minutes December 6\, 2016 \n Old Business — Finance \n\nQuick Books progress/Restricted Funds accounting\nBudget for FY 2017\n\nNew Business \n\nNovember and preliminary December Finance Reports\nSigners on accounts – Mt. McKinley\nSOA final grant reimbursement\nAccounting review progress\nList of donors\, end of year letters needed\n1099 forms needed\nFundraising updates/reports\n     Lessons from Giving Tuesday re: Pick-Click-Give\n     Pie Throw-Down cookbook “final” numbers\nPreparation of report for BOD meeting\n\n 
URL:https://www.esterlibrary.org/event/finance-committee-meeting-14/
LOCATION:Clausen Cabin\, 3629 Main Street\, Ester\, 99725
CATEGORIES:Finance,Meetings
END:VEVENT
BEGIN:VEVENT
DTSTART;TZID=America/Anchorage:20161212T183000
DTEND;TZID=America/Anchorage:20161212T203000
DTSTAMP:20260425T073327
CREATED:20161117T183330Z
LAST-MODIFIED:20170430T230649Z
UID:10000082-1481567400-1481574600@www.esterlibrary.org
SUMMARY:December Board Meeting
DESCRIPTION:December’s board meeting will be held December 12\, 2016 at 6:30 at the Clausen Cabin.  Here is the board-meeting-agenda\, Minutes and Letter of Support
URL:https://www.esterlibrary.org/event/december-board-meeting/
LOCATION:Clausen Cabin\, 3629 Main Street\, Ester\, 99725
CATEGORIES:Board,Events,Meetings
ORGANIZER;CN="Syrilyn Tong":MAILTO:president@esterlibrary.org
END:VEVENT
BEGIN:VEVENT
DTSTART;TZID=America/Anchorage:20161206T183000
DTEND;TZID=America/Anchorage:20161206T203000
DTSTAMP:20260425T073327
CREATED:20161117T183913Z
LAST-MODIFIED:20161204T023747Z
UID:10000133-1481049000-1481056200@www.esterlibrary.org
SUMMARY:Finance Committee Meeting
DESCRIPTION:Finance Committee meeting will be December 6\, 2016 at 6:30 \nAgenda: \nFinance Committee minutes October 5\, 2016 \n Old Business — Finance \n\nQuick Books progress/Restricted Funds accounting\nBudget for FY 2017\n\nNew Business \n\nOctober and preliminary November Finance Reports\nSigners on accounts/P.O. Box\nSOA final grant reimbursement\nCRS 2017 money\nSBS refund\nAccounting review\nBear Electric payment\nList of donors\, end of year letters needed\nFundraising updates/reports on improvements needed\n     Library consortium book sale\n     Giving Tuesday\n     Pie Throw-Down cookbook\nPreparation of report for BOD meeting
URL:https://www.esterlibrary.org/event/finance-committee-meeting-13/
LOCATION:Clausen Cabin\, 3629 Main Street\, Ester\, 99725
CATEGORIES:Events,Finance,Meetings
ORGANIZER;CN="Syrilyn Tong":MAILTO:president@esterlibrary.org
END:VEVENT
BEGIN:VEVENT
DTSTART;VALUE=DATE:20161129
DTEND;VALUE=DATE:20161130
DTSTAMP:20260425T073327
CREATED:20161111T175759Z
LAST-MODIFIED:20161129T220724Z
UID:10000081-1480377600-1480463999@www.esterlibrary.org
SUMMARY:#GivingTuesday
DESCRIPTION:The JTEL is participating in #GivingTuesday this year! Posts relating to #GivingTuesday are: \n\nPlease Give and Do Good\nCheck Out A Book\nHistorical Gardens\nLibrary Programs\nCommunity Events\nThe People We Love\nBookshelf Dedications\nOne Week to Go!\nRewards Programs\nOur Capital Campaign\nRuth Jasper Children’s Fund\nBe Happy\nIn-Kind Donations\nMembership\nTime\nOur Endowment\n\nDid you know: \n\n\n\n\n\nPeople who give money to charity are 43 percent more likely than non-givers to say they are “very happy” about their lives. Volunteers are 42 percent more likely to be very happy than non-volunteers. (Source: Social Capital Community Benchmark Survey)\nThe happiness difference between givers and non-givers is not due to differences in personal characteristics\, income or religion. Imagine two people identical in terms of income\, faith\, age\, education\, politics\, gender and family circumstances\, but one is a donor and volunteers and the other doesn’t. The giver will be\, on average\, 11 percentage points more likely to bevery happy than the non-giver. (Source: University of Michigan Panel Study of Income Dynamics)\n\nLibraries are the ultimate in sharing. Donate to the JTEL\, join our library\, or volunteer with us. Be Happy!
URL:https://www.esterlibrary.org/event/givingtuesday/
CATEGORIES:Announcements,Fundraising
END:VEVENT
BEGIN:VEVENT
DTSTART;TZID=America/Anchorage:20161126T100000
DTEND;TZID=America/Anchorage:20161126T150000
DTSTAMP:20260425T073327
CREATED:20161124T184631Z
LAST-MODIFIED:20170123T181836Z
UID:10000147-1480154400-1480172400@www.esterlibrary.org
SUMMARY:Library Consortium Booksale
DESCRIPTION:
URL:https://www.esterlibrary.org/event/library-consortium-booksale/
LOCATION:Noel Wein Library\, 1215 Cowles Street\, Fairbanks\, AK\, 99701\, United States
CATEGORIES:Fundraising
ORGANIZER;CN="Syrilyn Tong":MAILTO:president@esterlibrary.org
END:VEVENT
BEGIN:VEVENT
DTSTART;TZID=America/Anchorage:20161114T165500
DTEND;TZID=America/Anchorage:20161114T171500
DTSTAMP:20260425T073327
CREATED:20161117T205150Z
LAST-MODIFIED:20161124T192455Z
UID:10000137-1479142500-1479143700@www.esterlibrary.org
SUMMARY:November Board Meeting
DESCRIPTION:Meeting called to order 4:55 pm \nThose present were: OFFICERS Syrilyn Tong\, 2015-2017 (president) Monique Musick\, 2015-2017 (vice president) Mindy Gallagher\, (2015-2017) (treasurer) Amanda Bent\, 2015-2017 (secretary) Carrie Correia\, 2016-2018 Marina Day\, 2016-2018 Gary Pohl\, 2015-2017 (Grants & Facilities Chair) Eli Sonafrank\, 2016-2018 \nMindy and ST had previsously talked to Carla Helferirch about the Friends Organization. The Friends will help out as needed\, at the request of the board. Carla agreed to write up a re-definition of the Friends Organization\, found here.  The Friends have agreed to raise money for a financial review\, and tax prep during 2017. \nEndowment: Agent of record is currently Dierdre Heffelrich. Mindy moved\, and ST seconded\, that Monique Musick will be agent of record with the State of Alaska\, and for the endowment with the Alaska Community Foundation. \nSafe deposit box. ST moved\, and Carrie seconded that all officers will be signers on the safety deposit box. \nBank account at Denali Federal Credit Union. Eli moved\, Carrie seconded\, for the four officers to be added to the account and everyone else removed. Denali account numbers- xxxx07\, xxxx41 \nNext board meeting\, Monday\, December 12th \nMeeting adjourned at 5:16pm
URL:https://www.esterlibrary.org/event/november-board-meeting/
CATEGORIES:Board,Meetings
END:VEVENT
END:VCALENDAR