BEGIN:VCALENDAR
VERSION:2.0
PRODID:-//Ester Village Library - ECPv6.15.20//NONSGML v1.0//EN
CALSCALE:GREGORIAN
METHOD:PUBLISH
X-WR-CALNAME:Ester Village Library
X-ORIGINAL-URL:https://www.esterlibrary.org
X-WR-CALDESC:Events for Ester Village Library
REFRESH-INTERVAL;VALUE=DURATION:PT1H
X-Robots-Tag:noindex
X-PUBLISHED-TTL:PT1H
BEGIN:VTIMEZONE
TZID:America/Anchorage
BEGIN:DAYLIGHT
TZOFFSETFROM:-0900
TZOFFSETTO:-0800
TZNAME:AKDT
DTSTART:20230312T110000
END:DAYLIGHT
BEGIN:STANDARD
TZOFFSETFROM:-0800
TZOFFSETTO:-0900
TZNAME:AKST
DTSTART:20231105T100000
END:STANDARD
BEGIN:DAYLIGHT
TZOFFSETFROM:-0900
TZOFFSETTO:-0800
TZNAME:AKDT
DTSTART:20240310T110000
END:DAYLIGHT
BEGIN:STANDARD
TZOFFSETFROM:-0800
TZOFFSETTO:-0900
TZNAME:AKST
DTSTART:20241103T100000
END:STANDARD
BEGIN:DAYLIGHT
TZOFFSETFROM:-0900
TZOFFSETTO:-0800
TZNAME:AKDT
DTSTART:20250309T110000
END:DAYLIGHT
BEGIN:STANDARD
TZOFFSETFROM:-0800
TZOFFSETTO:-0900
TZNAME:AKST
DTSTART:20251102T100000
END:STANDARD
END:VTIMEZONE
BEGIN:VEVENT
DTSTART;TZID=America/Anchorage:20241011T170000
DTEND;TZID=America/Anchorage:20241011T190000
DTSTAMP:20260425T023856
CREATED:20240909T205747Z
LAST-MODIFIED:20241009T042005Z
UID:10000537-1728666000-1728673200@www.esterlibrary.org
SUMMARY:Adult Art Classes
DESCRIPTION:Join us and Willow Art Studios for different adult art classes. This week we’ll learn water colors – flowers. \n 
URL:https://www.esterlibrary.org/event/adult-art-classes-2024-10-11/
LOCATION:Clausen Cabin\, 3629 Main Street\, Ester\, 99725
CATEGORIES:Events
END:VEVENT
BEGIN:VEVENT
DTSTART;TZID=America/Anchorage:20241010T160000
DTEND;TZID=America/Anchorage:20241010T190000
DTSTAMP:20260425T023856
CREATED:20240306T191828Z
LAST-MODIFIED:20241130T043930Z
UID:10000113-1728576000-1728586800@www.esterlibrary.org
SUMMARY:Open Hours
DESCRIPTION:
URL:https://www.esterlibrary.org/event/open-hours-geb-program-specialist/2024-10-10/
END:VEVENT
BEGIN:VEVENT
DTSTART;TZID=America/Anchorage:20241007T153000
DTEND;TZID=America/Anchorage:20241007T173000
DTSTAMP:20260425T023856
CREATED:20240909T211921Z
LAST-MODIFIED:20240909T223938Z
UID:10000547-1728315000-1728322200@www.esterlibrary.org
SUMMARY:Kids Art Programs
DESCRIPTION:Willow Studios Arts and JTEL are combining for kids and the young at heart art programs on Mondays from 3:30 – 5:30. This week we’ll work on paper art. \nWe will start by making a beautiful background color to watercolor paper. Brighter the better. Then we are going to add some salt to our watercolor to give it some texture. Then we are going to cut our paper in a unique design guided by the instructor. Then the design will be glued on the top of the watercolor background. It will give you dramatic results. Materials: watercolor paper\, glue\, black construction paper\, scissors\, salt\, watercolor paint. A \nrt Fee: $7
URL:https://www.esterlibrary.org/event/kids-art-programs-2024-10-07/
CATEGORIES:Events
END:VEVENT
BEGIN:VEVENT
DTSTART;TZID=America/Anchorage:20241007T150000
DTEND;TZID=America/Anchorage:20241007T180000
DTSTAMP:20260425T023856
CREATED:20240101T214601Z
LAST-MODIFIED:20250111T222726Z
UID:10000350-1728313200-1728324000@www.esterlibrary.org
SUMMARY:Monday Open hours
DESCRIPTION:
URL:https://www.esterlibrary.org/event/open-hours-7/2024-10-07/
END:VEVENT
BEGIN:VEVENT
DTSTART;TZID=America/Anchorage:20241006T160000
DTEND;TZID=America/Anchorage:20241006T180000
DTSTAMP:20260425T023856
CREATED:20240813T040057Z
LAST-MODIFIED:20250111T222538Z
UID:10000499-1728230400-1728237600@www.esterlibrary.org
SUMMARY:Writing Circle (No browsing)
DESCRIPTION:Join us for some quiet time. The library is NOT open for browsing during this time.
URL:https://www.esterlibrary.org/event/writing-circle-3/2024-10-06/
LOCATION:Clausen Cabin\, 3629 Main Street\, Ester\, 99725
END:VEVENT
BEGIN:VEVENT
DTSTART;TZID=America/Anchorage:20241006T160000
DTEND;TZID=America/Anchorage:20241006T180000
DTSTAMP:20260425T023856
CREATED:20240101T212428Z
LAST-MODIFIED:20240813T035929Z
UID:10000253-1728230400-1728237600@www.esterlibrary.org
SUMMARY:Writing Circle
DESCRIPTION:Enjoy quiet time and space for your own narrations
URL:https://www.esterlibrary.org/event/writing-circle-2/2024-10-06/
END:VEVENT
BEGIN:VEVENT
DTSTART;TZID=America/Anchorage:20241005T150000
DTEND;TZID=America/Anchorage:20241005T163000
DTSTAMP:20260425T023856
CREATED:20240620T031016Z
LAST-MODIFIED:20240909T215024Z
UID:10000486-1728140400-1728145800@www.esterlibrary.org
SUMMARY:Book Club
DESCRIPTION:At the Bright Edge of the World\, by Eowyn Ivey \nFrom the best-selling author of The Snow Child\, a thrilling tale of historical adventure set in the Alaskan wilderness. \nIn the winter of 1885\, Lieutenant Colonel Allen Forrester sets out with his men on an expedition into the newly acquired territory of Alaska. Their objective: to travel up the ferocious Wolverine River\, mapping the interior and gathering information on the region’s potentially dangerous native tribes. With a young and newly pregnant wife at home\, Forrester is anxious to complete the journey with all possible speed and return to her. But once the crew passes beyond the edge of the known world\, there’s no telling what awaits them. \nWith gorgeous descriptions of the Alaskan wilds and a vivid cast of characters – including Forrester; his wife\, Sophie; a mysterious Eyak guide; and a Native American woman who joins the expedition – To the Bright Edge of the World is an epic tale of one of America’s last frontiers\, combining myth\, history\, romance\, and adventure.
URL:https://www.esterlibrary.org/event/book-club-7-2024-10-05/2024-10-05/
LOCATION:Clausen Cabin\, 3629 Main Street\, Ester\, 99725
CATEGORIES:Announcements,Events
END:VEVENT
BEGIN:VEVENT
DTSTART;TZID=America/Anchorage:20241005T130000
DTEND;TZID=America/Anchorage:20241005T160000
DTSTAMP:20260425T023856
CREATED:20240101T215150Z
LAST-MODIFIED:20241202T214419Z
UID:10000442-1728133200-1728144000@www.esterlibrary.org
SUMMARY:Open hours
DESCRIPTION:
URL:https://www.esterlibrary.org/event/open-hours-16/2024-10-05/
END:VEVENT
BEGIN:VEVENT
DTSTART;TZID=America/Anchorage:20241004T170000
DTEND;TZID=America/Anchorage:20241004T190000
DTSTAMP:20260425T023856
CREATED:20240909T205747Z
LAST-MODIFIED:20240909T221159Z
UID:10000536-1728061200-1728068400@www.esterlibrary.org
SUMMARY:Adult Art Classes
DESCRIPTION:Join us and Willow Art Studios for different adult art classes. This week is part 2 of a series on mixed media painting! \nWe are going to use mix media on watercolor paper. We will start with a simple design and start adding our cut out and glue them carefully in place. Then we will start with a light watercolor base and any other enhancements. Make some careful pen details. Then come in with some pastels to give this composition some impressionist style with a glow of pastels. Spray fixative when complete. Materials: Watercolor paper\, stencils for cut outs\, glue\, tissue paper\, gold foil\, pastels\, and fixatives. \nArt Fee: $10
URL:https://www.esterlibrary.org/event/adult-art-classes-2024-10-04/
LOCATION:Clausen Cabin\, 3629 Main Street\, Ester\, 99725
CATEGORIES:Events
END:VEVENT
BEGIN:VEVENT
DTSTART;TZID=America/Anchorage:20241003T160000
DTEND;TZID=America/Anchorage:20241003T190000
DTSTAMP:20260425T023856
CREATED:20240306T191828Z
LAST-MODIFIED:20241130T043930Z
UID:10000112-1727971200-1727982000@www.esterlibrary.org
SUMMARY:Open Hours
DESCRIPTION:
URL:https://www.esterlibrary.org/event/open-hours-geb-program-specialist/2024-10-03/
END:VEVENT
BEGIN:VEVENT
DTSTART;TZID=America/Anchorage:20241002T150000
DTEND;TZID=America/Anchorage:20241002T180000
DTSTAMP:20260425T023856
CREATED:20240101T214850Z
LAST-MODIFIED:20240813T042547Z
UID:10000399-1727881200-1727892000@www.esterlibrary.org
SUMMARY:Open hours
DESCRIPTION:
URL:https://www.esterlibrary.org/event/open-hours-10-2024-10-02/
END:VEVENT
BEGIN:VEVENT
DTSTART;TZID=America/Anchorage:20240930T153000
DTEND;TZID=America/Anchorage:20240930T173000
DTSTAMP:20260425T023856
CREATED:20240909T211921Z
LAST-MODIFIED:20240909T220636Z
UID:10000545-1727710200-1727717400@www.esterlibrary.org
SUMMARY:Kids Art Programs
DESCRIPTION:Willow Studios Arts and JTEL are combining for kids and the young at heart art programs on Mondays from 3:30 – 5:30. This week we’ll work on collage decoupage while making keepsake boxes! We will be decorating a keepsake box with an old shoe box. We will use scrapbooking paper and other decorative designs to make your keepsake box. Materials: Scrapbooking paper\, tissue paper\, glue\, paint\, and any other textured elements. Art Fee $8
URL:https://www.esterlibrary.org/event/kids-art-programs-2024-09-30/
CATEGORIES:Events
END:VEVENT
BEGIN:VEVENT
DTSTART;TZID=America/Anchorage:20240930T150000
DTEND;TZID=America/Anchorage:20240930T180000
DTSTAMP:20260425T023856
CREATED:20240101T214601Z
LAST-MODIFIED:20250111T222726Z
UID:10000349-1727708400-1727719200@www.esterlibrary.org
SUMMARY:Monday Open hours
DESCRIPTION:
URL:https://www.esterlibrary.org/event/open-hours-7/2024-09-30/
END:VEVENT
BEGIN:VEVENT
DTSTART;TZID=America/Anchorage:20240929T160000
DTEND;TZID=America/Anchorage:20240929T180000
DTSTAMP:20260425T023856
CREATED:20240813T040057Z
LAST-MODIFIED:20250111T222538Z
UID:10000498-1727625600-1727632800@www.esterlibrary.org
SUMMARY:Writing Circle (No browsing)
DESCRIPTION:Join us for some quiet time. The library is NOT open for browsing during this time.
URL:https://www.esterlibrary.org/event/writing-circle-3/2024-09-29/
LOCATION:Clausen Cabin\, 3629 Main Street\, Ester\, 99725
END:VEVENT
BEGIN:VEVENT
DTSTART;TZID=America/Anchorage:20240929T160000
DTEND;TZID=America/Anchorage:20240929T180000
DTSTAMP:20260425T023856
CREATED:20240101T212428Z
LAST-MODIFIED:20240813T035929Z
UID:10000252-1727625600-1727632800@www.esterlibrary.org
SUMMARY:Writing Circle
DESCRIPTION:Enjoy quiet time and space for your own narrations
URL:https://www.esterlibrary.org/event/writing-circle-2/2024-09-29/
END:VEVENT
BEGIN:VEVENT
DTSTART;TZID=America/Anchorage:20240928T140000
DTEND;TZID=America/Anchorage:20240928T220000
DTSTAMP:20260425T023856
CREATED:20240813T042057Z
LAST-MODIFIED:20240813T042057Z
UID:10000529-1727532000-1727560800@www.esterlibrary.org
SUMMARY:LiBerry Pie Contest and Music Festival
DESCRIPTION:Join us for this annual fundraiser! \nPie entries from 2-4PM at the Clausen Cabin\, judging from 4-5PM \n6-10PM for $5 slice of pies and music\, featuring Ice Jam!
URL:https://www.esterlibrary.org/event/liberry-pie-contest-and-music-festival/
LOCATION:Clausen Cabin\, 3629 Main Street\, Ester\, 99725
END:VEVENT
BEGIN:VEVENT
DTSTART;TZID=America/Anchorage:20240928T130000
DTEND;TZID=America/Anchorage:20240928T160000
DTSTAMP:20260425T023856
CREATED:20240101T215150Z
LAST-MODIFIED:20241202T214419Z
UID:10000441-1727528400-1727539200@www.esterlibrary.org
SUMMARY:Open hours
DESCRIPTION:
URL:https://www.esterlibrary.org/event/open-hours-16/2024-09-28/
END:VEVENT
BEGIN:VEVENT
DTSTART;TZID=America/Anchorage:20240927T170000
DTEND;TZID=America/Anchorage:20240927T190000
DTSTAMP:20260425T023856
CREATED:20240909T205747Z
LAST-MODIFIED:20240909T220959Z
UID:10000535-1727456400-1727463600@www.esterlibrary.org
SUMMARY:Adult Art Classes
DESCRIPTION:Join us and Willow Art Studios for different adult art classes. This week we’ll learn mixed media painting\, part 1! We are going to use mix media on watercolor paper. We will start with a simple design and start adding our cut out and glue them carefully in place. Then we will start with a light watercolor base and any other enhancements. Make some careful pen details. Then come in with some pastels to give this composition some impressionist style with a glow of pastels. Spray fixative when complete. Materials: Watercolor paper\, stencils for cut outs\, glue\, tissue paper\, gold foil\, pastels\, and fixatives. \nArt Fee: $10
URL:https://www.esterlibrary.org/event/adult-art-classes-2024-09-27/
LOCATION:Clausen Cabin\, 3629 Main Street\, Ester\, 99725
CATEGORIES:Events
END:VEVENT
BEGIN:VEVENT
DTSTART;TZID=America/Anchorage:20240926T160000
DTEND;TZID=America/Anchorage:20240926T190000
DTSTAMP:20260425T023856
CREATED:20240306T191828Z
LAST-MODIFIED:20241130T043930Z
UID:10000111-1727366400-1727377200@www.esterlibrary.org
SUMMARY:Open Hours
DESCRIPTION:
URL:https://www.esterlibrary.org/event/open-hours-geb-program-specialist/2024-09-26/
END:VEVENT
BEGIN:VEVENT
DTSTART;TZID=America/Anchorage:20240923T153000
DTEND;TZID=America/Anchorage:20240923T173000
DTSTAMP:20260425T023856
CREATED:20240909T211921Z
LAST-MODIFIED:20240909T223704Z
UID:10000544-1727105400-1727112600@www.esterlibrary.org
SUMMARY:Kids Art Programs
DESCRIPTION:Willow Studios Arts and JTEL are combining for kids and the young at heart art programs on Mondays from 3:30 – 5:30. This week is Scratch Art! \nWe will pick from multiple designs and we go over the technique on how to create your own scratch art painting. It’s fun and exciting to see how it comes out. It can be a little messy because we will be using a lot of black oil pastel for this project. Materials: Oil Pastels\, toothpicks\, drawing paper\, Designs \nArt Fee: $10
URL:https://www.esterlibrary.org/event/kids-art-programs-2024-09-23/
CATEGORIES:Events
END:VEVENT
BEGIN:VEVENT
DTSTART;TZID=America/Anchorage:20240923T150000
DTEND;TZID=America/Anchorage:20240923T180000
DTSTAMP:20260425T023856
CREATED:20240101T214601Z
LAST-MODIFIED:20250111T222726Z
UID:10000348-1727103600-1727114400@www.esterlibrary.org
SUMMARY:Monday Open hours
DESCRIPTION:
URL:https://www.esterlibrary.org/event/open-hours-7/2024-09-23/
END:VEVENT
BEGIN:VEVENT
DTSTART;TZID=America/Anchorage:20240922T160000
DTEND;TZID=America/Anchorage:20240922T180000
DTSTAMP:20260425T023856
CREATED:20240813T040057Z
LAST-MODIFIED:20250111T222538Z
UID:10000497-1727020800-1727028000@www.esterlibrary.org
SUMMARY:Writing Circle (No browsing)
DESCRIPTION:Join us for some quiet time. The library is NOT open for browsing during this time.
URL:https://www.esterlibrary.org/event/writing-circle-3/2024-09-22/
LOCATION:Clausen Cabin\, 3629 Main Street\, Ester\, 99725
END:VEVENT
BEGIN:VEVENT
DTSTART;TZID=America/Anchorage:20240922T160000
DTEND;TZID=America/Anchorage:20240922T180000
DTSTAMP:20260425T023856
CREATED:20240101T212428Z
LAST-MODIFIED:20240813T035929Z
UID:10000251-1727020800-1727028000@www.esterlibrary.org
SUMMARY:Writing Circle
DESCRIPTION:Enjoy quiet time and space for your own narrations
URL:https://www.esterlibrary.org/event/writing-circle-2/2024-09-22/
END:VEVENT
BEGIN:VEVENT
DTSTART;TZID=America/Anchorage:20240922T120000
DTEND;TZID=America/Anchorage:20240922T140000
DTSTAMP:20260425T023856
CREATED:20240919T024315Z
LAST-MODIFIED:20240919T024315Z
UID:10000552-1727006400-1727013600@www.esterlibrary.org
SUMMARY:Garlic Sale
DESCRIPTION:If you missed the first garlic sale\, come on out for the 2nd one!
URL:https://www.esterlibrary.org/event/garlic-sale/
CATEGORIES:Events
END:VEVENT
BEGIN:VEVENT
DTSTART;TZID=America/Anchorage:20240921T130000
DTEND;TZID=America/Anchorage:20240921T160000
DTSTAMP:20260425T023856
CREATED:20240101T215150Z
LAST-MODIFIED:20241202T214419Z
UID:10000440-1726923600-1726934400@www.esterlibrary.org
SUMMARY:Open hours
DESCRIPTION:
URL:https://www.esterlibrary.org/event/open-hours-16/2024-09-21/
END:VEVENT
BEGIN:VEVENT
DTSTART;TZID=America/Anchorage:20240920T170000
DTEND;TZID=America/Anchorage:20240920T190000
DTSTAMP:20260425T023856
CREATED:20240909T205747Z
LAST-MODIFIED:20240919T025252Z
UID:10000534-1726851600-1726858800@www.esterlibrary.org
SUMMARY:Adult Art Classes
DESCRIPTION:Join us and Willow Art Studios for different adult art classes. This week we’ll learn mono printmaking! \nWe will be making a stencil to create a monoprint. We are going to use acrylic paint and watercolor paper to cut out stencils. We will arrange the stencil to the plexiglass and start rolling away to create layers by adding new stencils and new color paint to make your own unique monoprint. Materials: Plex glass large\, rollers\, paint\, watercolor paper \nArt Fee:$10
URL:https://www.esterlibrary.org/event/adult-art-classes-2024-09-20/
LOCATION:Clausen Cabin\, 3629 Main Street\, Ester\, 99725
CATEGORIES:Events
END:VEVENT
BEGIN:VEVENT
DTSTART;TZID=America/Anchorage:20240919T160000
DTEND;TZID=America/Anchorage:20240919T190000
DTSTAMP:20260425T023856
CREATED:20240306T191828Z
LAST-MODIFIED:20241130T043930Z
UID:10000110-1726761600-1726772400@www.esterlibrary.org
SUMMARY:Open Hours
DESCRIPTION:
URL:https://www.esterlibrary.org/event/open-hours-geb-program-specialist/2024-09-19/
END:VEVENT
BEGIN:VEVENT
DTSTART;TZID=America/Anchorage:20240918T180000
DTEND;TZID=America/Anchorage:20240918T200000
DTSTAMP:20260425T023856
CREATED:20240822T034827Z
LAST-MODIFIED:20240822T034827Z
UID:10000530-1726682400-1726689600@www.esterlibrary.org
SUMMARY:Board Meeting
DESCRIPTION:
URL:https://www.esterlibrary.org/event/board-meeting-7/
CATEGORIES:Board,Meetings
END:VEVENT
BEGIN:VEVENT
DTSTART;TZID=America/Anchorage:20240916T153000
DTEND;TZID=America/Anchorage:20240916T173000
DTSTAMP:20260425T023856
CREATED:20240909T211921Z
LAST-MODIFIED:20240909T212142Z
UID:10000543-1726500600-1726507800@www.esterlibrary.org
SUMMARY:Kids Art Programs
DESCRIPTION:Willow Studios Arts and JTEL are combining for kids and the young at heart art programs on Mondays from 3:30 – 5:30. This week we continue with paper mache. This is part 3 of the series!
URL:https://www.esterlibrary.org/event/kids-art-programs/
CATEGORIES:Events
END:VEVENT
BEGIN:VEVENT
DTSTART;TZID=America/Anchorage:20240916T150000
DTEND;TZID=America/Anchorage:20240916T180000
DTSTAMP:20260425T023856
CREATED:20240101T214601Z
LAST-MODIFIED:20250111T222726Z
UID:10000347-1726498800-1726509600@www.esterlibrary.org
SUMMARY:Monday Open hours
DESCRIPTION:
URL:https://www.esterlibrary.org/event/open-hours-7/2024-09-16/
END:VEVENT
END:VCALENDAR