BEGIN:VCALENDAR
VERSION:2.0
PRODID:-//Ester Village Library - ECPv6.15.20//NONSGML v1.0//EN
CALSCALE:GREGORIAN
METHOD:PUBLISH
X-WR-CALNAME:Ester Village Library
X-ORIGINAL-URL:https://www.esterlibrary.org
X-WR-CALDESC:Events for Ester Village Library
REFRESH-INTERVAL;VALUE=DURATION:PT1H
X-Robots-Tag:noindex
X-PUBLISHED-TTL:PT1H
BEGIN:VTIMEZONE
TZID:America/Anchorage
BEGIN:DAYLIGHT
TZOFFSETFROM:-0900
TZOFFSETTO:-0800
TZNAME:AKDT
DTSTART:20230312T110000
END:DAYLIGHT
BEGIN:STANDARD
TZOFFSETFROM:-0800
TZOFFSETTO:-0900
TZNAME:AKST
DTSTART:20231105T100000
END:STANDARD
BEGIN:DAYLIGHT
TZOFFSETFROM:-0900
TZOFFSETTO:-0800
TZNAME:AKDT
DTSTART:20240310T110000
END:DAYLIGHT
BEGIN:STANDARD
TZOFFSETFROM:-0800
TZOFFSETTO:-0900
TZNAME:AKST
DTSTART:20241103T100000
END:STANDARD
BEGIN:DAYLIGHT
TZOFFSETFROM:-0900
TZOFFSETTO:-0800
TZNAME:AKDT
DTSTART:20250309T110000
END:DAYLIGHT
BEGIN:STANDARD
TZOFFSETFROM:-0800
TZOFFSETTO:-0900
TZNAME:AKST
DTSTART:20251102T100000
END:STANDARD
END:VTIMEZONE
BEGIN:VEVENT
DTSTART;TZID=America/Anchorage:20240822T160000
DTEND;TZID=America/Anchorage:20240822T190000
DTSTAMP:20260425T054027
CREATED:20240306T191828Z
LAST-MODIFIED:20241130T043930Z
UID:10000106-1724342400-1724353200@www.esterlibrary.org
SUMMARY:Open Hours
DESCRIPTION:
URL:https://www.esterlibrary.org/event/open-hours-geb-program-specialist/2024-08-22/
END:VEVENT
BEGIN:VEVENT
DTSTART;TZID=America/Anchorage:20240821T180000
DTEND;TZID=America/Anchorage:20240821T200000
DTSTAMP:20260425T054027
CREATED:20240718T034543Z
LAST-MODIFIED:20240718T034543Z
UID:10000491-1724263200-1724270400@www.esterlibrary.org
SUMMARY:Board Meeting
DESCRIPTION:
URL:https://www.esterlibrary.org/event/board-meeting-6/
LOCATION:Clausen Cabin\, 3629 Main Street\, Ester\, 99725
END:VEVENT
BEGIN:VEVENT
DTSTART;TZID=America/Anchorage:20240819T150000
DTEND;TZID=America/Anchorage:20240819T180000
DTSTAMP:20260425T054027
CREATED:20240101T214601Z
LAST-MODIFIED:20250111T222726Z
UID:10000344-1724079600-1724090400@www.esterlibrary.org
SUMMARY:Monday Open hours
DESCRIPTION:
URL:https://www.esterlibrary.org/event/open-hours-7/2024-08-19/
END:VEVENT
BEGIN:VEVENT
DTSTART;TZID=America/Anchorage:20240818T160000
DTEND;TZID=America/Anchorage:20240818T180000
DTSTAMP:20260425T054027
CREATED:20240813T040057Z
LAST-MODIFIED:20250111T222538Z
UID:10000492-1723996800-1724004000@www.esterlibrary.org
SUMMARY:Writing Circle (No browsing)
DESCRIPTION:Join us for some quiet time. The library is NOT open for browsing during this time.
URL:https://www.esterlibrary.org/event/writing-circle-3/2024-08-18/
LOCATION:Clausen Cabin\, 3629 Main Street\, Ester\, 99725
END:VEVENT
BEGIN:VEVENT
DTSTART;TZID=America/Anchorage:20240818T160000
DTEND;TZID=America/Anchorage:20240818T180000
DTSTAMP:20260425T054027
CREATED:20240101T212428Z
LAST-MODIFIED:20240813T035929Z
UID:10000246-1723996800-1724004000@www.esterlibrary.org
SUMMARY:Writing Circle
DESCRIPTION:Enjoy quiet time and space for your own narrations
URL:https://www.esterlibrary.org/event/writing-circle-2/2024-08-18/
END:VEVENT
BEGIN:VEVENT
DTSTART;TZID=America/Anchorage:20240817T130000
DTEND;TZID=America/Anchorage:20240817T160000
DTSTAMP:20260425T054027
CREATED:20240101T215150Z
LAST-MODIFIED:20241202T214419Z
UID:10000435-1723899600-1723910400@www.esterlibrary.org
SUMMARY:Open hours
DESCRIPTION:
URL:https://www.esterlibrary.org/event/open-hours-16/2024-08-17/
END:VEVENT
BEGIN:VEVENT
DTSTART;TZID=America/Anchorage:20240815T160000
DTEND;TZID=America/Anchorage:20240815T190000
DTSTAMP:20260425T054027
CREATED:20240306T191828Z
LAST-MODIFIED:20241130T043930Z
UID:10000105-1723737600-1723748400@www.esterlibrary.org
SUMMARY:Open Hours
DESCRIPTION:
URL:https://www.esterlibrary.org/event/open-hours-geb-program-specialist/2024-08-15/
END:VEVENT
BEGIN:VEVENT
DTSTART;TZID=America/Anchorage:20240812T150000
DTEND;TZID=America/Anchorage:20240812T180000
DTSTAMP:20260425T054027
CREATED:20240101T214601Z
LAST-MODIFIED:20250111T222726Z
UID:10000343-1723474800-1723485600@www.esterlibrary.org
SUMMARY:Monday Open hours
DESCRIPTION:
URL:https://www.esterlibrary.org/event/open-hours-7/2024-08-12/
END:VEVENT
BEGIN:VEVENT
DTSTART;TZID=America/Anchorage:20240811T160000
DTEND;TZID=America/Anchorage:20240811T180000
DTSTAMP:20260425T054027
CREATED:20240101T212428Z
LAST-MODIFIED:20240813T035929Z
UID:10000245-1723392000-1723399200@www.esterlibrary.org
SUMMARY:Writing Circle
DESCRIPTION:Enjoy quiet time and space for your own narrations
URL:https://www.esterlibrary.org/event/writing-circle-2/2024-08-11/
END:VEVENT
BEGIN:VEVENT
DTSTART;TZID=America/Anchorage:20240810T130000
DTEND;TZID=America/Anchorage:20240810T160000
DTSTAMP:20260425T054027
CREATED:20240101T215150Z
LAST-MODIFIED:20241202T214419Z
UID:10000434-1723294800-1723305600@www.esterlibrary.org
SUMMARY:Open hours
DESCRIPTION:
URL:https://www.esterlibrary.org/event/open-hours-16/2024-08-10/
END:VEVENT
BEGIN:VEVENT
DTSTART;TZID=America/Anchorage:20240808T160000
DTEND;TZID=America/Anchorage:20240808T190000
DTSTAMP:20260425T054027
CREATED:20240306T191828Z
LAST-MODIFIED:20241130T043930Z
UID:10000104-1723132800-1723143600@www.esterlibrary.org
SUMMARY:Open Hours
DESCRIPTION:
URL:https://www.esterlibrary.org/event/open-hours-geb-program-specialist/2024-08-08/
END:VEVENT
BEGIN:VEVENT
DTSTART;TZID=America/Anchorage:20240805T150000
DTEND;TZID=America/Anchorage:20240805T180000
DTSTAMP:20260425T054027
CREATED:20240101T214601Z
LAST-MODIFIED:20250111T222726Z
UID:10000342-1722870000-1722880800@www.esterlibrary.org
SUMMARY:Monday Open hours
DESCRIPTION:
URL:https://www.esterlibrary.org/event/open-hours-7/2024-08-05/
END:VEVENT
BEGIN:VEVENT
DTSTART;TZID=America/Anchorage:20240804T160000
DTEND;TZID=America/Anchorage:20240804T180000
DTSTAMP:20260425T054027
CREATED:20240101T212428Z
LAST-MODIFIED:20240813T035929Z
UID:10000244-1722787200-1722794400@www.esterlibrary.org
SUMMARY:Writing Circle
DESCRIPTION:Enjoy quiet time and space for your own narrations
URL:https://www.esterlibrary.org/event/writing-circle-2/2024-08-04/
END:VEVENT
BEGIN:VEVENT
DTSTART;TZID=America/Anchorage:20240803T130000
DTEND;TZID=America/Anchorage:20240803T160000
DTSTAMP:20260425T054027
CREATED:20240101T215150Z
LAST-MODIFIED:20241202T214419Z
UID:10000433-1722690000-1722700800@www.esterlibrary.org
SUMMARY:Open hours
DESCRIPTION:
URL:https://www.esterlibrary.org/event/open-hours-16/2024-08-03/
END:VEVENT
BEGIN:VEVENT
DTSTART;TZID=America/Anchorage:20240801T160000
DTEND;TZID=America/Anchorage:20240801T190000
DTSTAMP:20260425T054027
CREATED:20240306T191828Z
LAST-MODIFIED:20241130T043930Z
UID:10000103-1722528000-1722538800@www.esterlibrary.org
SUMMARY:Open Hours
DESCRIPTION:
URL:https://www.esterlibrary.org/event/open-hours-geb-program-specialist/2024-08-01/
END:VEVENT
BEGIN:VEVENT
DTSTART;TZID=America/Anchorage:20240729T150000
DTEND;TZID=America/Anchorage:20240729T180000
DTSTAMP:20260425T054027
CREATED:20240101T214601Z
LAST-MODIFIED:20250111T222726Z
UID:10000341-1722265200-1722276000@www.esterlibrary.org
SUMMARY:Monday Open hours
DESCRIPTION:
URL:https://www.esterlibrary.org/event/open-hours-7/2024-07-29/
END:VEVENT
BEGIN:VEVENT
DTSTART;TZID=America/Anchorage:20240728T160000
DTEND;TZID=America/Anchorage:20240728T180000
DTSTAMP:20260425T054027
CREATED:20240101T212428Z
LAST-MODIFIED:20240813T035929Z
UID:10000243-1722182400-1722189600@www.esterlibrary.org
SUMMARY:Writing Circle
DESCRIPTION:Enjoy quiet time and space for your own narrations
URL:https://www.esterlibrary.org/event/writing-circle-2/2024-07-28/
END:VEVENT
BEGIN:VEVENT
DTSTART;TZID=America/Anchorage:20240727T130000
DTEND;TZID=America/Anchorage:20240727T160000
DTSTAMP:20260425T054027
CREATED:20240101T215150Z
LAST-MODIFIED:20241202T214419Z
UID:10000432-1722085200-1722096000@www.esterlibrary.org
SUMMARY:Open hours
DESCRIPTION:
URL:https://www.esterlibrary.org/event/open-hours-16/2024-07-27/
END:VEVENT
BEGIN:VEVENT
DTSTART;TZID=America/Anchorage:20240725T160000
DTEND;TZID=America/Anchorage:20240725T190000
DTSTAMP:20260425T054027
CREATED:20240306T191828Z
LAST-MODIFIED:20241130T043930Z
UID:10000102-1721923200-1721934000@www.esterlibrary.org
SUMMARY:Open Hours
DESCRIPTION:
URL:https://www.esterlibrary.org/event/open-hours-geb-program-specialist/2024-07-25/
END:VEVENT
BEGIN:VEVENT
DTSTART;TZID=America/Anchorage:20240722T150000
DTEND;TZID=America/Anchorage:20240722T180000
DTSTAMP:20260425T054027
CREATED:20240101T214601Z
LAST-MODIFIED:20250111T222726Z
UID:10000340-1721660400-1721671200@www.esterlibrary.org
SUMMARY:Monday Open hours
DESCRIPTION:
URL:https://www.esterlibrary.org/event/open-hours-7/2024-07-22/
END:VEVENT
BEGIN:VEVENT
DTSTART;TZID=America/Anchorage:20240721T160000
DTEND;TZID=America/Anchorage:20240721T180000
DTSTAMP:20260425T054027
CREATED:20240101T212428Z
LAST-MODIFIED:20240813T035929Z
UID:10000242-1721577600-1721584800@www.esterlibrary.org
SUMMARY:Writing Circle
DESCRIPTION:Enjoy quiet time and space for your own narrations
URL:https://www.esterlibrary.org/event/writing-circle-2/2024-07-21/
END:VEVENT
BEGIN:VEVENT
DTSTART;TZID=America/Anchorage:20240720T130000
DTEND;TZID=America/Anchorage:20240720T160000
DTSTAMP:20260425T054027
CREATED:20240101T215150Z
LAST-MODIFIED:20241202T214419Z
UID:10000431-1721480400-1721491200@www.esterlibrary.org
SUMMARY:Open hours
DESCRIPTION:
URL:https://www.esterlibrary.org/event/open-hours-16/2024-07-20/
END:VEVENT
BEGIN:VEVENT
DTSTART;TZID=America/Anchorage:20240718T160000
DTEND;TZID=America/Anchorage:20240718T190000
DTSTAMP:20260425T054027
CREATED:20240306T191828Z
LAST-MODIFIED:20241130T043930Z
UID:10000101-1721318400-1721329200@www.esterlibrary.org
SUMMARY:Open Hours
DESCRIPTION:
URL:https://www.esterlibrary.org/event/open-hours-geb-program-specialist/2024-07-18/
END:VEVENT
BEGIN:VEVENT
DTSTART;TZID=America/Anchorage:20240715T150000
DTEND;TZID=America/Anchorage:20240715T180000
DTSTAMP:20260425T054027
CREATED:20240101T214601Z
LAST-MODIFIED:20250111T222726Z
UID:10000339-1721055600-1721066400@www.esterlibrary.org
SUMMARY:Monday Open hours
DESCRIPTION:
URL:https://www.esterlibrary.org/event/open-hours-7/2024-07-15/
END:VEVENT
BEGIN:VEVENT
DTSTART;TZID=America/Anchorage:20240714T160000
DTEND;TZID=America/Anchorage:20240714T180000
DTSTAMP:20260425T054027
CREATED:20240101T212428Z
LAST-MODIFIED:20240813T035929Z
UID:10000241-1720972800-1720980000@www.esterlibrary.org
SUMMARY:Writing Circle
DESCRIPTION:Enjoy quiet time and space for your own narrations
URL:https://www.esterlibrary.org/event/writing-circle-2/2024-07-14/
END:VEVENT
BEGIN:VEVENT
DTSTART;TZID=America/Anchorage:20240713T130000
DTEND;TZID=America/Anchorage:20240713T160000
DTSTAMP:20260425T054028
CREATED:20240101T215150Z
LAST-MODIFIED:20241202T214419Z
UID:10000430-1720875600-1720886400@www.esterlibrary.org
SUMMARY:Open hours
DESCRIPTION:
URL:https://www.esterlibrary.org/event/open-hours-16/2024-07-13/
END:VEVENT
BEGIN:VEVENT
DTSTART;TZID=America/Anchorage:20240711T160000
DTEND;TZID=America/Anchorage:20240711T190000
DTSTAMP:20260425T054028
CREATED:20240306T191828Z
LAST-MODIFIED:20241130T043930Z
UID:10000100-1720713600-1720724400@www.esterlibrary.org
SUMMARY:Open Hours
DESCRIPTION:
URL:https://www.esterlibrary.org/event/open-hours-geb-program-specialist/2024-07-11/
END:VEVENT
BEGIN:VEVENT
DTSTART;TZID=America/Anchorage:20240708T150000
DTEND;TZID=America/Anchorage:20240708T180000
DTSTAMP:20260425T054028
CREATED:20240101T214601Z
LAST-MODIFIED:20250111T222726Z
UID:10000338-1720450800-1720461600@www.esterlibrary.org
SUMMARY:Monday Open hours
DESCRIPTION:
URL:https://www.esterlibrary.org/event/open-hours-7/2024-07-08/
END:VEVENT
BEGIN:VEVENT
DTSTART;TZID=America/Anchorage:20240707T160000
DTEND;TZID=America/Anchorage:20240707T180000
DTSTAMP:20260425T054028
CREATED:20240101T212428Z
LAST-MODIFIED:20240813T035929Z
UID:10000240-1720368000-1720375200@www.esterlibrary.org
SUMMARY:Writing Circle
DESCRIPTION:Enjoy quiet time and space for your own narrations
URL:https://www.esterlibrary.org/event/writing-circle-2/2024-07-07/
END:VEVENT
BEGIN:VEVENT
DTSTART;TZID=America/Anchorage:20240706T150000
DTEND;TZID=America/Anchorage:20240706T170000
DTSTAMP:20260425T054028
CREATED:20240513T074023Z
LAST-MODIFIED:20240620T034038Z
UID:10000481-1720278000-1720285200@www.esterlibrary.org
SUMMARY:Book Club
DESCRIPTION:Hidden in Snow by Viveca Sten \nThe splendor of the Swedish mountains becomes the backdrop for a bone-chilling crime. \nOn the day Stockholm police officer Hanna Ahlander’s personal and professional lives crash\, she takes refuge at her sister’s lodge in the Swedish ski resort paradise of Åre. But it’s a brief comfort. The entire village is shaken by the sudden vanishing of a local teenage girl. Hanna can’t help but investigate\, and while searching for the missing person\, she lands a job with the local police department. There she joins forces with Detective Inspector Daniel Lindskog\, who has been tasked with finding the girl. Their only lead: a scarf in the snow. \nAs subzero temperatures drop even further\, a treacherous blizzard sweeps toward Åre. Hanna and Daniel’s investigation is getting more desperate by the hour. Lost or abducted\, either way time is running out for the missing girl. Each new clue closes in on something far more sinister than either Hanna or Daniel imagined. In this devious novel by the bestselling author of the Sandhamn Murders series\, discover what it will take to solve a case when the truth can be so easily hidden in the coming storm.
URL:https://www.esterlibrary.org/event/book-club-6/
LOCATION:Clausen Cabin\, 3629 Main Street\, Ester\, 99725
CATEGORIES:Events
END:VEVENT
END:VCALENDAR