BEGIN:VCALENDAR
VERSION:2.0
PRODID:-//Ester Village Library - ECPv6.15.20//NONSGML v1.0//EN
CALSCALE:GREGORIAN
METHOD:PUBLISH
X-WR-CALNAME:Ester Village Library
X-ORIGINAL-URL:https://www.esterlibrary.org
X-WR-CALDESC:Events for Ester Village Library
REFRESH-INTERVAL;VALUE=DURATION:PT1H
X-Robots-Tag:noindex
X-PUBLISHED-TTL:PT1H
BEGIN:VTIMEZONE
TZID:America/Anchorage
BEGIN:DAYLIGHT
TZOFFSETFROM:-0900
TZOFFSETTO:-0800
TZNAME:AKDT
DTSTART:20230312T110000
END:DAYLIGHT
BEGIN:STANDARD
TZOFFSETFROM:-0800
TZOFFSETTO:-0900
TZNAME:AKST
DTSTART:20231105T100000
END:STANDARD
BEGIN:DAYLIGHT
TZOFFSETFROM:-0900
TZOFFSETTO:-0800
TZNAME:AKDT
DTSTART:20240310T110000
END:DAYLIGHT
BEGIN:STANDARD
TZOFFSETFROM:-0800
TZOFFSETTO:-0900
TZNAME:AKST
DTSTART:20241103T100000
END:STANDARD
BEGIN:DAYLIGHT
TZOFFSETFROM:-0900
TZOFFSETTO:-0800
TZNAME:AKDT
DTSTART:20250309T110000
END:DAYLIGHT
BEGIN:STANDARD
TZOFFSETFROM:-0800
TZOFFSETTO:-0900
TZNAME:AKST
DTSTART:20251102T100000
END:STANDARD
END:VTIMEZONE
BEGIN:VEVENT
DTSTART;TZID=America/Anchorage:20240527T150000
DTEND;TZID=America/Anchorage:20240527T180000
DTSTAMP:20260425T071110
CREATED:20250214T204012Z
LAST-MODIFIED:20250214T204012Z
UID:10000395-1716822000-1716832800@www.esterlibrary.org
SUMMARY:Monday Open hours
DESCRIPTION:
URL:https://www.esterlibrary.org/event/open-hours-7/2024-05-27/
END:VEVENT
BEGIN:VEVENT
DTSTART;TZID=America/Anchorage:20240527T150000
DTEND;TZID=America/Anchorage:20240527T180000
DTSTAMP:20260425T071110
CREATED:20240101T214601Z
LAST-MODIFIED:20250111T222726Z
UID:10000332-1716822000-1716832800@www.esterlibrary.org
SUMMARY:Monday Open hours
DESCRIPTION:
URL:https://www.esterlibrary.org/event/open-hours-7/2024-05-27/
END:VEVENT
BEGIN:VEVENT
DTSTART;TZID=America/Anchorage:20240526T160000
DTEND;TZID=America/Anchorage:20240526T180000
DTSTAMP:20260425T071110
CREATED:20250214T204008Z
LAST-MODIFIED:20250214T204008Z
UID:10000284-1716739200-1716746400@www.esterlibrary.org
SUMMARY:Writing Circle
DESCRIPTION:Enjoy quiet time and space for your own narrations
URL:https://www.esterlibrary.org/event/writing-circle-2/2024-05-26/
END:VEVENT
BEGIN:VEVENT
DTSTART;TZID=America/Anchorage:20240526T160000
DTEND;TZID=America/Anchorage:20240526T180000
DTSTAMP:20260425T071110
CREATED:20240101T212428Z
LAST-MODIFIED:20240813T035929Z
UID:10000234-1716739200-1716746400@www.esterlibrary.org
SUMMARY:Writing Circle
DESCRIPTION:Enjoy quiet time and space for your own narrations
URL:https://www.esterlibrary.org/event/writing-circle-2/2024-05-26/
END:VEVENT
BEGIN:VEVENT
DTSTART;TZID=America/Anchorage:20240525T130000
DTEND;TZID=America/Anchorage:20240525T160000
DTSTAMP:20260425T071110
CREATED:20240101T215150Z
LAST-MODIFIED:20241202T214419Z
UID:10000423-1716642000-1716652800@www.esterlibrary.org
SUMMARY:Open hours
DESCRIPTION:
URL:https://www.esterlibrary.org/event/open-hours-16/2024-05-25/
END:VEVENT
BEGIN:VEVENT
DTSTART;TZID=America/Anchorage:20240525T120000
DTEND;TZID=America/Anchorage:20240525T160000
DTSTAMP:20260425T071110
CREATED:20240422T023317Z
LAST-MODIFIED:20240422T023317Z
UID:10000479-1716638400-1716652800@www.esterlibrary.org
SUMMARY:Plant Sale
DESCRIPTION:Come get some plants for your garden! Edibles\, herbs\, garlic bulbs and flowering plants….
URL:https://www.esterlibrary.org/event/plant-sale/
LOCATION:Clausen Cabin\, 3629 Main Street\, Ester\, 99725
CATEGORIES:Announcements,Events
END:VEVENT
BEGIN:VEVENT
DTSTART;TZID=America/Anchorage:20240523T160000
DTEND;TZID=America/Anchorage:20240523T190000
DTSTAMP:20260425T071110
CREATED:20240306T191828Z
LAST-MODIFIED:20241130T043930Z
UID:10000094-1716480000-1716490800@www.esterlibrary.org
SUMMARY:Open Hours
DESCRIPTION:
URL:https://www.esterlibrary.org/event/open-hours-geb-program-specialist/2024-05-23/
END:VEVENT
BEGIN:VEVENT
DTSTART;TZID=America/Anchorage:20240521T150000
DTEND;TZID=America/Anchorage:20240521T190000
DTSTAMP:20260425T071110
CREATED:20240101T213350Z
LAST-MODIFIED:20241130T043835Z
UID:10000305-1716303600-1716318000@www.esterlibrary.org
SUMMARY:Knit Night & Open Hours
DESCRIPTION:
URL:https://www.esterlibrary.org/event/knit-night-5/2024-05-21/
END:VEVENT
BEGIN:VEVENT
DTSTART;TZID=America/Anchorage:20240520T150000
DTEND;TZID=America/Anchorage:20240520T180000
DTSTAMP:20260425T071110
CREATED:20250214T204012Z
LAST-MODIFIED:20250214T204012Z
UID:10000394-1716217200-1716228000@www.esterlibrary.org
SUMMARY:Monday Open hours
DESCRIPTION:
URL:https://www.esterlibrary.org/event/open-hours-7/2024-05-20/
END:VEVENT
BEGIN:VEVENT
DTSTART;TZID=America/Anchorage:20240520T150000
DTEND;TZID=America/Anchorage:20240520T180000
DTSTAMP:20260425T071110
CREATED:20240101T214601Z
LAST-MODIFIED:20250111T222726Z
UID:10000331-1716217200-1716228000@www.esterlibrary.org
SUMMARY:Monday Open hours
DESCRIPTION:
URL:https://www.esterlibrary.org/event/open-hours-7/2024-05-20/
END:VEVENT
BEGIN:VEVENT
DTSTART;TZID=America/Anchorage:20240519T160000
DTEND;TZID=America/Anchorage:20240519T180000
DTSTAMP:20260425T071110
CREATED:20250214T204008Z
LAST-MODIFIED:20250214T204008Z
UID:10000283-1716134400-1716141600@www.esterlibrary.org
SUMMARY:Writing Circle
DESCRIPTION:Enjoy quiet time and space for your own narrations
URL:https://www.esterlibrary.org/event/writing-circle-2/2024-05-19/
END:VEVENT
BEGIN:VEVENT
DTSTART;TZID=America/Anchorage:20240519T160000
DTEND;TZID=America/Anchorage:20240519T180000
DTSTAMP:20260425T071110
CREATED:20240101T212428Z
LAST-MODIFIED:20240813T035929Z
UID:10000233-1716134400-1716141600@www.esterlibrary.org
SUMMARY:Writing Circle
DESCRIPTION:Enjoy quiet time and space for your own narrations
URL:https://www.esterlibrary.org/event/writing-circle-2/2024-05-19/
END:VEVENT
BEGIN:VEVENT
DTSTART;TZID=America/Anchorage:20240518T130000
DTEND;TZID=America/Anchorage:20240518T160000
DTSTAMP:20260425T071110
CREATED:20240101T215150Z
LAST-MODIFIED:20241202T214419Z
UID:10000422-1716037200-1716048000@www.esterlibrary.org
SUMMARY:Open hours
DESCRIPTION:
URL:https://www.esterlibrary.org/event/open-hours-16/2024-05-18/
END:VEVENT
BEGIN:VEVENT
DTSTART;TZID=America/Anchorage:20240516T160000
DTEND;TZID=America/Anchorage:20240516T190000
DTSTAMP:20260425T071110
CREATED:20240306T191828Z
LAST-MODIFIED:20241130T043930Z
UID:10000093-1715875200-1715886000@www.esterlibrary.org
SUMMARY:Open Hours
DESCRIPTION:
URL:https://www.esterlibrary.org/event/open-hours-geb-program-specialist/2024-05-16/
END:VEVENT
BEGIN:VEVENT
DTSTART;TZID=America/Anchorage:20240515T180000
DTEND;TZID=America/Anchorage:20240515T200000
DTSTAMP:20260425T071110
CREATED:20240422T035640Z
LAST-MODIFIED:20240422T035640Z
UID:10000480-1715796000-1715803200@www.esterlibrary.org
SUMMARY:Board Meeting
DESCRIPTION:
URL:https://www.esterlibrary.org/event/board-meeting-5/
CATEGORIES:Announcements,Board
END:VEVENT
BEGIN:VEVENT
DTSTART;TZID=America/Anchorage:20240514T150000
DTEND;TZID=America/Anchorage:20240514T190000
DTSTAMP:20260425T071110
CREATED:20240101T213350Z
LAST-MODIFIED:20241130T043835Z
UID:10000304-1715698800-1715713200@www.esterlibrary.org
SUMMARY:Knit Night & Open Hours
DESCRIPTION:
URL:https://www.esterlibrary.org/event/knit-night-5/2024-05-14/
END:VEVENT
BEGIN:VEVENT
DTSTART;TZID=America/Anchorage:20240513T150000
DTEND;TZID=America/Anchorage:20240513T180000
DTSTAMP:20260425T071110
CREATED:20250214T204012Z
LAST-MODIFIED:20250214T204012Z
UID:10000393-1715612400-1715623200@www.esterlibrary.org
SUMMARY:Monday Open hours
DESCRIPTION:
URL:https://www.esterlibrary.org/event/open-hours-7/2024-05-13/
END:VEVENT
BEGIN:VEVENT
DTSTART;TZID=America/Anchorage:20240513T150000
DTEND;TZID=America/Anchorage:20240513T180000
DTSTAMP:20260425T071110
CREATED:20240101T214601Z
LAST-MODIFIED:20250111T222726Z
UID:10000330-1715612400-1715623200@www.esterlibrary.org
SUMMARY:Monday Open hours
DESCRIPTION:
URL:https://www.esterlibrary.org/event/open-hours-7/2024-05-13/
END:VEVENT
BEGIN:VEVENT
DTSTART;TZID=America/Anchorage:20240512T160000
DTEND;TZID=America/Anchorage:20240512T180000
DTSTAMP:20260425T071110
CREATED:20250214T204008Z
LAST-MODIFIED:20250214T204008Z
UID:10000282-1715529600-1715536800@www.esterlibrary.org
SUMMARY:Writing Circle
DESCRIPTION:Enjoy quiet time and space for your own narrations
URL:https://www.esterlibrary.org/event/writing-circle-2/2024-05-12/
END:VEVENT
BEGIN:VEVENT
DTSTART;TZID=America/Anchorage:20240512T160000
DTEND;TZID=America/Anchorage:20240512T180000
DTSTAMP:20260425T071110
CREATED:20240101T212428Z
LAST-MODIFIED:20240813T035929Z
UID:10000232-1715529600-1715536800@www.esterlibrary.org
SUMMARY:Writing Circle
DESCRIPTION:Enjoy quiet time and space for your own narrations
URL:https://www.esterlibrary.org/event/writing-circle-2/2024-05-12/
END:VEVENT
BEGIN:VEVENT
DTSTART;TZID=America/Anchorage:20240511T130000
DTEND;TZID=America/Anchorage:20240511T160000
DTSTAMP:20260425T071110
CREATED:20240101T215150Z
LAST-MODIFIED:20241202T214419Z
UID:10000421-1715432400-1715443200@www.esterlibrary.org
SUMMARY:Open hours
DESCRIPTION:
URL:https://www.esterlibrary.org/event/open-hours-16/2024-05-11/
END:VEVENT
BEGIN:VEVENT
DTSTART;TZID=America/Anchorage:20240509T160000
DTEND;TZID=America/Anchorage:20240509T190000
DTSTAMP:20260425T071110
CREATED:20240306T191828Z
LAST-MODIFIED:20241130T043930Z
UID:10000092-1715270400-1715281200@www.esterlibrary.org
SUMMARY:Open Hours
DESCRIPTION:
URL:https://www.esterlibrary.org/event/open-hours-geb-program-specialist/2024-05-09/
END:VEVENT
BEGIN:VEVENT
DTSTART;TZID=America/Anchorage:20240507T150000
DTEND;TZID=America/Anchorage:20240507T190000
DTSTAMP:20260425T071110
CREATED:20240101T213350Z
LAST-MODIFIED:20241130T043835Z
UID:10000303-1715094000-1715108400@www.esterlibrary.org
SUMMARY:Knit Night & Open Hours
DESCRIPTION:
URL:https://www.esterlibrary.org/event/knit-night-5/2024-05-07/
END:VEVENT
BEGIN:VEVENT
DTSTART;TZID=America/Anchorage:20240506T150000
DTEND;TZID=America/Anchorage:20240506T180000
DTSTAMP:20260425T071110
CREATED:20250214T204012Z
LAST-MODIFIED:20250214T204012Z
UID:10000392-1715007600-1715018400@www.esterlibrary.org
SUMMARY:Monday Open hours
DESCRIPTION:
URL:https://www.esterlibrary.org/event/open-hours-7/2024-05-06/
END:VEVENT
BEGIN:VEVENT
DTSTART;TZID=America/Anchorage:20240506T150000
DTEND;TZID=America/Anchorage:20240506T180000
DTSTAMP:20260425T071110
CREATED:20240101T214601Z
LAST-MODIFIED:20250111T222726Z
UID:10000329-1715007600-1715018400@www.esterlibrary.org
SUMMARY:Monday Open hours
DESCRIPTION:
URL:https://www.esterlibrary.org/event/open-hours-7/2024-05-06/
END:VEVENT
BEGIN:VEVENT
DTSTART;TZID=America/Anchorage:20240505T160000
DTEND;TZID=America/Anchorage:20240505T180000
DTSTAMP:20260425T071110
CREATED:20250214T204008Z
LAST-MODIFIED:20250214T204008Z
UID:10000281-1714924800-1714932000@www.esterlibrary.org
SUMMARY:Writing Circle
DESCRIPTION:Enjoy quiet time and space for your own narrations
URL:https://www.esterlibrary.org/event/writing-circle-2/2024-05-05/
END:VEVENT
BEGIN:VEVENT
DTSTART;TZID=America/Anchorage:20240505T160000
DTEND;TZID=America/Anchorage:20240505T180000
DTSTAMP:20260425T071110
CREATED:20240101T212428Z
LAST-MODIFIED:20240813T035929Z
UID:10000231-1714924800-1714932000@www.esterlibrary.org
SUMMARY:Writing Circle
DESCRIPTION:Enjoy quiet time and space for your own narrations
URL:https://www.esterlibrary.org/event/writing-circle-2/2024-05-05/
END:VEVENT
BEGIN:VEVENT
DTSTART;TZID=America/Anchorage:20240505T150000
DTEND;TZID=America/Anchorage:20240505T170000
DTSTAMP:20260425T071110
CREATED:20240306T194607Z
LAST-MODIFIED:20240513T072703Z
UID:10000151-1714921200-1714928400@www.esterlibrary.org
SUMMARY:Book Club
DESCRIPTION:A Walk in the Woods by Bill Bryson \nBack in America after twenty years in Britain\, Bill Bryson decided to reacquaint himself with his native country by walking the 2\,100-mile Appalachian Trail\, which stretches from Georgia to Maine. The AT offers an astonishing landscape of silent forests and sparkling lakes—and to a writer with the comic genius of Bill Bryson\, it also provides endless opportunities to witness the majestic silliness of his fellow human beings. \nFor a start there’s the gloriously out-of-shape Stephen Katz\, a buddy from Iowa along for the walk. But A Walk in the Woods is more than just a laugh-out-loud hike. Bryson’s acute eye is a wise witness to this beautiful but fragile trail\, and as he tells its fascinating history\, he makes a moving plea for the conservation of America’s last great wilderness. An adventure\, a comedy\, and a celebration\, A Walk in the Woods is a modern classic of travel literature.
URL:https://www.esterlibrary.org/event/book-club-5/2024-05-05/
CATEGORIES:Announcements
END:VEVENT
BEGIN:VEVENT
DTSTART;TZID=America/Anchorage:20240504T150000
DTEND;TZID=America/Anchorage:20240504T170000
DTSTAMP:20260425T071110
CREATED:20240306T194607Z
LAST-MODIFIED:20240513T072703Z
UID:10000150-1714834800-1714842000@www.esterlibrary.org
SUMMARY:Book Club
DESCRIPTION:A Walk in the Woods by Bill Bryson \nBack in America after twenty years in Britain\, Bill Bryson decided to reacquaint himself with his native country by walking the 2\,100-mile Appalachian Trail\, which stretches from Georgia to Maine. The AT offers an astonishing landscape of silent forests and sparkling lakes—and to a writer with the comic genius of Bill Bryson\, it also provides endless opportunities to witness the majestic silliness of his fellow human beings. \nFor a start there’s the gloriously out-of-shape Stephen Katz\, a buddy from Iowa along for the walk. But A Walk in the Woods is more than just a laugh-out-loud hike. Bryson’s acute eye is a wise witness to this beautiful but fragile trail\, and as he tells its fascinating history\, he makes a moving plea for the conservation of America’s last great wilderness. An adventure\, a comedy\, and a celebration\, A Walk in the Woods is a modern classic of travel literature.
URL:https://www.esterlibrary.org/event/book-club-5/2024-05-04/
CATEGORIES:Announcements
END:VEVENT
BEGIN:VEVENT
DTSTART;TZID=America/Anchorage:20240504T130000
DTEND;TZID=America/Anchorage:20240504T160000
DTSTAMP:20260425T071110
CREATED:20240101T215150Z
LAST-MODIFIED:20241202T214419Z
UID:10000420-1714827600-1714838400@www.esterlibrary.org
SUMMARY:Open hours
DESCRIPTION:
URL:https://www.esterlibrary.org/event/open-hours-16/2024-05-04/
END:VEVENT
END:VCALENDAR