BEGIN:VCALENDAR
VERSION:2.0
PRODID:-//Ester Village Library - ECPv6.15.20//NONSGML v1.0//EN
CALSCALE:GREGORIAN
METHOD:PUBLISH
X-ORIGINAL-URL:https://www.esterlibrary.org
X-WR-CALDESC:Events for Ester Village Library
REFRESH-INTERVAL;VALUE=DURATION:PT1H
X-Robots-Tag:noindex
X-PUBLISHED-TTL:PT1H
BEGIN:VTIMEZONE
TZID:America/Anchorage
BEGIN:DAYLIGHT
TZOFFSETFROM:-0900
TZOFFSETTO:-0800
TZNAME:AKDT
DTSTART:20240310T110000
END:DAYLIGHT
BEGIN:STANDARD
TZOFFSETFROM:-0800
TZOFFSETTO:-0900
TZNAME:AKST
DTSTART:20241103T100000
END:STANDARD
BEGIN:DAYLIGHT
TZOFFSETFROM:-0900
TZOFFSETTO:-0800
TZNAME:AKDT
DTSTART:20250309T110000
END:DAYLIGHT
BEGIN:STANDARD
TZOFFSETFROM:-0800
TZOFFSETTO:-0900
TZNAME:AKST
DTSTART:20251102T100000
END:STANDARD
BEGIN:DAYLIGHT
TZOFFSETFROM:-0900
TZOFFSETTO:-0800
TZNAME:AKDT
DTSTART:20260308T110000
END:DAYLIGHT
BEGIN:STANDARD
TZOFFSETFROM:-0800
TZOFFSETTO:-0900
TZNAME:AKST
DTSTART:20261101T100000
END:STANDARD
END:VTIMEZONE
BEGIN:VEVENT
DTSTART;TZID=America/Anchorage:20250428T183000
DTEND;TZID=America/Anchorage:20250428T203000
DTSTAMP:20260425T061839
CREATED:20250422T002701Z
LAST-MODIFIED:20250422T002701Z
UID:10000587-1745865000-1745872200@www.esterlibrary.org
SUMMARY:Board of Directors Meeting
DESCRIPTION:
URL:https://www.esterlibrary.org/event/board-of-directors-meeting-3/
CATEGORIES:Board
END:VEVENT
BEGIN:VEVENT
DTSTART;TZID=America/Anchorage:20250429T150000
DTEND;TZID=America/Anchorage:20250429T190000
DTSTAMP:20260425T061839
CREATED:20250531T235721Z
LAST-MODIFIED:20250531T235722Z
UID:10000211-1745938800-1745953200@www.esterlibrary.org
SUMMARY:Knit Night and Open Hours
DESCRIPTION:
URL:https://www.esterlibrary.org/event/knit-night-and-open-hours-2/
LOCATION:Clausen Cabin\, 3629 Main Street\, Ester\, 99725
END:VEVENT
BEGIN:VEVENT
DTSTART;TZID=America/Anchorage:20250501T160000
DTEND;TZID=America/Anchorage:20250501T190000
DTSTAMP:20260425T061839
CREATED:20250422T011555Z
LAST-MODIFIED:20250422T011555Z
UID:10000590-1746115200-1746126000@www.esterlibrary.org
SUMMARY:Open Hours
DESCRIPTION:
URL:https://www.esterlibrary.org/event/open-hours-19/
END:VEVENT
BEGIN:VEVENT
DTSTART;TZID=America/Anchorage:20250503T150000
DTEND;TZID=America/Anchorage:20250503T163000
DTSTAMP:20260425T061839
CREATED:20250422T011932Z
LAST-MODIFIED:20250422T011932Z
UID:10000592-1746284400-1746289800@www.esterlibrary.org
SUMMARY:Adult Book Club
DESCRIPTION:We’ll be discussing James\, by Percival Everett. \nWhen the enslaved Jim overhears that he is about to be sold to a man in New Orleans\, separated from his wife and daughter forever\, he decides to hide on nearby Jackson Island until he can formulate a plan. Meanwhile\, Huck Finn has faked his own death to escape his violent father\, recently returned to town. As all readers of American literature know\, thus begins the dangerous and transcendent journey by raft down the Mississippi River toward the elusive and too-often-unreliable promise of the Free States and beyond. \nWhile many narrative set pieces of Adventures of Huckleberry Finn remain in place (floods and storms\, stumbling across both unexpected death and unexpected treasure in the myriad stopping points along the river’s banks\, encountering the scam artists posing as the Duke and Dauphin…)\, Jim’s agency\, intelligence and compassion are shown in a radically new light. \nBrimming with the electrifying humor and lacerating observations that have made Everett a “literary icon” (Oprah Daily)\, and one of the most decorated writers of our lifetime\, James is destined to be a cornerstone of twenty-first century American literature.
URL:https://www.esterlibrary.org/event/adult-book-club/
CATEGORIES:Events
END:VEVENT
BEGIN:VEVENT
DTSTART;TZID=America/Anchorage:20250503T190000
DTEND;TZID=America/Anchorage:20250503T230000
DTSTAMP:20260425T061839
CREATED:20250422T011252Z
LAST-MODIFIED:20250422T011252Z
UID:10000589-1746298800-1746313200@www.esterlibrary.org
SUMMARY:Spring FUNdRAISER
DESCRIPTION:Come on out to the Library’s annual Spring FUNdRAISER!  7:00 PM-11:00 PM\, Saturday May 3\, 2025 at the Golden Eagle Saloon. \nWe’ll have a live band\, lots of things to auction off (silent auction)\, such as a round trip fly and drive tour to the Arctic Circle\, a Stan Stephens cruise to Meares Glacier\, Alaska Railroad tickets\, restaurants\, and much\, much more!
URL:https://www.esterlibrary.org/event/spring-fundraiser/
LOCATION:Golden Eagle Saloon\, 3530 Main Steet\, Fairbanks\, 99709\, United States
CATEGORIES:Events,Fundraising
ORGANIZER;CN="Syrilyn Tong":MAILTO:president@esterlibrary.org
END:VEVENT
BEGIN:VEVENT
DTSTART;TZID=America/Anchorage:20250504T160000
DTEND;TZID=America/Anchorage:20250504T180000
DTSTAMP:20260425T061839
CREATED:20250422T012127Z
LAST-MODIFIED:20250422T012127Z
UID:10000593-1746374400-1746381600@www.esterlibrary.org
SUMMARY:Writing Circle/Open hours
DESCRIPTION:
URL:https://www.esterlibrary.org/event/writing-circle-open-hours/2025-05-04/
LOCATION:Clausen Cabin\, 3629 Main Street\, Ester\, 99725
CATEGORIES:Events
END:VEVENT
BEGIN:VEVENT
DTSTART;TZID=America/Anchorage:20250506T150000
DTEND;TZID=America/Anchorage:20250506T190000
DTSTAMP:20260425T061839
CREATED:20250422T013253Z
LAST-MODIFIED:20250422T013253Z
UID:10000719-1746543600-1746558000@www.esterlibrary.org
SUMMARY:Knit Night/Open Hours
DESCRIPTION:
URL:https://www.esterlibrary.org/event/knit-night-open-hours/2025-05-06/
CATEGORIES:Events
END:VEVENT
BEGIN:VEVENT
DTSTART;TZID=America/Anchorage:20250508T160000
DTEND;TZID=America/Anchorage:20250508T190000
DTSTAMP:20260425T061839
CREATED:20250422T013719Z
LAST-MODIFIED:20250422T013719Z
UID:10000844-1746720000-1746730800@www.esterlibrary.org
SUMMARY:Open Hours
DESCRIPTION:
URL:https://www.esterlibrary.org/event/open-hours-22/2025-05-08/
END:VEVENT
BEGIN:VEVENT
DTSTART;TZID=America/Anchorage:20250510T130000
DTEND;TZID=America/Anchorage:20250510T160000
DTSTAMP:20260425T061839
CREATED:20250422T013406Z
LAST-MODIFIED:20250422T013406Z
UID:10000784-1746882000-1746892800@www.esterlibrary.org
SUMMARY:Open Hours
DESCRIPTION:
URL:https://www.esterlibrary.org/event/open-hours-21/2025-05-10/
END:VEVENT
BEGIN:VEVENT
DTSTART;TZID=America/Anchorage:20250510T143000
DTEND;TZID=America/Anchorage:20250510T160000
DTSTAMP:20260425T061839
CREATED:20250422T013952Z
LAST-MODIFIED:20250422T013952Z
UID:10000909-1746887400-1746892800@www.esterlibrary.org
SUMMARY:Children's Book Club
DESCRIPTION:
URL:https://www.esterlibrary.org/event/childrens-book-club-3/2025-05-10/
CATEGORIES:Events
END:VEVENT
BEGIN:VEVENT
DTSTART;TZID=America/Anchorage:20250511T160000
DTEND;TZID=America/Anchorage:20250511T180000
DTSTAMP:20260425T061839
CREATED:20250422T012127Z
LAST-MODIFIED:20250422T012127Z
UID:10000594-1746979200-1746986400@www.esterlibrary.org
SUMMARY:Writing Circle/Open hours
DESCRIPTION:
URL:https://www.esterlibrary.org/event/writing-circle-open-hours/2025-05-11/
LOCATION:Clausen Cabin\, 3629 Main Street\, Ester\, 99725
CATEGORIES:Events
END:VEVENT
BEGIN:VEVENT
DTSTART;TZID=America/Anchorage:20250513T150000
DTEND;TZID=America/Anchorage:20250513T190000
DTSTAMP:20260425T061839
CREATED:20250422T013253Z
LAST-MODIFIED:20250422T013253Z
UID:10000720-1747148400-1747162800@www.esterlibrary.org
SUMMARY:Knit Night/Open Hours
DESCRIPTION:
URL:https://www.esterlibrary.org/event/knit-night-open-hours/2025-05-13/
CATEGORIES:Events
END:VEVENT
BEGIN:VEVENT
DTSTART;TZID=America/Anchorage:20250515T160000
DTEND;TZID=America/Anchorage:20250515T190000
DTSTAMP:20260425T061839
CREATED:20250422T013719Z
LAST-MODIFIED:20250422T013719Z
UID:10000845-1747324800-1747335600@www.esterlibrary.org
SUMMARY:Open Hours
DESCRIPTION:
URL:https://www.esterlibrary.org/event/open-hours-22/2025-05-15/
END:VEVENT
BEGIN:VEVENT
DTSTART;TZID=America/Anchorage:20250517T130000
DTEND;TZID=America/Anchorage:20250517T160000
DTSTAMP:20260425T061839
CREATED:20250422T013406Z
LAST-MODIFIED:20250422T013406Z
UID:10000785-1747486800-1747497600@www.esterlibrary.org
SUMMARY:Open Hours
DESCRIPTION:
URL:https://www.esterlibrary.org/event/open-hours-21/2025-05-17/
END:VEVENT
BEGIN:VEVENT
DTSTART;TZID=America/Anchorage:20250518T160000
DTEND;TZID=America/Anchorage:20250518T180000
DTSTAMP:20260425T061839
CREATED:20250422T012127Z
LAST-MODIFIED:20250422T012127Z
UID:10000595-1747584000-1747591200@www.esterlibrary.org
SUMMARY:Writing Circle/Open hours
DESCRIPTION:
URL:https://www.esterlibrary.org/event/writing-circle-open-hours/2025-05-18/
LOCATION:Clausen Cabin\, 3629 Main Street\, Ester\, 99725
CATEGORIES:Events
END:VEVENT
BEGIN:VEVENT
DTSTART;TZID=America/Anchorage:20250520T150000
DTEND;TZID=America/Anchorage:20250520T190000
DTSTAMP:20260425T061839
CREATED:20250422T013253Z
LAST-MODIFIED:20250422T013253Z
UID:10000721-1747753200-1747767600@www.esterlibrary.org
SUMMARY:Knit Night/Open Hours
DESCRIPTION:
URL:https://www.esterlibrary.org/event/knit-night-open-hours/2025-05-20/
CATEGORIES:Events
END:VEVENT
BEGIN:VEVENT
DTSTART;TZID=America/Anchorage:20250522T160000
DTEND;TZID=America/Anchorage:20250522T190000
DTSTAMP:20260425T061839
CREATED:20250422T013719Z
LAST-MODIFIED:20250422T013719Z
UID:10000846-1747929600-1747940400@www.esterlibrary.org
SUMMARY:Open Hours
DESCRIPTION:
URL:https://www.esterlibrary.org/event/open-hours-22/2025-05-22/
END:VEVENT
BEGIN:VEVENT
DTSTART;TZID=America/Anchorage:20250524T130000
DTEND;TZID=America/Anchorage:20250524T160000
DTSTAMP:20260425T061839
CREATED:20250422T013406Z
LAST-MODIFIED:20250422T013406Z
UID:10000786-1748091600-1748102400@www.esterlibrary.org
SUMMARY:Open Hours
DESCRIPTION:
URL:https://www.esterlibrary.org/event/open-hours-21/2025-05-24/
END:VEVENT
BEGIN:VEVENT
DTSTART;TZID=America/Anchorage:20250524T143000
DTEND;TZID=America/Anchorage:20250524T160000
DTSTAMP:20260425T061839
CREATED:20250422T014054Z
LAST-MODIFIED:20250422T014054Z
UID:10000924-1748097000-1748102400@www.esterlibrary.org
SUMMARY:Children's Book Club
DESCRIPTION:
URL:https://www.esterlibrary.org/event/childrens-book-club-4/2025-05-24/
CATEGORIES:Events
END:VEVENT
BEGIN:VEVENT
DTSTART;TZID=America/Anchorage:20250525T160000
DTEND;TZID=America/Anchorage:20250525T180000
DTSTAMP:20260425T061839
CREATED:20250422T012127Z
LAST-MODIFIED:20250422T012127Z
UID:10000596-1748188800-1748196000@www.esterlibrary.org
SUMMARY:Writing Circle/Open hours
DESCRIPTION:
URL:https://www.esterlibrary.org/event/writing-circle-open-hours/2025-05-25/
LOCATION:Clausen Cabin\, 3629 Main Street\, Ester\, 99725
CATEGORIES:Events
END:VEVENT
BEGIN:VEVENT
DTSTART;TZID=America/Anchorage:20250527T150000
DTEND;TZID=America/Anchorage:20250527T190000
DTSTAMP:20260425T061839
CREATED:20250422T013253Z
LAST-MODIFIED:20250422T013253Z
UID:10000722-1748358000-1748372400@www.esterlibrary.org
SUMMARY:Knit Night/Open Hours
DESCRIPTION:
URL:https://www.esterlibrary.org/event/knit-night-open-hours/2025-05-27/
CATEGORIES:Events
END:VEVENT
BEGIN:VEVENT
DTSTART;TZID=America/Anchorage:20250529T160000
DTEND;TZID=America/Anchorage:20250529T190000
DTSTAMP:20260425T061839
CREATED:20250422T013719Z
LAST-MODIFIED:20250422T013719Z
UID:10000847-1748534400-1748545200@www.esterlibrary.org
SUMMARY:Open Hours
DESCRIPTION:
URL:https://www.esterlibrary.org/event/open-hours-22/2025-05-29/
END:VEVENT
BEGIN:VEVENT
DTSTART;TZID=America/Anchorage:20250531T130000
DTEND;TZID=America/Anchorage:20250531T160000
DTSTAMP:20260425T061839
CREATED:20250422T013406Z
LAST-MODIFIED:20250422T013406Z
UID:10000787-1748696400-1748707200@www.esterlibrary.org
SUMMARY:Open Hours
DESCRIPTION:
URL:https://www.esterlibrary.org/event/open-hours-21/2025-05-31/
END:VEVENT
BEGIN:VEVENT
DTSTART;TZID=America/Anchorage:20250601T160000
DTEND;TZID=America/Anchorage:20250601T180000
DTSTAMP:20260425T061839
CREATED:20250422T012127Z
LAST-MODIFIED:20250422T012127Z
UID:10000597-1748793600-1748800800@www.esterlibrary.org
SUMMARY:Writing Circle/Open hours
DESCRIPTION:
URL:https://www.esterlibrary.org/event/writing-circle-open-hours/2025-06-01/
LOCATION:Clausen Cabin\, 3629 Main Street\, Ester\, 99725
CATEGORIES:Events
END:VEVENT
BEGIN:VEVENT
DTSTART;TZID=America/Anchorage:20250603T150000
DTEND;TZID=America/Anchorage:20250603T190000
DTSTAMP:20260425T061839
CREATED:20250422T013253Z
LAST-MODIFIED:20250422T013253Z
UID:10000723-1748962800-1748977200@www.esterlibrary.org
SUMMARY:Knit Night/Open Hours
DESCRIPTION:
URL:https://www.esterlibrary.org/event/knit-night-open-hours/2025-06-03/
CATEGORIES:Events
END:VEVENT
BEGIN:VEVENT
DTSTART;TZID=America/Anchorage:20250604T170000
DTEND;TZID=America/Anchorage:20250604T190000
DTSTAMP:20260425T061839
CREATED:20250603T202451Z
LAST-MODIFIED:20250603T202451Z
UID:10000940-1749056400-1749063600@www.esterlibrary.org
SUMMARY:Open Hours
DESCRIPTION:
URL:https://www.esterlibrary.org/event/open-hours-20/2025-06-04/
END:VEVENT
BEGIN:VEVENT
DTSTART;TZID=America/Anchorage:20250607T130000
DTEND;TZID=America/Anchorage:20250607T160000
DTSTAMP:20260425T061839
CREATED:20250422T013406Z
LAST-MODIFIED:20250422T013406Z
UID:10000788-1749301200-1749312000@www.esterlibrary.org
SUMMARY:Open Hours
DESCRIPTION:
URL:https://www.esterlibrary.org/event/open-hours-21/2025-06-07/
END:VEVENT
BEGIN:VEVENT
DTSTART;TZID=America/Anchorage:20250607T150000
DTEND;TZID=America/Anchorage:20250607T163000
DTSTAMP:20260425T061839
CREATED:20250422T014336Z
LAST-MODIFIED:20250422T014336Z
UID:10000939-1749308400-1749313800@www.esterlibrary.org
SUMMARY:Adult Book Club
DESCRIPTION:Title to be announced!
URL:https://www.esterlibrary.org/event/adult-book-club-2/
CATEGORIES:Events
END:VEVENT
BEGIN:VEVENT
DTSTART;TZID=America/Anchorage:20250608T160000
DTEND;TZID=America/Anchorage:20250608T180000
DTSTAMP:20260425T061839
CREATED:20250422T012127Z
LAST-MODIFIED:20250422T012127Z
UID:10000598-1749398400-1749405600@www.esterlibrary.org
SUMMARY:Writing Circle/Open hours
DESCRIPTION:
URL:https://www.esterlibrary.org/event/writing-circle-open-hours/2025-06-08/
LOCATION:Clausen Cabin\, 3629 Main Street\, Ester\, 99725
CATEGORIES:Events
END:VEVENT
BEGIN:VEVENT
DTSTART;TZID=America/Anchorage:20250610T150000
DTEND;TZID=America/Anchorage:20250610T190000
DTSTAMP:20260425T061839
CREATED:20250422T013253Z
LAST-MODIFIED:20250422T013253Z
UID:10000724-1749567600-1749582000@www.esterlibrary.org
SUMMARY:Knit Night/Open Hours
DESCRIPTION:
URL:https://www.esterlibrary.org/event/knit-night-open-hours/2025-06-10/
CATEGORIES:Events
END:VEVENT
END:VCALENDAR