BEGIN:VCALENDAR
VERSION:2.0
PRODID:-//Ester Village Library - ECPv6.15.20//NONSGML v1.0//EN
CALSCALE:GREGORIAN
METHOD:PUBLISH
X-WR-CALNAME:Ester Village Library
X-ORIGINAL-URL:https://www.esterlibrary.org
X-WR-CALDESC:Events for Ester Village Library
REFRESH-INTERVAL;VALUE=DURATION:PT1H
X-Robots-Tag:noindex
X-PUBLISHED-TTL:PT1H
BEGIN:VTIMEZONE
TZID:America/Anchorage
BEGIN:DAYLIGHT
TZOFFSETFROM:-0900
TZOFFSETTO:-0800
TZNAME:AKDT
DTSTART:20140309T110000
END:DAYLIGHT
BEGIN:STANDARD
TZOFFSETFROM:-0800
TZOFFSETTO:-0900
TZNAME:AKST
DTSTART:20141102T100000
END:STANDARD
BEGIN:DAYLIGHT
TZOFFSETFROM:-0900
TZOFFSETTO:-0800
TZNAME:AKDT
DTSTART:20150308T110000
END:DAYLIGHT
BEGIN:STANDARD
TZOFFSETFROM:-0800
TZOFFSETTO:-0900
TZNAME:AKST
DTSTART:20151101T100000
END:STANDARD
BEGIN:DAYLIGHT
TZOFFSETFROM:-0900
TZOFFSETTO:-0800
TZNAME:AKDT
DTSTART:20160313T110000
END:DAYLIGHT
BEGIN:STANDARD
TZOFFSETFROM:-0800
TZOFFSETTO:-0900
TZNAME:AKST
DTSTART:20161106T100000
END:STANDARD
BEGIN:DAYLIGHT
TZOFFSETFROM:-0900
TZOFFSETTO:-0800
TZNAME:AKDT
DTSTART:20170312T110000
END:DAYLIGHT
BEGIN:STANDARD
TZOFFSETFROM:-0800
TZOFFSETTO:-0900
TZNAME:AKST
DTSTART:20171105T100000
END:STANDARD
END:VTIMEZONE
BEGIN:VEVENT
DTSTART;TZID=America/Anchorage:20160106T180000
DTEND;TZID=America/Anchorage:20160106T180000
DTSTAMP:20260425T194845
CREATED:20151231T022253Z
LAST-MODIFIED:20160103T220422Z
UID:10000044-1452103200-1452103200@www.esterlibrary.org
SUMMARY:Grants Committee meeting 1-6-2016
DESCRIPTION:Wednesday\, January 6 at 6 pm \n(agenda to be posted soon; among items to be discussed are 12-15 proposal for phased construction\, report to FNSB regarding current construction status and request for extension on grant)
URL:https://www.esterlibrary.org/event/grants-committee-meeting-1-6-2016/
LOCATION:Clausen Cabin\, 3629 Main Street\, Ester\, 99725
CATEGORIES:Announcements,Events,Grants
END:VEVENT
BEGIN:VEVENT
DTSTART;TZID=America/Anchorage:20160102T100000
DTEND;TZID=America/Anchorage:20160102T130000
DTSTAMP:20260425T194845
CREATED:20151228T005851Z
LAST-MODIFIED:20151228T005851Z
UID:10000059-1451728800-1451739600@www.esterlibrary.org
SUMMARY:Finance Committee meeting & work party
DESCRIPTION:
URL:https://www.esterlibrary.org/event/finance-committee-meeting-work-party-2/
CATEGORIES:Announcements,Events
END:VEVENT
BEGIN:VEVENT
DTSTART;TZID=America/Anchorage:20160101T173000
DTEND;TZID=America/Anchorage:20160101T193000
DTSTAMP:20260425T194845
CREATED:20151231T040319Z
LAST-MODIFIED:20151231T040319Z
UID:10000048-1451669400-1451676600@www.esterlibrary.org
SUMMARY:First Friday Open House at the JTEL
DESCRIPTION:Friday\, January 1\, 2016\, 5:30 to 7:30 pm
URL:https://www.esterlibrary.org/event/first-friday-open-house-at-the-jtel/
CATEGORIES:Events
END:VEVENT
BEGIN:VEVENT
DTSTART;TZID=America/Anchorage:20151227T100000
DTEND;TZID=America/Anchorage:20151227T100000
DTSTAMP:20260425T194845
CREATED:20151226T030310Z
LAST-MODIFIED:20151226T030310Z
UID:10000058-1451210400-1451210400@www.esterlibrary.org
SUMMARY:Finance Committee meeting & work party
DESCRIPTION:
URL:https://www.esterlibrary.org/event/finance-committee-meeting-work-party/
CATEGORIES:Events
END:VEVENT
BEGIN:VEVENT
DTSTART;TZID=America/Anchorage:20151222T183000
DTEND;TZID=America/Anchorage:20151222T203000
DTSTAMP:20260425T194845
CREATED:20151220T153550Z
LAST-MODIFIED:20151220T153550Z
UID:10000056-1450809000-1450816200@www.esterlibrary.org
SUMMARY:Finance Committee
DESCRIPTION:Continue work of Mindy and Susan toward making the deadline for the Internal Revenue Service 990 report. \n 
URL:https://www.esterlibrary.org/event/finance-committee-2/
END:VEVENT
BEGIN:VEVENT
DTSTART;TZID=America/Anchorage:20151220T115500
DTEND;TZID=America/Anchorage:20151220T140000
DTSTAMP:20260425T194845
CREATED:20151216T225840Z
LAST-MODIFIED:20151216T225840Z
UID:10000064-1450612500-1450620000@www.esterlibrary.org
SUMMARY:Solstice Shelving
DESCRIPTION:A little Solstice cheer and organizing at the library at Frank’s and then over to the cabin for a little more.
URL:https://www.esterlibrary.org/event/solstice-shelving/
CATEGORIES:Announcements,Events
END:VEVENT
BEGIN:VEVENT
DTSTART;TZID=America/Anchorage:20151219T093000
DTEND;TZID=America/Anchorage:20151219T120000
DTSTAMP:20260425T194845
CREATED:20151219T060957Z
LAST-MODIFIED:20151219T061202Z
UID:10000054-1450517400-1450526400@www.esterlibrary.org
SUMMARY:Saturday mornings
DESCRIPTION:I’ll be @ Clausen as usual\, from about 0930.  Come by and chip in\, if it suits.
URL:https://www.esterlibrary.org/event/saturday-mornings/
CATEGORIES:Announcements,Events
END:VEVENT
BEGIN:VEVENT
DTSTART;TZID=America/Anchorage:20151215T183000
DTEND;TZID=America/Anchorage:20151215T183000
DTSTAMP:20260425T194845
CREATED:20151118T085835Z
LAST-MODIFIED:20151118T090727Z
UID:10000067-1450204200-1450204200@www.esterlibrary.org
SUMMARY:BOD
DESCRIPTION:
URL:https://www.esterlibrary.org/event/board-of-directors/
END:VEVENT
BEGIN:VEVENT
DTSTART;TZID=America/Anchorage:20151213T170000
DTEND;TZID=America/Anchorage:20151213T170000
DTSTAMP:20260425T194845
CREATED:20151124T232335Z
LAST-MODIFIED:20151124T232335Z
UID:10000061-1450026000-1450026000@www.esterlibrary.org
SUMMARY:Grants meeting
DESCRIPTION:Review of possible grant sources\, legality/how-to of construction loans and grants\, ledger amount on grants\, Finance Committee update\, estimate on construction work for spring\, etc.
URL:https://www.esterlibrary.org/event/grants-meeting/
LOCATION:Clausen Cabin\, 3629 Main Street\, Ester\, 99725
CATEGORIES:Announcements,Events,Grants
END:VEVENT
BEGIN:VEVENT
DTSTART;TZID=America/Anchorage:20151208T183000
DTEND;TZID=America/Anchorage:20151208T200000
DTSTAMP:20260425T194845
CREATED:20151206T185307Z
LAST-MODIFIED:20151206T185613Z
UID:10000063-1449599400-1449604800@www.esterlibrary.org
SUMMARY:Finance Meeting
DESCRIPTION:Agenda to be posted soon
URL:https://www.esterlibrary.org/event/finance-meeting/
END:VEVENT
BEGIN:VEVENT
DTSTART;TZID=America/Anchorage:20151206T113000
DTEND;TZID=America/Anchorage:20151206T163000
DTSTAMP:20260425T194845
CREATED:20151203T040828Z
LAST-MODIFIED:20151203T041207Z
UID:10000062-1449401400-1449419400@www.esterlibrary.org
SUMMARY:Shelving Work Party!
DESCRIPTION:Book Boxing Day #2! Help us finish clearing the aisles by shelving the catalogued books in nonfiction\, Alaska\, poetry\, drama\, and literary criticism. We’ll be hauling book donations away to the Clausen Cabin across the street as we empty and shelve boxes of catalogued books. If we run into overflow of catalogued titles\, then we’ll box those up too\, ready to wait for bookshelves in the cabin or the new library.
URL:https://www.esterlibrary.org/event/shelving-work-party/
CATEGORIES:Announcements,Events
END:VEVENT
BEGIN:VEVENT
DTSTART;TZID=America/Anchorage:20151201T183000
DTEND;TZID=America/Anchorage:20151201T183000
DTSTAMP:20260425T194845
CREATED:20151118T085522Z
LAST-MODIFIED:20151118T090534Z
UID:10000066-1448994600-1448994600@www.esterlibrary.org
SUMMARY:Finance
DESCRIPTION:
URL:https://www.esterlibrary.org/event/finance-committee/
LOCATION:Clausen Cabin\, 3629 Main Street\, Ester\, 99725
END:VEVENT
BEGIN:VEVENT
DTSTART;TZID=America/Anchorage:20151122T160000
DTEND;TZID=America/Anchorage:20151122T160000
DTSTAMP:20260425T194845
CREATED:20151120T233431Z
LAST-MODIFIED:20151120T235508Z
UID:10000068-1448208000-1448208000@www.esterlibrary.org
SUMMARY:Grants
DESCRIPTION:Initial Grants Committee meeting to review current grants and appropriations.
URL:https://www.esterlibrary.org/event/grants/
LOCATION:Clausen Cabin\, 3629 Main Street\, Ester\, 99725
END:VEVENT
END:VCALENDAR