BEGIN:VCALENDAR
VERSION:2.0
PRODID:-//Ester Village Library - ECPv6.15.20//NONSGML v1.0//EN
CALSCALE:GREGORIAN
METHOD:PUBLISH
X-WR-CALNAME:Ester Village Library
X-ORIGINAL-URL:https://www.esterlibrary.org
X-WR-CALDESC:Events for Ester Village Library
REFRESH-INTERVAL;VALUE=DURATION:PT1H
X-Robots-Tag:noindex
X-PUBLISHED-TTL:PT1H
BEGIN:VTIMEZONE
TZID:America/Anchorage
BEGIN:DAYLIGHT
TZOFFSETFROM:-0900
TZOFFSETTO:-0800
TZNAME:AKDT
DTSTART:20250309T110000
END:DAYLIGHT
BEGIN:STANDARD
TZOFFSETFROM:-0800
TZOFFSETTO:-0900
TZNAME:AKST
DTSTART:20251102T100000
END:STANDARD
BEGIN:DAYLIGHT
TZOFFSETFROM:-0900
TZOFFSETTO:-0800
TZNAME:AKDT
DTSTART:20260308T110000
END:DAYLIGHT
BEGIN:STANDARD
TZOFFSETFROM:-0800
TZOFFSETTO:-0900
TZNAME:AKST
DTSTART:20261101T100000
END:STANDARD
BEGIN:DAYLIGHT
TZOFFSETFROM:-0900
TZOFFSETTO:-0800
TZNAME:AKDT
DTSTART:20270314T110000
END:DAYLIGHT
BEGIN:STANDARD
TZOFFSETFROM:-0800
TZOFFSETTO:-0900
TZNAME:AKST
DTSTART:20271107T100000
END:STANDARD
END:VTIMEZONE
BEGIN:VEVENT
DTSTART;TZID=America/Anchorage:20260516T130000
DTEND;TZID=America/Anchorage:20260516T160000
DTSTAMP:20260423T113612
CREATED:20250422T013406Z
LAST-MODIFIED:20250422T013406Z
UID:10000837-1778936400-1778947200@www.esterlibrary.org
SUMMARY:Open Hours
DESCRIPTION:
URL:https://www.esterlibrary.org/event/open-hours-21/2026-05-16/
END:VEVENT
BEGIN:VEVENT
DTSTART;TZID=America/Anchorage:20260513T170000
DTEND;TZID=America/Anchorage:20260513T190000
DTSTAMP:20260423T113612
CREATED:20250603T202451Z
LAST-MODIFIED:20250603T202451Z
UID:10000989-1778691600-1778698800@www.esterlibrary.org
SUMMARY:Open Hours
DESCRIPTION:
URL:https://www.esterlibrary.org/event/open-hours-20/2026-05-13/
END:VEVENT
BEGIN:VEVENT
DTSTART;TZID=America/Anchorage:20260512T160000
DTEND;TZID=America/Anchorage:20260512T190000
DTSTAMP:20260423T113612
CREATED:20250803T060121Z
LAST-MODIFIED:20250803T060122Z
UID:10001049-1778601600-1778612400@www.esterlibrary.org
SUMMARY:Knit Night/Open Hours
DESCRIPTION:
URL:https://www.esterlibrary.org/event/knit-night-open-hours-2/2026-05-12/
CATEGORIES:Events
END:VEVENT
BEGIN:VEVENT
DTSTART;TZID=America/Anchorage:20260511T150000
DTEND;TZID=America/Anchorage:20260511T180000
DTSTAMP:20260423T113612
CREATED:20250902T200222Z
LAST-MODIFIED:20250902T200222Z
UID:10001104-1778511600-1778522400@www.esterlibrary.org
SUMMARY:Kid's art and crafts
DESCRIPTION:
URL:https://www.esterlibrary.org/event/kids-art-and-crafts/2026-05-11/
CATEGORIES:Events
END:VEVENT
BEGIN:VEVENT
DTSTART;TZID=America/Anchorage:20260510T160000
DTEND;TZID=America/Anchorage:20260510T180000
DTSTAMP:20260423T113612
CREATED:20250902T200832Z
LAST-MODIFIED:20250902T200833Z
UID:10000646-1778428800-1778436000@www.esterlibrary.org
SUMMARY:Writing Circle/Open hours
DESCRIPTION:
URL:https://www.esterlibrary.org/event/writing-circle-open-hours-2/2026-05-10/
LOCATION:Clausen Cabin\, 3629 Main Street\, Ester\, 99725
CATEGORIES:Events
END:VEVENT
BEGIN:VEVENT
DTSTART;TZID=America/Anchorage:20260509T130000
DTEND;TZID=America/Anchorage:20260509T160000
DTSTAMP:20260423T113612
CREATED:20250422T013406Z
LAST-MODIFIED:20250422T013406Z
UID:10000836-1778331600-1778342400@www.esterlibrary.org
SUMMARY:Open Hours
DESCRIPTION:
URL:https://www.esterlibrary.org/event/open-hours-21/2026-05-09/
END:VEVENT
BEGIN:VEVENT
DTSTART;TZID=America/Anchorage:20260506T170000
DTEND;TZID=America/Anchorage:20260506T190000
DTSTAMP:20260423T113612
CREATED:20250603T202451Z
LAST-MODIFIED:20250603T202451Z
UID:10000988-1778086800-1778094000@www.esterlibrary.org
SUMMARY:Open Hours
DESCRIPTION:
URL:https://www.esterlibrary.org/event/open-hours-20/2026-05-06/
END:VEVENT
BEGIN:VEVENT
DTSTART;TZID=America/Anchorage:20260505T160000
DTEND;TZID=America/Anchorage:20260505T190000
DTSTAMP:20260423T113612
CREATED:20250803T060121Z
LAST-MODIFIED:20250803T060122Z
UID:10001048-1777996800-1778007600@www.esterlibrary.org
SUMMARY:Knit Night/Open Hours
DESCRIPTION:
URL:https://www.esterlibrary.org/event/knit-night-open-hours-2/2026-05-05/
CATEGORIES:Events
END:VEVENT
BEGIN:VEVENT
DTSTART;TZID=America/Anchorage:20260504T150000
DTEND;TZID=America/Anchorage:20260504T180000
DTSTAMP:20260423T113612
CREATED:20250902T200222Z
LAST-MODIFIED:20250902T200222Z
UID:10001103-1777906800-1777917600@www.esterlibrary.org
SUMMARY:Kid's art and crafts
DESCRIPTION:
URL:https://www.esterlibrary.org/event/kids-art-and-crafts/2026-05-04/
CATEGORIES:Events
END:VEVENT
BEGIN:VEVENT
DTSTART;TZID=America/Anchorage:20260503T160000
DTEND;TZID=America/Anchorage:20260503T180000
DTSTAMP:20260423T113612
CREATED:20250902T200832Z
LAST-MODIFIED:20250902T200833Z
UID:10000645-1777824000-1777831200@www.esterlibrary.org
SUMMARY:Writing Circle/Open hours
DESCRIPTION:
URL:https://www.esterlibrary.org/event/writing-circle-open-hours-2/2026-05-03/
LOCATION:Clausen Cabin\, 3629 Main Street\, Ester\, 99725
CATEGORIES:Events
END:VEVENT
BEGIN:VEVENT
DTSTART;TZID=America/Anchorage:20260502T153000
DTEND;TZID=America/Anchorage:20260502T170000
DTSTAMP:20260423T113612
CREATED:20260216T072159Z
LAST-MODIFIED:20260403T195024Z
UID:10001160-1777735800-1777741200@www.esterlibrary.org
SUMMARY:Adult Book Club
DESCRIPTION:“The World According to Color” by James Fox \nFrom Amazon: \nWe have an extraordinary connection to color―we give it meanings\, associations\, and properties that last millennia and span cultures\, continents\, and languages. In The World According to Color\, James Fox takes seven elemental colors―black\, red\, yellow\, blue\, white\, purple\, and green―and uncovers behind each a root idea\, based on visual resemblances and common symbolism throughout history. \nThrough a series of stories and vignettes\, the book then traces these meanings to show how they morphed and multiplied and\, ultimately\, how they reveal a great deal about the societies that produced them: reflecting and shaping their hopes\, fears\, prejudices\, and preoccupations. \nFox also examines the science of how our eyes and brains interpret light and color\, and shows how this is inherently linked with the meanings we give to hue. And using his background as an art historian\, he explores many of the milestones in the history of art―from Bronze Age gold-work to Turner\, Titian to Yves Klein―in a fresh way. Fox also weaves in literature\, philosophy\, cinema\, archaeology\, and art―moving from Monet to Marco Polo\, early Japanese ink artists to Shakespeare and Goethe to James Bond. \nBy creating a new history of color\, Fox reveals a new story about humans and our place in the universe: second only to language\, color is the greatest carrier of cultural meaning in our world.
URL:https://www.esterlibrary.org/event/adult-book-club-9/
LOCATION:Clausen Cabin\, 3629 Main Street\, Ester\, 99725
CATEGORIES:Announcements,Events
END:VEVENT
BEGIN:VEVENT
DTSTART;TZID=America/Anchorage:20260502T130000
DTEND;TZID=America/Anchorage:20260502T160000
DTSTAMP:20260423T113612
CREATED:20250422T013406Z
LAST-MODIFIED:20250422T013406Z
UID:10000835-1777726800-1777737600@www.esterlibrary.org
SUMMARY:Open Hours
DESCRIPTION:
URL:https://www.esterlibrary.org/event/open-hours-21/2026-05-02/
END:VEVENT
BEGIN:VEVENT
DTSTART;TZID=America/Anchorage:20260429T170000
DTEND;TZID=America/Anchorage:20260429T190000
DTSTAMP:20260423T113612
CREATED:20250603T202451Z
LAST-MODIFIED:20250603T202451Z
UID:10000987-1777482000-1777489200@www.esterlibrary.org
SUMMARY:Open Hours
DESCRIPTION:
URL:https://www.esterlibrary.org/event/open-hours-20/2026-04-29/
END:VEVENT
BEGIN:VEVENT
DTSTART;TZID=America/Anchorage:20260428T160000
DTEND;TZID=America/Anchorage:20260428T190000
DTSTAMP:20260423T113612
CREATED:20250803T060121Z
LAST-MODIFIED:20250803T060122Z
UID:10001047-1777392000-1777402800@www.esterlibrary.org
SUMMARY:Knit Night/Open Hours
DESCRIPTION:
URL:https://www.esterlibrary.org/event/knit-night-open-hours-2/2026-04-28/
CATEGORIES:Events
END:VEVENT
BEGIN:VEVENT
DTSTART;TZID=America/Anchorage:20260427T150000
DTEND;TZID=America/Anchorage:20260427T180000
DTSTAMP:20260423T113612
CREATED:20250902T200222Z
LAST-MODIFIED:20250902T200222Z
UID:10001102-1777302000-1777312800@www.esterlibrary.org
SUMMARY:Kid's art and crafts
DESCRIPTION:
URL:https://www.esterlibrary.org/event/kids-art-and-crafts/2026-04-27/
CATEGORIES:Events
END:VEVENT
BEGIN:VEVENT
DTSTART;TZID=America/Anchorage:20260426T160000
DTEND;TZID=America/Anchorage:20260426T180000
DTSTAMP:20260423T113612
CREATED:20250902T200832Z
LAST-MODIFIED:20250902T200833Z
UID:10000644-1777219200-1777226400@www.esterlibrary.org
SUMMARY:Writing Circle/Open hours
DESCRIPTION:
URL:https://www.esterlibrary.org/event/writing-circle-open-hours-2/2026-04-26/
LOCATION:Clausen Cabin\, 3629 Main Street\, Ester\, 99725
CATEGORIES:Events
END:VEVENT
BEGIN:VEVENT
DTSTART;TZID=America/Anchorage:20260425T130000
DTEND;TZID=America/Anchorage:20260425T160000
DTSTAMP:20260423T113612
CREATED:20250422T013406Z
LAST-MODIFIED:20250422T013406Z
UID:10000834-1777122000-1777132800@www.esterlibrary.org
SUMMARY:Open Hours
DESCRIPTION:
URL:https://www.esterlibrary.org/event/open-hours-21/2026-04-25/
END:VEVENT
BEGIN:VEVENT
DTSTART;TZID=America/Anchorage:20260422T170000
DTEND;TZID=America/Anchorage:20260422T190000
DTSTAMP:20260423T113612
CREATED:20250603T202451Z
LAST-MODIFIED:20250603T202451Z
UID:10000986-1776877200-1776884400@www.esterlibrary.org
SUMMARY:Open Hours
DESCRIPTION:
URL:https://www.esterlibrary.org/event/open-hours-20/2026-04-22/
END:VEVENT
BEGIN:VEVENT
DTSTART;TZID=America/Anchorage:20260421T160000
DTEND;TZID=America/Anchorage:20260421T190000
DTSTAMP:20260423T113612
CREATED:20250803T060121Z
LAST-MODIFIED:20250803T060122Z
UID:10001046-1776787200-1776798000@www.esterlibrary.org
SUMMARY:Knit Night/Open Hours
DESCRIPTION:
URL:https://www.esterlibrary.org/event/knit-night-open-hours-2/2026-04-21/
CATEGORIES:Events
END:VEVENT
BEGIN:VEVENT
DTSTART;TZID=America/Anchorage:20260420T150000
DTEND;TZID=America/Anchorage:20260420T180000
DTSTAMP:20260423T113612
CREATED:20250902T200222Z
LAST-MODIFIED:20250902T200222Z
UID:10001101-1776697200-1776708000@www.esterlibrary.org
SUMMARY:Kid's art and crafts
DESCRIPTION:
URL:https://www.esterlibrary.org/event/kids-art-and-crafts/2026-04-20/
CATEGORIES:Events
END:VEVENT
BEGIN:VEVENT
DTSTART;TZID=America/Anchorage:20260419T160000
DTEND;TZID=America/Anchorage:20260419T180000
DTSTAMP:20260423T113612
CREATED:20250902T200832Z
LAST-MODIFIED:20250902T200833Z
UID:10000643-1776614400-1776621600@www.esterlibrary.org
SUMMARY:Writing Circle/Open hours
DESCRIPTION:
URL:https://www.esterlibrary.org/event/writing-circle-open-hours-2/2026-04-19/
LOCATION:Clausen Cabin\, 3629 Main Street\, Ester\, 99725
CATEGORIES:Events
END:VEVENT
BEGIN:VEVENT
DTSTART;TZID=America/Anchorage:20260418T190000
DTEND;TZID=America/Anchorage:20260418T220000
DTSTAMP:20260423T113612
CREATED:20260216T072630Z
LAST-MODIFIED:20260401T224553Z
UID:10001162-1776538800-1776549600@www.esterlibrary.org
SUMMARY:Spring Fundraiser: Once Upon a Spring
DESCRIPTION:So far\, we’ve got round trip tickets for the following tours: Northern Alaska Tour Company’s Fly and Drive to the Arctic Circle\, Stan Stephens Columbia Glacier cruise\, and Alaska Railroad tickets from Anchorage to Seward (all tours are for 2 people)\, the Pump House Restaurant\, and the Fairbanks Children’s Museum. \nThese are just a few of the items up for the silent auction. We have lots more – tools\, kitchen implements\, art and prints and swag from local breweries and restaurants. \nCome on out\, dressed as your favorite literary character (or not – costumes not required)! We’ll have a photo booth and a DJ from 7-10 Saturday\, April 18\, 2026! \n 
URL:https://www.esterlibrary.org/event/spring-fundraiser-2/
LOCATION:Golden Eagle Saloon\, 3530 Main Steet\, Fairbanks\, 99709\, United States
CATEGORIES:Events,Fundraising
END:VEVENT
BEGIN:VEVENT
DTSTART;TZID=America/Anchorage:20260418T130000
DTEND;TZID=America/Anchorage:20260418T160000
DTSTAMP:20260423T113612
CREATED:20250422T013406Z
LAST-MODIFIED:20250422T013406Z
UID:10000833-1776517200-1776528000@www.esterlibrary.org
SUMMARY:Open Hours
DESCRIPTION:
URL:https://www.esterlibrary.org/event/open-hours-21/2026-04-18/
END:VEVENT
BEGIN:VEVENT
DTSTART;TZID=America/Anchorage:20260415T170000
DTEND;TZID=America/Anchorage:20260415T190000
DTSTAMP:20260423T113612
CREATED:20250603T202451Z
LAST-MODIFIED:20250603T202451Z
UID:10000985-1776272400-1776279600@www.esterlibrary.org
SUMMARY:Open Hours
DESCRIPTION:
URL:https://www.esterlibrary.org/event/open-hours-20/2026-04-15/
END:VEVENT
BEGIN:VEVENT
DTSTART;TZID=America/Anchorage:20260414T160000
DTEND;TZID=America/Anchorage:20260414T190000
DTSTAMP:20260423T113612
CREATED:20250803T060121Z
LAST-MODIFIED:20250803T060122Z
UID:10001045-1776182400-1776193200@www.esterlibrary.org
SUMMARY:Knit Night/Open Hours
DESCRIPTION:
URL:https://www.esterlibrary.org/event/knit-night-open-hours-2/2026-04-14/
CATEGORIES:Events
END:VEVENT
BEGIN:VEVENT
DTSTART;TZID=America/Anchorage:20260413T150000
DTEND;TZID=America/Anchorage:20260413T180000
DTSTAMP:20260423T113612
CREATED:20250902T200222Z
LAST-MODIFIED:20250902T200222Z
UID:10001100-1776092400-1776103200@www.esterlibrary.org
SUMMARY:Kid's art and crafts
DESCRIPTION:
URL:https://www.esterlibrary.org/event/kids-art-and-crafts/2026-04-13/
CATEGORIES:Events
END:VEVENT
BEGIN:VEVENT
DTSTART;TZID=America/Anchorage:20260412T160000
DTEND;TZID=America/Anchorage:20260412T180000
DTSTAMP:20260423T113612
CREATED:20250902T200832Z
LAST-MODIFIED:20250902T200833Z
UID:10000642-1776009600-1776016800@www.esterlibrary.org
SUMMARY:Writing Circle/Open hours
DESCRIPTION:
URL:https://www.esterlibrary.org/event/writing-circle-open-hours-2/2026-04-12/
LOCATION:Clausen Cabin\, 3629 Main Street\, Ester\, 99725
CATEGORIES:Events
END:VEVENT
BEGIN:VEVENT
DTSTART;TZID=America/Anchorage:20260411T130000
DTEND;TZID=America/Anchorage:20260411T160000
DTSTAMP:20260423T113612
CREATED:20250422T013406Z
LAST-MODIFIED:20250422T013406Z
UID:10000832-1775912400-1775923200@www.esterlibrary.org
SUMMARY:Open Hours
DESCRIPTION:
URL:https://www.esterlibrary.org/event/open-hours-21/2026-04-11/
END:VEVENT
BEGIN:VEVENT
DTSTART;TZID=America/Anchorage:20260408T170000
DTEND;TZID=America/Anchorage:20260408T190000
DTSTAMP:20260423T113612
CREATED:20250603T202451Z
LAST-MODIFIED:20250603T202451Z
UID:10000984-1775667600-1775674800@www.esterlibrary.org
SUMMARY:Open Hours
DESCRIPTION:
URL:https://www.esterlibrary.org/event/open-hours-20/2026-04-08/
END:VEVENT
BEGIN:VEVENT
DTSTART;TZID=America/Anchorage:20260407T160000
DTEND;TZID=America/Anchorage:20260407T190000
DTSTAMP:20260423T113612
CREATED:20250803T060121Z
LAST-MODIFIED:20250803T060122Z
UID:10001044-1775577600-1775588400@www.esterlibrary.org
SUMMARY:Knit Night/Open Hours
DESCRIPTION:
URL:https://www.esterlibrary.org/event/knit-night-open-hours-2/2026-04-07/
CATEGORIES:Events
END:VEVENT
END:VCALENDAR