BEGIN:VCALENDAR
VERSION:2.0
PRODID:-//Ester Village Library - ECPv6.15.20//NONSGML v1.0//EN
CALSCALE:GREGORIAN
METHOD:PUBLISH
X-WR-CALNAME:Ester Village Library
X-ORIGINAL-URL:https://www.esterlibrary.org
X-WR-CALDESC:Events for Ester Village Library
REFRESH-INTERVAL;VALUE=DURATION:PT1H
X-Robots-Tag:noindex
X-PUBLISHED-TTL:PT1H
BEGIN:VTIMEZONE
TZID:America/Anchorage
BEGIN:DAYLIGHT
TZOFFSETFROM:-0900
TZOFFSETTO:-0800
TZNAME:AKDT
DTSTART:20240310T110000
END:DAYLIGHT
BEGIN:STANDARD
TZOFFSETFROM:-0800
TZOFFSETTO:-0900
TZNAME:AKST
DTSTART:20241103T100000
END:STANDARD
BEGIN:DAYLIGHT
TZOFFSETFROM:-0900
TZOFFSETTO:-0800
TZNAME:AKDT
DTSTART:20250309T110000
END:DAYLIGHT
BEGIN:STANDARD
TZOFFSETFROM:-0800
TZOFFSETTO:-0900
TZNAME:AKST
DTSTART:20251102T100000
END:STANDARD
BEGIN:DAYLIGHT
TZOFFSETFROM:-0900
TZOFFSETTO:-0800
TZNAME:AKDT
DTSTART:20260308T110000
END:DAYLIGHT
BEGIN:STANDARD
TZOFFSETFROM:-0800
TZOFFSETTO:-0900
TZNAME:AKST
DTSTART:20261101T100000
END:STANDARD
BEGIN:DAYLIGHT
TZOFFSETFROM:-0900
TZOFFSETTO:-0800
TZNAME:AKDT
DTSTART:20270314T110000
END:DAYLIGHT
BEGIN:STANDARD
TZOFFSETFROM:-0800
TZOFFSETTO:-0900
TZNAME:AKST
DTSTART:20271107T100000
END:STANDARD
END:VTIMEZONE
BEGIN:VEVENT
DTSTART;TZID=America/Anchorage:20260105T150000
DTEND;TZID=America/Anchorage:20260105T180000
DTSTAMP:20260423T142651
CREATED:20250902T200222Z
LAST-MODIFIED:20250902T200222Z
UID:10001086-1767625200-1767636000@www.esterlibrary.org
SUMMARY:Kid's art and crafts
DESCRIPTION:
URL:https://www.esterlibrary.org/event/kids-art-and-crafts/2026-01-05/
CATEGORIES:Events
END:VEVENT
BEGIN:VEVENT
DTSTART;TZID=America/Anchorage:20260104T160000
DTEND;TZID=America/Anchorage:20260104T180000
DTSTAMP:20260423T142651
CREATED:20250902T200832Z
LAST-MODIFIED:20250902T200833Z
UID:10000628-1767542400-1767549600@www.esterlibrary.org
SUMMARY:Writing Circle/Open hours
DESCRIPTION:
URL:https://www.esterlibrary.org/event/writing-circle-open-hours-2/2026-01-04/
LOCATION:Clausen Cabin\, 3629 Main Street\, Ester\, 99725
CATEGORIES:Events
END:VEVENT
BEGIN:VEVENT
DTSTART;TZID=America/Anchorage:20260103T150000
DTEND;TZID=America/Anchorage:20260103T163000
DTSTAMP:20260423T142651
CREATED:20251102T212003Z
LAST-MODIFIED:20251102T212003Z
UID:10001153-1767452400-1767457800@www.esterlibrary.org
SUMMARY:Adult Book Club
DESCRIPTION:Please join us for a discussion of “The Kite Runner” by Khaled Hosseini. This is from Amazon: \nTaking us from Afghanistan in the final days of its monarchy to the present\, The Kite Runner is the unforgettable and beautifully told story of the friendship between two boys growing up in Kabul. Raised in the same household and sharing the same wet nurse\, Amir and Hassan grow up in different worlds: Amir is the son of a prominent and wealthy man\, while Hassan\, the son of Amir’s father’s servant\, is a Hazara – a shunned ethnic minority. Their intertwined lives\, and their fates\, reflect the eventual tragedy of the world around them. When Amir and his father flee the country for a new life in California\, Amir thinks that he has escaped his past. And yet he cannot leave the memory of Hassan behind him. \nThe Kite Runner is a novel about friendship and betrayal\, and about the price of loyalty. It is about the bonds between fathers and sons\, and the power of fathers over sons – their love\, their sacrifices\, and their lies. Written against a backdrop of history that has not been told in fiction before\, The Kite Runner describes the rich culture and beauty of a land in the process of being destroyed. But through the devastation\, Khaled Hosseini offers hope for redemption.
URL:https://www.esterlibrary.org/event/adult-book-club-7/
LOCATION:Clausen Cabin\, 3629 Main Street\, Ester\, 99725
CATEGORIES:Announcements,Events
END:VEVENT
BEGIN:VEVENT
DTSTART;TZID=America/Anchorage:20260103T130000
DTEND;TZID=America/Anchorage:20260103T160000
DTSTAMP:20260423T142651
CREATED:20250422T013406Z
LAST-MODIFIED:20250422T013406Z
UID:10000818-1767445200-1767456000@www.esterlibrary.org
SUMMARY:Open Hours
DESCRIPTION:
URL:https://www.esterlibrary.org/event/open-hours-21/2026-01-03/
END:VEVENT
BEGIN:VEVENT
DTSTART;TZID=America/Anchorage:20251231T170000
DTEND;TZID=America/Anchorage:20251231T190000
DTSTAMP:20260423T142651
CREATED:20250603T202451Z
LAST-MODIFIED:20250603T202451Z
UID:10000970-1767200400-1767207600@www.esterlibrary.org
SUMMARY:Open Hours
DESCRIPTION:
URL:https://www.esterlibrary.org/event/open-hours-20/2025-12-31/
END:VEVENT
BEGIN:VEVENT
DTSTART;TZID=America/Anchorage:20251230T160000
DTEND;TZID=America/Anchorage:20251230T190000
DTSTAMP:20260423T142651
CREATED:20250803T060121Z
LAST-MODIFIED:20250803T060122Z
UID:10001030-1767110400-1767121200@www.esterlibrary.org
SUMMARY:Knit Night/Open Hours
DESCRIPTION:
URL:https://www.esterlibrary.org/event/knit-night-open-hours-2/2025-12-30/
CATEGORIES:Events
END:VEVENT
BEGIN:VEVENT
DTSTART;TZID=America/Anchorage:20251229T150000
DTEND;TZID=America/Anchorage:20251229T180000
DTSTAMP:20260423T142651
CREATED:20250902T200222Z
LAST-MODIFIED:20250902T200222Z
UID:10001085-1767020400-1767031200@www.esterlibrary.org
SUMMARY:Kid's art and crafts
DESCRIPTION:
URL:https://www.esterlibrary.org/event/kids-art-and-crafts/2025-12-29/
CATEGORIES:Events
END:VEVENT
BEGIN:VEVENT
DTSTART;TZID=America/Anchorage:20251228T160000
DTEND;TZID=America/Anchorage:20251228T180000
DTSTAMP:20260423T142651
CREATED:20250902T200832Z
LAST-MODIFIED:20250902T200833Z
UID:10000627-1766937600-1766944800@www.esterlibrary.org
SUMMARY:Writing Circle/Open hours
DESCRIPTION:
URL:https://www.esterlibrary.org/event/writing-circle-open-hours-2/2025-12-28/
LOCATION:Clausen Cabin\, 3629 Main Street\, Ester\, 99725
CATEGORIES:Events
END:VEVENT
BEGIN:VEVENT
DTSTART;TZID=America/Anchorage:20251227T130000
DTEND;TZID=America/Anchorage:20251227T160000
DTSTAMP:20260423T142651
CREATED:20250422T013406Z
LAST-MODIFIED:20250422T013406Z
UID:10000817-1766840400-1766851200@www.esterlibrary.org
SUMMARY:Open Hours
DESCRIPTION:
URL:https://www.esterlibrary.org/event/open-hours-21/2025-12-27/
END:VEVENT
BEGIN:VEVENT
DTSTART;TZID=America/Anchorage:20251224T170000
DTEND;TZID=America/Anchorage:20251224T190000
DTSTAMP:20260423T142651
CREATED:20250603T202451Z
LAST-MODIFIED:20250603T202451Z
UID:10000969-1766595600-1766602800@www.esterlibrary.org
SUMMARY:Open Hours
DESCRIPTION:
URL:https://www.esterlibrary.org/event/open-hours-20/2025-12-24/
END:VEVENT
BEGIN:VEVENT
DTSTART;TZID=America/Anchorage:20251223T160000
DTEND;TZID=America/Anchorage:20251223T190000
DTSTAMP:20260423T142651
CREATED:20250803T060121Z
LAST-MODIFIED:20250803T060122Z
UID:10001029-1766505600-1766516400@www.esterlibrary.org
SUMMARY:Knit Night/Open Hours
DESCRIPTION:
URL:https://www.esterlibrary.org/event/knit-night-open-hours-2/2025-12-23/
CATEGORIES:Events
END:VEVENT
BEGIN:VEVENT
DTSTART;TZID=America/Anchorage:20251222T150000
DTEND;TZID=America/Anchorage:20251222T180000
DTSTAMP:20260423T142651
CREATED:20250902T200222Z
LAST-MODIFIED:20250902T200222Z
UID:10001084-1766415600-1766426400@www.esterlibrary.org
SUMMARY:Kid's art and crafts
DESCRIPTION:
URL:https://www.esterlibrary.org/event/kids-art-and-crafts/2025-12-22/
CATEGORIES:Events
END:VEVENT
BEGIN:VEVENT
DTSTART;TZID=America/Anchorage:20251221T160000
DTEND;TZID=America/Anchorage:20251221T180000
DTSTAMP:20260423T142651
CREATED:20250902T200832Z
LAST-MODIFIED:20250902T200833Z
UID:10000626-1766332800-1766340000@www.esterlibrary.org
SUMMARY:Writing Circle/Open hours
DESCRIPTION:
URL:https://www.esterlibrary.org/event/writing-circle-open-hours-2/2025-12-21/
LOCATION:Clausen Cabin\, 3629 Main Street\, Ester\, 99725
CATEGORIES:Events
END:VEVENT
BEGIN:VEVENT
DTSTART;TZID=America/Anchorage:20251220T130000
DTEND;TZID=America/Anchorage:20251220T160000
DTSTAMP:20260423T142651
CREATED:20250422T013406Z
LAST-MODIFIED:20250422T013406Z
UID:10000816-1766235600-1766246400@www.esterlibrary.org
SUMMARY:Open Hours
DESCRIPTION:
URL:https://www.esterlibrary.org/event/open-hours-21/2025-12-20/
END:VEVENT
BEGIN:VEVENT
DTSTART;TZID=America/Anchorage:20251217T170000
DTEND;TZID=America/Anchorage:20251217T190000
DTSTAMP:20260423T142651
CREATED:20250603T202451Z
LAST-MODIFIED:20250603T202451Z
UID:10000968-1765990800-1765998000@www.esterlibrary.org
SUMMARY:Open Hours
DESCRIPTION:
URL:https://www.esterlibrary.org/event/open-hours-20/2025-12-17/
END:VEVENT
BEGIN:VEVENT
DTSTART;TZID=America/Anchorage:20251216T160000
DTEND;TZID=America/Anchorage:20251216T190000
DTSTAMP:20260423T142651
CREATED:20250803T060121Z
LAST-MODIFIED:20250803T060122Z
UID:10001028-1765900800-1765911600@www.esterlibrary.org
SUMMARY:Knit Night/Open Hours
DESCRIPTION:
URL:https://www.esterlibrary.org/event/knit-night-open-hours-2/2025-12-16/
CATEGORIES:Events
END:VEVENT
BEGIN:VEVENT
DTSTART;TZID=America/Anchorage:20251215T150000
DTEND;TZID=America/Anchorage:20251215T180000
DTSTAMP:20260423T142651
CREATED:20250902T200222Z
LAST-MODIFIED:20250902T200222Z
UID:10001083-1765810800-1765821600@www.esterlibrary.org
SUMMARY:Kid's art and crafts
DESCRIPTION:
URL:https://www.esterlibrary.org/event/kids-art-and-crafts/2025-12-15/
CATEGORIES:Events
END:VEVENT
BEGIN:VEVENT
DTSTART;TZID=America/Anchorage:20251214T160000
DTEND;TZID=America/Anchorage:20251214T180000
DTSTAMP:20260423T142651
CREATED:20250902T200832Z
LAST-MODIFIED:20250902T200833Z
UID:10000625-1765728000-1765735200@www.esterlibrary.org
SUMMARY:Writing Circle/Open hours
DESCRIPTION:
URL:https://www.esterlibrary.org/event/writing-circle-open-hours-2/2025-12-14/
LOCATION:Clausen Cabin\, 3629 Main Street\, Ester\, 99725
CATEGORIES:Events
END:VEVENT
BEGIN:VEVENT
DTSTART;TZID=America/Anchorage:20251213T130000
DTEND;TZID=America/Anchorage:20251213T160000
DTSTAMP:20260423T142651
CREATED:20250422T013406Z
LAST-MODIFIED:20250422T013406Z
UID:10000815-1765630800-1765641600@www.esterlibrary.org
SUMMARY:Open Hours
DESCRIPTION:
URL:https://www.esterlibrary.org/event/open-hours-21/2025-12-13/
END:VEVENT
BEGIN:VEVENT
DTSTART;TZID=America/Anchorage:20251210T170000
DTEND;TZID=America/Anchorage:20251210T190000
DTSTAMP:20260423T142651
CREATED:20250603T202451Z
LAST-MODIFIED:20250603T202451Z
UID:10000967-1765386000-1765393200@www.esterlibrary.org
SUMMARY:Open Hours
DESCRIPTION:
URL:https://www.esterlibrary.org/event/open-hours-20/2025-12-10/
END:VEVENT
BEGIN:VEVENT
DTSTART;TZID=America/Anchorage:20251209T160000
DTEND;TZID=America/Anchorage:20251209T190000
DTSTAMP:20260423T142651
CREATED:20250803T060121Z
LAST-MODIFIED:20250803T060122Z
UID:10001027-1765296000-1765306800@www.esterlibrary.org
SUMMARY:Knit Night/Open Hours
DESCRIPTION:
URL:https://www.esterlibrary.org/event/knit-night-open-hours-2/2025-12-09/
CATEGORIES:Events
END:VEVENT
BEGIN:VEVENT
DTSTART;TZID=America/Anchorage:20251208T150000
DTEND;TZID=America/Anchorage:20251208T180000
DTSTAMP:20260423T142651
CREATED:20250902T200222Z
LAST-MODIFIED:20250902T200222Z
UID:10001082-1765206000-1765216800@www.esterlibrary.org
SUMMARY:Kid's art and crafts
DESCRIPTION:
URL:https://www.esterlibrary.org/event/kids-art-and-crafts/2025-12-08/
CATEGORIES:Events
END:VEVENT
BEGIN:VEVENT
DTSTART;TZID=America/Anchorage:20251207T160000
DTEND;TZID=America/Anchorage:20251207T180000
DTSTAMP:20260423T142651
CREATED:20250902T200832Z
LAST-MODIFIED:20250902T200833Z
UID:10000624-1765123200-1765130400@www.esterlibrary.org
SUMMARY:Writing Circle/Open hours
DESCRIPTION:
URL:https://www.esterlibrary.org/event/writing-circle-open-hours-2/2025-12-07/
LOCATION:Clausen Cabin\, 3629 Main Street\, Ester\, 99725
CATEGORIES:Events
END:VEVENT
BEGIN:VEVENT
DTSTART;TZID=America/Anchorage:20251206T150000
DTEND;TZID=America/Anchorage:20251206T163000
DTSTAMP:20260423T142651
CREATED:20251102T211730Z
LAST-MODIFIED:20251102T211730Z
UID:10001152-1765033200-1765038600@www.esterlibrary.org
SUMMARY:Adult Book Club
DESCRIPTION:Join us for a discussion of “Why We Sleep”\, by Matthew Walker. \nThis is from Amazon: \nThe first sleep book by a leading scientific expert – Professor Matthew Walker\, director of UC Berkeley’s Sleep and Neuroimaging Lab – reveals his groundbreaking exploration of sleep\, explaining how we can harness its transformative power to change our lives for the better. \nSleep is one of the most important but least understood aspects of our life\, wellness\, and longevity. Until very recently\, science had no answer to the question of why we sleep\, or what good it served\, or why we suffer such devastating health consequences when we don’t sleep. Compared to the other basic drives in life – eating\, drinking\, and reproducing – the purpose of sleep remained elusive. \nBut an explosion of scientific discoveries in the last 20 years has shed new light on this fundamental aspect of our lives. Now\, preeminent neuroscientist and sleep expert Matthew Walker gives us a new understanding of the vital importance of sleep and dreaming. Among so many other things\, within the brain\, sleep enriches our ability to learn\, memorize\, and make logical decisions. It recalibrates our emotions\, restocks our immune system\, fine-tunes our metabolism\, and regulates our appetite. Dreaming mollifies painful memories and creates a virtual reality space in which the brain melds past and present knowledge to inspire creativity. \nWalker answers important questions about sleep: How do caffeine and alcohol affect sleep? What really happens during REM sleep? Why do our sleep patterns change across a lifetime? How do common sleep aids affect us\, and can they do long-term damage? Charting cutting-edge scientific breakthroughs and synthesizing decades of research and clinical practice\, Walker explains how we can harness sleep to improve learning\, mood\, and energy levels; regulate hormones; prevent cancer\, Alzheimer’s\, and diabetes; slow the effects of aging; increase longevity; enhance the education and lifespan of our children\, and boost the efficiency\, success\, and productivity of our businesses. Clear-eyed\, fascinating\, and immensely accessible\, Why We Sleep is the crucial account on sleep that will forever change listeners’ minds on the subject.
URL:https://www.esterlibrary.org/event/adult-book-club-6/
LOCATION:Clausen Cabin\, 3629 Main Street\, Ester\, 99725
CATEGORIES:Announcements,Events
END:VEVENT
BEGIN:VEVENT
DTSTART;TZID=America/Anchorage:20251206T130000
DTEND;TZID=America/Anchorage:20251206T160000
DTSTAMP:20260423T142651
CREATED:20250422T013406Z
LAST-MODIFIED:20250422T013406Z
UID:10000814-1765026000-1765036800@www.esterlibrary.org
SUMMARY:Open Hours
DESCRIPTION:
URL:https://www.esterlibrary.org/event/open-hours-21/2025-12-06/
END:VEVENT
BEGIN:VEVENT
DTSTART;TZID=America/Anchorage:20251203T170000
DTEND;TZID=America/Anchorage:20251203T190000
DTSTAMP:20260423T142651
CREATED:20250603T202451Z
LAST-MODIFIED:20250603T202451Z
UID:10000966-1764781200-1764788400@www.esterlibrary.org
SUMMARY:Open Hours
DESCRIPTION:
URL:https://www.esterlibrary.org/event/open-hours-20/2025-12-03/
END:VEVENT
BEGIN:VEVENT
DTSTART;TZID=America/Anchorage:20251202T160000
DTEND;TZID=America/Anchorage:20251202T190000
DTSTAMP:20260423T142651
CREATED:20250803T060121Z
LAST-MODIFIED:20250803T060122Z
UID:10001026-1764691200-1764702000@www.esterlibrary.org
SUMMARY:Knit Night/Open Hours
DESCRIPTION:
URL:https://www.esterlibrary.org/event/knit-night-open-hours-2/2025-12-02/
CATEGORIES:Events
END:VEVENT
BEGIN:VEVENT
DTSTART;TZID=America/Anchorage:20251201T150000
DTEND;TZID=America/Anchorage:20251201T180000
DTSTAMP:20260423T142651
CREATED:20250902T200222Z
LAST-MODIFIED:20250902T200222Z
UID:10001081-1764601200-1764612000@www.esterlibrary.org
SUMMARY:Kid's art and crafts
DESCRIPTION:
URL:https://www.esterlibrary.org/event/kids-art-and-crafts/2025-12-01/
CATEGORIES:Events
END:VEVENT
BEGIN:VEVENT
DTSTART;TZID=America/Anchorage:20251130T160000
DTEND;TZID=America/Anchorage:20251130T180000
DTSTAMP:20260423T142651
CREATED:20250902T200832Z
LAST-MODIFIED:20250902T200833Z
UID:10000623-1764518400-1764525600@www.esterlibrary.org
SUMMARY:Writing Circle/Open hours
DESCRIPTION:
URL:https://www.esterlibrary.org/event/writing-circle-open-hours-2/2025-11-30/
LOCATION:Clausen Cabin\, 3629 Main Street\, Ester\, 99725
CATEGORIES:Events
END:VEVENT
BEGIN:VEVENT
DTSTART;TZID=America/Anchorage:20251129T130000
DTEND;TZID=America/Anchorage:20251129T160000
DTSTAMP:20260423T142651
CREATED:20250422T013406Z
LAST-MODIFIED:20250422T013406Z
UID:10000813-1764421200-1764432000@www.esterlibrary.org
SUMMARY:Open Hours
DESCRIPTION:
URL:https://www.esterlibrary.org/event/open-hours-21/2025-11-29/
END:VEVENT
END:VCALENDAR