BEGIN:VCALENDAR
VERSION:2.0
PRODID:-//Ester Village Library - ECPv6.15.20//NONSGML v1.0//EN
CALSCALE:GREGORIAN
METHOD:PUBLISH
X-WR-CALNAME:Ester Village Library
X-ORIGINAL-URL:https://www.esterlibrary.org
X-WR-CALDESC:Events for Ester Village Library
REFRESH-INTERVAL;VALUE=DURATION:PT1H
X-Robots-Tag:noindex
X-PUBLISHED-TTL:PT1H
BEGIN:VTIMEZONE
TZID:America/Anchorage
BEGIN:DAYLIGHT
TZOFFSETFROM:-0900
TZOFFSETTO:-0800
TZNAME:AKDT
DTSTART:20240310T110000
END:DAYLIGHT
BEGIN:STANDARD
TZOFFSETFROM:-0800
TZOFFSETTO:-0900
TZNAME:AKST
DTSTART:20241103T100000
END:STANDARD
BEGIN:DAYLIGHT
TZOFFSETFROM:-0900
TZOFFSETTO:-0800
TZNAME:AKDT
DTSTART:20250309T110000
END:DAYLIGHT
BEGIN:STANDARD
TZOFFSETFROM:-0800
TZOFFSETTO:-0900
TZNAME:AKST
DTSTART:20251102T100000
END:STANDARD
BEGIN:DAYLIGHT
TZOFFSETFROM:-0900
TZOFFSETTO:-0800
TZNAME:AKDT
DTSTART:20260308T110000
END:DAYLIGHT
BEGIN:STANDARD
TZOFFSETFROM:-0800
TZOFFSETTO:-0900
TZNAME:AKST
DTSTART:20261101T100000
END:STANDARD
END:VTIMEZONE
BEGIN:VEVENT
DTSTART;TZID=America/Anchorage:20250315T130000
DTEND;TZID=America/Anchorage:20250315T160000
DTSTAMP:20260424T065613
CREATED:20240101T215150Z
LAST-MODIFIED:20250111T223957Z
UID:10000466-1742043600-1742054400@www.esterlibrary.org
SUMMARY:Open hours
DESCRIPTION:
URL:https://www.esterlibrary.org/event/open-hours-16-2025-02-22/2025-03-15/
END:VEVENT
BEGIN:VEVENT
DTSTART;TZID=America/Anchorage:20250313T160000
DTEND;TZID=America/Anchorage:20250313T190000
DTSTAMP:20260424T065613
CREATED:20240306T191828Z
LAST-MODIFIED:20250111T223828Z
UID:10000140-1741881600-1741892400@www.esterlibrary.org
SUMMARY:Open Hours
DESCRIPTION:
URL:https://www.esterlibrary.org/event/open-hours-geb-program-specialist-2025-02-27/2025-03-13/
END:VEVENT
BEGIN:VEVENT
DTSTART;TZID=America/Anchorage:20250311T150000
DTEND;TZID=America/Anchorage:20250311T190000
DTSTAMP:20260424T065613
CREATED:20241130T044318Z
LAST-MODIFIED:20250111T223118Z
UID:10000204-1741705200-1741719600@www.esterlibrary.org
SUMMARY:Knit Night and Open Hours
DESCRIPTION:
URL:https://www.esterlibrary.org/event/knit-night-and-open-hours/2025-03-11/
LOCATION:Clausen Cabin\, 3629 Main Street\, Ester\, 99725
END:VEVENT
BEGIN:VEVENT
DTSTART;TZID=America/Anchorage:20250310T160000
DTEND;TZID=America/Anchorage:20250310T180000
DTSTAMP:20260424T065613
CREATED:20240909T211921Z
LAST-MODIFIED:20250111T223037Z
UID:10000569-1741622400-1741629600@www.esterlibrary.org
SUMMARY:Art Workshop
DESCRIPTION:Young or old\, join us to bring out your creative side! Workshop participants will decide what to explore each week.
URL:https://www.esterlibrary.org/event/kids-art-programs-2024-11-18/2025-03-10/
CATEGORIES:Events
END:VEVENT
BEGIN:VEVENT
DTSTART;TZID=America/Anchorage:20250310T150000
DTEND;TZID=America/Anchorage:20250310T180000
DTSTAMP:20260424T065613
CREATED:20240101T214601Z
LAST-MODIFIED:20250111T222726Z
UID:10000370-1741618800-1741629600@www.esterlibrary.org
SUMMARY:Monday Open hours
DESCRIPTION:
URL:https://www.esterlibrary.org/event/open-hours-7/2025-03-10/
END:VEVENT
BEGIN:VEVENT
DTSTART;TZID=America/Anchorage:20250309T160000
DTEND;TZID=America/Anchorage:20250309T180000
DTSTAMP:20260424T065613
CREATED:20240813T040057Z
LAST-MODIFIED:20250111T222538Z
UID:10000520-1741536000-1741543200@www.esterlibrary.org
SUMMARY:Writing Circle (No browsing)
DESCRIPTION:Join us for some quiet time. The library is NOT open for browsing during this time.
URL:https://www.esterlibrary.org/event/writing-circle-3/2025-03-09/
LOCATION:Clausen Cabin\, 3629 Main Street\, Ester\, 99725
END:VEVENT
BEGIN:VEVENT
DTSTART;TZID=America/Anchorage:20250308T143000
DTEND;TZID=America/Anchorage:20250308T150000
DTSTAMP:20260424T065613
CREATED:20241130T042850Z
LAST-MODIFIED:20250111T224051Z
UID:10000182-1741444200-1741446000@www.esterlibrary.org
SUMMARY:Children's Book Club
DESCRIPTION:
URL:https://www.esterlibrary.org/event/childrens-book-club-2025-02-08/2025-03-08/
LOCATION:Clausen Cabin\, 3629 Main Street\, Ester\, 99725
CATEGORIES:Events
END:VEVENT
BEGIN:VEVENT
DTSTART;TZID=America/Anchorage:20250308T130000
DTEND;TZID=America/Anchorage:20250308T160000
DTSTAMP:20260424T065613
CREATED:20240101T215150Z
LAST-MODIFIED:20250111T223957Z
UID:10000465-1741438800-1741449600@www.esterlibrary.org
SUMMARY:Open hours
DESCRIPTION:
URL:https://www.esterlibrary.org/event/open-hours-16-2025-02-22/2025-03-08/
END:VEVENT
BEGIN:VEVENT
DTSTART;TZID=America/Anchorage:20250306T160000
DTEND;TZID=America/Anchorage:20250306T190000
DTSTAMP:20260424T065613
CREATED:20240306T191828Z
LAST-MODIFIED:20250111T223828Z
UID:10000139-1741276800-1741287600@www.esterlibrary.org
SUMMARY:Open Hours
DESCRIPTION:
URL:https://www.esterlibrary.org/event/open-hours-geb-program-specialist-2025-02-27/2025-03-06/
END:VEVENT
BEGIN:VEVENT
DTSTART;TZID=America/Anchorage:20250304T150000
DTEND;TZID=America/Anchorage:20250304T190000
DTSTAMP:20260424T065613
CREATED:20241130T044318Z
LAST-MODIFIED:20250111T223118Z
UID:10000203-1741100400-1741114800@www.esterlibrary.org
SUMMARY:Knit Night and Open Hours
DESCRIPTION:
URL:https://www.esterlibrary.org/event/knit-night-and-open-hours/2025-03-04/
LOCATION:Clausen Cabin\, 3629 Main Street\, Ester\, 99725
END:VEVENT
BEGIN:VEVENT
DTSTART;TZID=America/Anchorage:20250303T183000
DTEND;TZID=America/Anchorage:20250303T203000
DTSTAMP:20260424T065613
CREATED:20241118T220423Z
LAST-MODIFIED:20241118T220640Z
UID:10000581-1741026600-1741033800@www.esterlibrary.org
SUMMARY:Monthly Board of Director's Meeting
DESCRIPTION:
URL:https://www.esterlibrary.org/event/monthly-board-of-directors-meeting/2025-03-03/
CATEGORIES:Board
END:VEVENT
BEGIN:VEVENT
DTSTART;TZID=America/Anchorage:20250303T160000
DTEND;TZID=America/Anchorage:20250303T180000
DTSTAMP:20260424T065613
CREATED:20240909T211921Z
LAST-MODIFIED:20250111T223037Z
UID:10000568-1741017600-1741024800@www.esterlibrary.org
SUMMARY:Art Workshop
DESCRIPTION:Young or old\, join us to bring out your creative side! Workshop participants will decide what to explore each week.
URL:https://www.esterlibrary.org/event/kids-art-programs-2024-11-18/2025-03-03/
CATEGORIES:Events
END:VEVENT
BEGIN:VEVENT
DTSTART;TZID=America/Anchorage:20250303T150000
DTEND;TZID=America/Anchorage:20250303T180000
DTSTAMP:20260424T065613
CREATED:20240101T214601Z
LAST-MODIFIED:20250111T222726Z
UID:10000369-1741014000-1741024800@www.esterlibrary.org
SUMMARY:Monday Open hours
DESCRIPTION:
URL:https://www.esterlibrary.org/event/open-hours-7/2025-03-03/
END:VEVENT
BEGIN:VEVENT
DTSTART;TZID=America/Anchorage:20250302T160000
DTEND;TZID=America/Anchorage:20250302T180000
DTSTAMP:20260424T065613
CREATED:20240813T040057Z
LAST-MODIFIED:20250111T222538Z
UID:10000519-1740931200-1740938400@www.esterlibrary.org
SUMMARY:Writing Circle (No browsing)
DESCRIPTION:Join us for some quiet time. The library is NOT open for browsing during this time.
URL:https://www.esterlibrary.org/event/writing-circle-3/2025-03-02/
LOCATION:Clausen Cabin\, 3629 Main Street\, Ester\, 99725
END:VEVENT
BEGIN:VEVENT
DTSTART;TZID=America/Anchorage:20250301T150000
DTEND;TZID=America/Anchorage:20250301T163000
DTSTAMP:20260424T065613
CREATED:20240620T031016Z
LAST-MODIFIED:20250111T223533Z
UID:10000490-1740841200-1740846600@www.esterlibrary.org
SUMMARY:Book Club
DESCRIPTION:Siddhartha\, by Herman Hesse \nWhen Herman Hesse visited India in the early days of the 20th century\, he was captivated by the people\, their customs\, their culture\, and their religion. On returning to Germany\, he wrote a masterpiece on a young man’s search for identity and meaning in a civilization that has lost its way. Loosely based on the early life of the Buddha\, the book documents the journey of self-discovery and spiritual awakening of a character called Siddhartha. \nThe name Siddhartha was the one the Buddha was known by before his renunciation. Siddhartha in Sanskrit is translated as “Siddha” (achieved) and “artha” (what was searched for). The novel follows Siddhartha from a life of comfort of privilege to his quest for truth in a world plagued by sorrow and suffering. \nThe themes of Siddhartha are universal in that they are an account of a young person’s search for meaning — one that all readers can relate to. As Hesse skillfully takes us on a journey\, he uses his poetic prose to challenge our preconceived notions of what a spiritual life and meaningful self-enrichment entail. Blind adherence to all systems of belief is shunned in favor of living in the moment and appreciating its ever-changing nature. Generations of readers have and will continue to find wisdom in the pages of Siddhartha.
URL:https://www.esterlibrary.org/event/book-club-7-2024-12-07-2025-01-04-2025-03-01/
LOCATION:Clausen Cabin\, 3629 Main Street\, Ester\, 99725
CATEGORIES:Announcements,Events
END:VEVENT
BEGIN:VEVENT
DTSTART;TZID=America/Anchorage:20250301T130000
DTEND;TZID=America/Anchorage:20250301T160000
DTSTAMP:20260424T065613
CREATED:20240101T215150Z
LAST-MODIFIED:20250111T223957Z
UID:10000464-1740834000-1740844800@www.esterlibrary.org
SUMMARY:Open hours
DESCRIPTION:
URL:https://www.esterlibrary.org/event/open-hours-16-2025-02-22/2025-03-01/
END:VEVENT
BEGIN:VEVENT
DTSTART;TZID=America/Anchorage:20250227T160000
DTEND;TZID=America/Anchorage:20250227T190000
DTSTAMP:20260424T065613
CREATED:20240306T191828Z
LAST-MODIFIED:20250111T223828Z
UID:10000138-1740672000-1740682800@www.esterlibrary.org
SUMMARY:Open Hours
DESCRIPTION:
URL:https://www.esterlibrary.org/event/open-hours-geb-program-specialist-2025-02-27/2025-02-27/
END:VEVENT
BEGIN:VEVENT
DTSTART;TZID=America/Anchorage:20250227T160000
DTEND;TZID=America/Anchorage:20250227T190000
DTSTAMP:20260424T065613
CREATED:20240306T191828Z
LAST-MODIFIED:20241130T043930Z
UID:10000132-1740672000-1740682800@www.esterlibrary.org
SUMMARY:Open Hours
DESCRIPTION:
URL:https://www.esterlibrary.org/event/open-hours-geb-program-specialist/2025-02-27/
END:VEVENT
BEGIN:VEVENT
DTSTART;TZID=America/Anchorage:20250225T150000
DTEND;TZID=America/Anchorage:20250225T190000
DTSTAMP:20260424T065613
CREATED:20241130T044318Z
LAST-MODIFIED:20250111T223118Z
UID:10000202-1740495600-1740510000@www.esterlibrary.org
SUMMARY:Knit Night and Open Hours
DESCRIPTION:
URL:https://www.esterlibrary.org/event/knit-night-and-open-hours/2025-02-25/
LOCATION:Clausen Cabin\, 3629 Main Street\, Ester\, 99725
END:VEVENT
BEGIN:VEVENT
DTSTART;TZID=America/Anchorage:20250224T160000
DTEND;TZID=America/Anchorage:20250224T180000
DTSTAMP:20260424T065613
CREATED:20240909T211921Z
LAST-MODIFIED:20250111T223037Z
UID:10000567-1740412800-1740420000@www.esterlibrary.org
SUMMARY:Art Workshop
DESCRIPTION:Young or old\, join us to bring out your creative side! Workshop participants will decide what to explore each week.
URL:https://www.esterlibrary.org/event/kids-art-programs-2024-11-18/2025-02-24/
CATEGORIES:Events
END:VEVENT
BEGIN:VEVENT
DTSTART;TZID=America/Anchorage:20250224T150000
DTEND;TZID=America/Anchorage:20250224T180000
DTSTAMP:20260424T065613
CREATED:20240101T214601Z
LAST-MODIFIED:20250111T222726Z
UID:10000368-1740409200-1740420000@www.esterlibrary.org
SUMMARY:Monday Open hours
DESCRIPTION:
URL:https://www.esterlibrary.org/event/open-hours-7/2025-02-24/
END:VEVENT
BEGIN:VEVENT
DTSTART;TZID=America/Anchorage:20250223T160000
DTEND;TZID=America/Anchorage:20250223T180000
DTSTAMP:20260424T065613
CREATED:20240813T040057Z
LAST-MODIFIED:20250111T222538Z
UID:10000518-1740326400-1740333600@www.esterlibrary.org
SUMMARY:Writing Circle (No browsing)
DESCRIPTION:Join us for some quiet time. The library is NOT open for browsing during this time.
URL:https://www.esterlibrary.org/event/writing-circle-3/2025-02-23/
LOCATION:Clausen Cabin\, 3629 Main Street\, Ester\, 99725
END:VEVENT
BEGIN:VEVENT
DTSTART;TZID=America/Anchorage:20250222T143000
DTEND;TZID=America/Anchorage:20250222T160000
DTSTAMP:20260424T065613
CREATED:20241130T043143Z
LAST-MODIFIED:20250111T224238Z
UID:10000187-1740234600-1740240000@www.esterlibrary.org
SUMMARY:Children's Book Club
DESCRIPTION:
URL:https://www.esterlibrary.org/event/childrens-book-club-2-2025-01-25/2025-02-22/
LOCATION:Clausen Cabin\, 3629 Main Street\, Ester\, 99725
END:VEVENT
BEGIN:VEVENT
DTSTART;TZID=America/Anchorage:20250222T130000
DTEND;TZID=America/Anchorage:20250222T160000
DTSTAMP:20260424T065613
CREATED:20240101T215150Z
LAST-MODIFIED:20241202T214419Z
UID:10000462-1740229200-1740240000@www.esterlibrary.org
SUMMARY:Open hours
DESCRIPTION:
URL:https://www.esterlibrary.org/event/open-hours-16/2025-02-22/
END:VEVENT
BEGIN:VEVENT
DTSTART;TZID=America/Anchorage:20250222T130000
DTEND;TZID=America/Anchorage:20250222T160000
DTSTAMP:20260424T065613
CREATED:20240101T215150Z
LAST-MODIFIED:20250111T223957Z
UID:10000463-1740229200-1740240000@www.esterlibrary.org
SUMMARY:Open hours
DESCRIPTION:
URL:https://www.esterlibrary.org/event/open-hours-16-2025-02-22/2025-02-22/
END:VEVENT
BEGIN:VEVENT
DTSTART;TZID=America/Anchorage:20250220T160000
DTEND;TZID=America/Anchorage:20250220T190000
DTSTAMP:20260424T065613
CREATED:20240306T191828Z
LAST-MODIFIED:20241130T043930Z
UID:10000131-1740067200-1740078000@www.esterlibrary.org
SUMMARY:Open Hours
DESCRIPTION:
URL:https://www.esterlibrary.org/event/open-hours-geb-program-specialist/2025-02-20/
END:VEVENT
BEGIN:VEVENT
DTSTART;TZID=America/Anchorage:20250218T150000
DTEND;TZID=America/Anchorage:20250218T190000
DTSTAMP:20260424T065613
CREATED:20241130T044318Z
LAST-MODIFIED:20250111T223118Z
UID:10000201-1739890800-1739905200@www.esterlibrary.org
SUMMARY:Knit Night and Open Hours
DESCRIPTION:
URL:https://www.esterlibrary.org/event/knit-night-and-open-hours/2025-02-18/
LOCATION:Clausen Cabin\, 3629 Main Street\, Ester\, 99725
END:VEVENT
BEGIN:VEVENT
DTSTART;TZID=America/Anchorage:20250217T160000
DTEND;TZID=America/Anchorage:20250217T180000
DTSTAMP:20260424T065613
CREATED:20240909T211921Z
LAST-MODIFIED:20250111T223037Z
UID:10000566-1739808000-1739815200@www.esterlibrary.org
SUMMARY:Art Workshop
DESCRIPTION:Young or old\, join us to bring out your creative side! Workshop participants will decide what to explore each week.
URL:https://www.esterlibrary.org/event/kids-art-programs-2024-11-18/2025-02-17/
CATEGORIES:Events
END:VEVENT
BEGIN:VEVENT
DTSTART;TZID=America/Anchorage:20250217T150000
DTEND;TZID=America/Anchorage:20250217T180000
DTSTAMP:20260424T065613
CREATED:20240101T214601Z
LAST-MODIFIED:20250111T222726Z
UID:10000367-1739804400-1739815200@www.esterlibrary.org
SUMMARY:Monday Open hours
DESCRIPTION:
URL:https://www.esterlibrary.org/event/open-hours-7/2025-02-17/
END:VEVENT
BEGIN:VEVENT
DTSTART;TZID=America/Anchorage:20250216T160000
DTEND;TZID=America/Anchorage:20250216T180000
DTSTAMP:20260424T065613
CREATED:20240813T040057Z
LAST-MODIFIED:20250111T222538Z
UID:10000517-1739721600-1739728800@www.esterlibrary.org
SUMMARY:Writing Circle (No browsing)
DESCRIPTION:Join us for some quiet time. The library is NOT open for browsing during this time.
URL:https://www.esterlibrary.org/event/writing-circle-3/2025-02-16/
LOCATION:Clausen Cabin\, 3629 Main Street\, Ester\, 99725
END:VEVENT
END:VCALENDAR