BEGIN:VCALENDAR
VERSION:2.0
PRODID:-//Ester Village Library - ECPv6.15.20//NONSGML v1.0//EN
CALSCALE:GREGORIAN
METHOD:PUBLISH
X-WR-CALNAME:Ester Village Library
X-ORIGINAL-URL:https://www.esterlibrary.org
X-WR-CALDESC:Events for Ester Village Library
REFRESH-INTERVAL;VALUE=DURATION:PT1H
X-Robots-Tag:noindex
X-PUBLISHED-TTL:PT1H
BEGIN:VTIMEZONE
TZID:America/Anchorage
BEGIN:DAYLIGHT
TZOFFSETFROM:-0900
TZOFFSETTO:-0800
TZNAME:AKDT
DTSTART:20230312T110000
END:DAYLIGHT
BEGIN:STANDARD
TZOFFSETFROM:-0800
TZOFFSETTO:-0900
TZNAME:AKST
DTSTART:20231105T100000
END:STANDARD
BEGIN:DAYLIGHT
TZOFFSETFROM:-0900
TZOFFSETTO:-0800
TZNAME:AKDT
DTSTART:20240310T110000
END:DAYLIGHT
BEGIN:STANDARD
TZOFFSETFROM:-0800
TZOFFSETTO:-0900
TZNAME:AKST
DTSTART:20241103T100000
END:STANDARD
BEGIN:DAYLIGHT
TZOFFSETFROM:-0900
TZOFFSETTO:-0800
TZNAME:AKDT
DTSTART:20250309T110000
END:DAYLIGHT
BEGIN:STANDARD
TZOFFSETFROM:-0800
TZOFFSETTO:-0900
TZNAME:AKST
DTSTART:20251102T100000
END:STANDARD
END:VTIMEZONE
BEGIN:VEVENT
DTSTART;TZID=America/Anchorage:20240213T150000
DTEND;TZID=America/Anchorage:20240213T190000
DTSTAMP:20260425T072227
CREATED:20240101T213350Z
LAST-MODIFIED:20241130T043835Z
UID:10000291-1707836400-1707850800@www.esterlibrary.org
SUMMARY:Knit Night & Open Hours
DESCRIPTION:
URL:https://www.esterlibrary.org/event/knit-night-5/2024-02-13/
END:VEVENT
BEGIN:VEVENT
DTSTART;TZID=America/Anchorage:20240212T150000
DTEND;TZID=America/Anchorage:20240212T180000
DTSTAMP:20260425T072227
CREATED:20250214T204012Z
LAST-MODIFIED:20250214T204012Z
UID:10000380-1707750000-1707760800@www.esterlibrary.org
SUMMARY:Monday Open hours
DESCRIPTION:
URL:https://www.esterlibrary.org/event/open-hours-7/2024-02-12/
END:VEVENT
BEGIN:VEVENT
DTSTART;TZID=America/Anchorage:20240212T150000
DTEND;TZID=America/Anchorage:20240212T180000
DTSTAMP:20260425T072227
CREATED:20240101T214601Z
LAST-MODIFIED:20250111T222726Z
UID:10000317-1707750000-1707760800@www.esterlibrary.org
SUMMARY:Monday Open hours
DESCRIPTION:
URL:https://www.esterlibrary.org/event/open-hours-7/2024-02-12/
END:VEVENT
BEGIN:VEVENT
DTSTART;TZID=America/Anchorage:20240211T160000
DTEND;TZID=America/Anchorage:20240211T180000
DTSTAMP:20260425T072227
CREATED:20250214T204008Z
LAST-MODIFIED:20250214T204008Z
UID:10000269-1707667200-1707674400@www.esterlibrary.org
SUMMARY:Writing Circle
DESCRIPTION:Enjoy quiet time and space for your own narrations
URL:https://www.esterlibrary.org/event/writing-circle-2/2024-02-11/
END:VEVENT
BEGIN:VEVENT
DTSTART;TZID=America/Anchorage:20240211T160000
DTEND;TZID=America/Anchorage:20240211T180000
DTSTAMP:20260425T072227
CREATED:20240101T212428Z
LAST-MODIFIED:20240813T035929Z
UID:10000219-1707667200-1707674400@www.esterlibrary.org
SUMMARY:Writing Circle
DESCRIPTION:Enjoy quiet time and space for your own narrations
URL:https://www.esterlibrary.org/event/writing-circle-2/2024-02-11/
END:VEVENT
BEGIN:VEVENT
DTSTART;TZID=America/Anchorage:20240210T130000
DTEND;TZID=America/Anchorage:20240210T160000
DTSTAMP:20260425T072227
CREATED:20240101T215150Z
LAST-MODIFIED:20241202T214419Z
UID:10000408-1707570000-1707580800@www.esterlibrary.org
SUMMARY:Open hours
DESCRIPTION:
URL:https://www.esterlibrary.org/event/open-hours-16/2024-02-10/
END:VEVENT
BEGIN:VEVENT
DTSTART;TZID=America/Anchorage:20240206T150000
DTEND;TZID=America/Anchorage:20240206T190000
DTSTAMP:20260425T072227
CREATED:20240101T213350Z
LAST-MODIFIED:20241130T043835Z
UID:10000290-1707231600-1707246000@www.esterlibrary.org
SUMMARY:Knit Night & Open Hours
DESCRIPTION:
URL:https://www.esterlibrary.org/event/knit-night-5/2024-02-06/
END:VEVENT
BEGIN:VEVENT
DTSTART;TZID=America/Anchorage:20240205T150000
DTEND;TZID=America/Anchorage:20240205T180000
DTSTAMP:20260425T072227
CREATED:20250214T204012Z
LAST-MODIFIED:20250214T204012Z
UID:10000379-1707145200-1707156000@www.esterlibrary.org
SUMMARY:Monday Open hours
DESCRIPTION:
URL:https://www.esterlibrary.org/event/open-hours-7/2024-02-05/
END:VEVENT
BEGIN:VEVENT
DTSTART;TZID=America/Anchorage:20240205T150000
DTEND;TZID=America/Anchorage:20240205T180000
DTSTAMP:20260425T072227
CREATED:20240101T214601Z
LAST-MODIFIED:20250111T222726Z
UID:10000316-1707145200-1707156000@www.esterlibrary.org
SUMMARY:Monday Open hours
DESCRIPTION:
URL:https://www.esterlibrary.org/event/open-hours-7/2024-02-05/
END:VEVENT
BEGIN:VEVENT
DTSTART;TZID=America/Anchorage:20240204T160000
DTEND;TZID=America/Anchorage:20240204T180000
DTSTAMP:20260425T072227
CREATED:20250214T204008Z
LAST-MODIFIED:20250214T204008Z
UID:10000268-1707062400-1707069600@www.esterlibrary.org
SUMMARY:Writing Circle
DESCRIPTION:Enjoy quiet time and space for your own narrations
URL:https://www.esterlibrary.org/event/writing-circle-2/2024-02-04/
END:VEVENT
BEGIN:VEVENT
DTSTART;TZID=America/Anchorage:20240204T160000
DTEND;TZID=America/Anchorage:20240204T180000
DTSTAMP:20260425T072227
CREATED:20240101T212428Z
LAST-MODIFIED:20240813T035929Z
UID:10000218-1707062400-1707069600@www.esterlibrary.org
SUMMARY:Writing Circle
DESCRIPTION:Enjoy quiet time and space for your own narrations
URL:https://www.esterlibrary.org/event/writing-circle-2/2024-02-04/
END:VEVENT
BEGIN:VEVENT
DTSTART;TZID=America/Anchorage:20240203T150000
DTEND;TZID=America/Anchorage:20240203T170000
DTSTAMP:20260425T072227
CREATED:20240101T221405Z
LAST-MODIFIED:20240101T221553Z
UID:10000474-1706972400-1706979600@www.esterlibrary.org
SUMMARY:Book Club
DESCRIPTION:We’ll be discussing “Still Life” by Sarah Winman \nA Good Morning America Book Club Pick \nA captivating\, bighearted\, richly tapestried story of people brought together by love\, war\, art\, flood\, and the ghost of E. M. Forster\, by the celebrated author of Tin Man. \nTuscany\, 1944: As Allied troops advance and bombs sink villages\, a young English soldier\, Ulysses Temper\, finds himself in the wine cellar of a deserted villa. There\, he has a chance encounter with Evelyn Skinner\, a middle-aged art historian intent on salvaging paintings from the ruins. In each other\, Ulysses and Evelyn find a kindred spirit amidst the rubble of war-torn Italy\, and paint a course of events that will shape Ulysses’s life for the next four decades. \nReturning home to London\, Ulysses reimmerses himself in his crew at The Stoat and Parot—a motley mix of pub crawlers and eccentrics—all the while carrying with him his Italian evocations. So\, when an unexpected inheritance brings him back to where it all began\, Ulysses knows better than to tempt fate: he must return to the Tuscan hills.
URL:https://www.esterlibrary.org/event/book-club-2/
LOCATION:Clausen Cabin\, 3629 Main Street\, Ester\, 99725
END:VEVENT
BEGIN:VEVENT
DTSTART;TZID=America/Anchorage:20240203T130000
DTEND;TZID=America/Anchorage:20240203T160000
DTSTAMP:20260425T072227
CREATED:20240101T215150Z
LAST-MODIFIED:20241202T214419Z
UID:10000407-1706965200-1706976000@www.esterlibrary.org
SUMMARY:Open hours
DESCRIPTION:
URL:https://www.esterlibrary.org/event/open-hours-16/2024-02-03/
END:VEVENT
BEGIN:VEVENT
DTSTART;TZID=America/Anchorage:20240201T160000
DTEND;TZID=America/Anchorage:20240201T190000
DTSTAMP:20260425T072227
CREATED:20240122T070504Z
LAST-MODIFIED:20240306T191513Z
UID:10000476-1706803200-1706814000@www.esterlibrary.org
SUMMARY:Open Hours - Growing Ester's Biodiversity
DESCRIPTION:
URL:https://www.esterlibrary.org/event/open-hours-18/
END:VEVENT
BEGIN:VEVENT
DTSTART;TZID=America/Anchorage:20240130T150000
DTEND;TZID=America/Anchorage:20240130T190000
DTSTAMP:20260425T072227
CREATED:20240101T213350Z
LAST-MODIFIED:20241130T043835Z
UID:10000289-1706626800-1706641200@www.esterlibrary.org
SUMMARY:Knit Night & Open Hours
DESCRIPTION:
URL:https://www.esterlibrary.org/event/knit-night-5/2024-01-30/
END:VEVENT
BEGIN:VEVENT
DTSTART;TZID=America/Anchorage:20240129T150000
DTEND;TZID=America/Anchorage:20240129T180000
DTSTAMP:20260425T072227
CREATED:20240101T214601Z
LAST-MODIFIED:20250111T222726Z
UID:10000315-1706540400-1706551200@www.esterlibrary.org
SUMMARY:Monday Open hours
DESCRIPTION:
URL:https://www.esterlibrary.org/event/open-hours-7/2024-01-29/
END:VEVENT
BEGIN:VEVENT
DTSTART;TZID=America/Anchorage:20240128T160000
DTEND;TZID=America/Anchorage:20240128T180000
DTSTAMP:20260425T072227
CREATED:20250214T204008Z
LAST-MODIFIED:20250214T204008Z
UID:10000267-1706457600-1706464800@www.esterlibrary.org
SUMMARY:Writing Circle
DESCRIPTION:Enjoy quiet time and space for your own narrations
URL:https://www.esterlibrary.org/event/writing-circle-2/2024-01-28/
END:VEVENT
BEGIN:VEVENT
DTSTART;TZID=America/Anchorage:20240128T160000
DTEND;TZID=America/Anchorage:20240128T180000
DTSTAMP:20260425T072227
CREATED:20240101T212428Z
LAST-MODIFIED:20240813T035929Z
UID:10000217-1706457600-1706464800@www.esterlibrary.org
SUMMARY:Writing Circle
DESCRIPTION:Enjoy quiet time and space for your own narrations
URL:https://www.esterlibrary.org/event/writing-circle-2/2024-01-28/
END:VEVENT
BEGIN:VEVENT
DTSTART;TZID=America/Anchorage:20240127T130000
DTEND;TZID=America/Anchorage:20240127T160000
DTSTAMP:20260425T072227
CREATED:20240101T215150Z
LAST-MODIFIED:20241202T214419Z
UID:10000406-1706360400-1706371200@www.esterlibrary.org
SUMMARY:Open hours
DESCRIPTION:
URL:https://www.esterlibrary.org/event/open-hours-16/2024-01-27/
END:VEVENT
BEGIN:VEVENT
DTSTART;TZID=America/Anchorage:20240125T170000
DTEND;TZID=America/Anchorage:20240125T190000
DTSTAMP:20260425T072227
CREATED:20240101T214951Z
LAST-MODIFIED:20240122T071924Z
UID:10000402-1706202000-1706209200@www.esterlibrary.org
SUMMARY:Seed Catalog Party
DESCRIPTION:Join us for an evening of flipping through seed catalogs! Order some for yourself\, or for GEB
URL:https://www.esterlibrary.org/event/open-hours-12/
CATEGORIES:Events
END:VEVENT
BEGIN:VEVENT
DTSTART;TZID=America/Anchorage:20240125T160000
DTEND;TZID=America/Anchorage:20240125T170000
DTSTAMP:20260425T072227
CREATED:20240121T201735Z
LAST-MODIFIED:20240121T201735Z
UID:10000475-1706198400-1706202000@www.esterlibrary.org
SUMMARY:Open Hours
DESCRIPTION:
URL:https://www.esterlibrary.org/event/open-hours-17/
END:VEVENT
BEGIN:VEVENT
DTSTART;TZID=America/Anchorage:20240124T150000
DTEND;TZID=America/Anchorage:20240124T180000
DTSTAMP:20260425T072227
CREATED:20240101T214005Z
LAST-MODIFIED:20240101T214005Z
UID:10000312-1706108400-1706119200@www.esterlibrary.org
SUMMARY:Open hours
DESCRIPTION:
URL:https://www.esterlibrary.org/event/open-hours-5/
END:VEVENT
BEGIN:VEVENT
DTSTART;TZID=America/Anchorage:20240123T150000
DTEND;TZID=America/Anchorage:20240123T190000
DTSTAMP:20260425T072227
CREATED:20240101T213319Z
LAST-MODIFIED:20240122T071601Z
UID:10000288-1706022000-1706036400@www.esterlibrary.org
SUMMARY:Knit night
DESCRIPTION:Join us for a night of knitting and crocheting!
URL:https://www.esterlibrary.org/event/knit-night-4/
END:VEVENT
BEGIN:VEVENT
DTSTART;TZID=America/Anchorage:20240122T150000
DTEND;TZID=America/Anchorage:20240122T180000
DTSTAMP:20260425T072227
CREATED:20240101T213420Z
LAST-MODIFIED:20240101T214633Z
UID:10000307-1705935600-1705946400@www.esterlibrary.org
SUMMARY:Open hours
DESCRIPTION:
URL:https://www.esterlibrary.org/event/knit-night-6/
LOCATION:Clausen Cabin\, 3629 Main Street\, Ester\, 99725
END:VEVENT
BEGIN:VEVENT
DTSTART;TZID=America/Anchorage:20240121T160000
DTEND;TZID=America/Anchorage:20240121T180000
DTSTAMP:20260425T072227
CREATED:20250214T204008Z
LAST-MODIFIED:20250214T204008Z
UID:10000266-1705852800-1705860000@www.esterlibrary.org
SUMMARY:Writing Circle
DESCRIPTION:Enjoy quiet time and space for your own narrations
URL:https://www.esterlibrary.org/event/writing-circle-2/2024-01-21/
END:VEVENT
BEGIN:VEVENT
DTSTART;TZID=America/Anchorage:20240121T160000
DTEND;TZID=America/Anchorage:20240121T180000
DTSTAMP:20260425T072227
CREATED:20240101T212428Z
LAST-MODIFIED:20240813T035929Z
UID:10000216-1705852800-1705860000@www.esterlibrary.org
SUMMARY:Writing Circle
DESCRIPTION:Enjoy quiet time and space for your own narrations
URL:https://www.esterlibrary.org/event/writing-circle-2/2024-01-21/
END:VEVENT
BEGIN:VEVENT
DTSTART;TZID=America/Anchorage:20240120T130000
DTEND;TZID=America/Anchorage:20240120T160000
DTSTAMP:20260425T072227
CREATED:20240101T215127Z
LAST-MODIFIED:20240101T215127Z
UID:10000405-1705755600-1705766400@www.esterlibrary.org
SUMMARY:Open hours
DESCRIPTION:
URL:https://www.esterlibrary.org/event/open-hours-15/
END:VEVENT
BEGIN:VEVENT
DTSTART;TZID=America/Anchorage:20240118T160000
DTEND;TZID=America/Anchorage:20240118T190000
DTSTAMP:20260425T072227
CREATED:20240101T214924Z
LAST-MODIFIED:20240101T214924Z
UID:10000401-1705593600-1705604400@www.esterlibrary.org
SUMMARY:Open hours
DESCRIPTION:
URL:https://www.esterlibrary.org/event/open-hours-11/
END:VEVENT
BEGIN:VEVENT
DTSTART;TZID=America/Anchorage:20240117T180000
DTEND;TZID=America/Anchorage:20240117T200000
DTSTAMP:20260425T072227
CREATED:20231230T213109Z
LAST-MODIFIED:20231230T213740Z
UID:10000212-1705514400-1705521600@www.esterlibrary.org
SUMMARY:January Board Meeting
DESCRIPTION:
URL:https://www.esterlibrary.org/event/january-board-meeting-2/
LOCATION:Clausen Cabin\, 3629 Main Street\, Ester\, 99725
CATEGORIES:Announcements,Board
END:VEVENT
BEGIN:VEVENT
DTSTART;TZID=America/Anchorage:20240117T150000
DTEND;TZID=America/Anchorage:20240117T180000
DTSTAMP:20260425T072227
CREATED:20240101T213917Z
LAST-MODIFIED:20240101T213917Z
UID:10000310-1705503600-1705514400@www.esterlibrary.org
SUMMARY:Open hours
DESCRIPTION:
URL:https://www.esterlibrary.org/event/open-hours-3/
END:VEVENT
END:VCALENDAR