BEGIN:VCALENDAR
VERSION:2.0
PRODID:-//Ester Village Library - ECPv6.15.20//NONSGML v1.0//EN
CALSCALE:GREGORIAN
METHOD:PUBLISH
X-WR-CALNAME:Ester Village Library
X-ORIGINAL-URL:https://www.esterlibrary.org
X-WR-CALDESC:Events for Ester Village Library
REFRESH-INTERVAL;VALUE=DURATION:PT1H
X-Robots-Tag:noindex
X-PUBLISHED-TTL:PT1H
BEGIN:VTIMEZONE
TZID:America/Anchorage
BEGIN:DAYLIGHT
TZOFFSETFROM:-0900
TZOFFSETTO:-0800
TZNAME:AKDT
DTSTART:20250309T110000
END:DAYLIGHT
BEGIN:STANDARD
TZOFFSETFROM:-0800
TZOFFSETTO:-0900
TZNAME:AKST
DTSTART:20251102T100000
END:STANDARD
BEGIN:DAYLIGHT
TZOFFSETFROM:-0900
TZOFFSETTO:-0800
TZNAME:AKDT
DTSTART:20260308T110000
END:DAYLIGHT
BEGIN:STANDARD
TZOFFSETFROM:-0800
TZOFFSETTO:-0900
TZNAME:AKST
DTSTART:20261101T100000
END:STANDARD
BEGIN:DAYLIGHT
TZOFFSETFROM:-0900
TZOFFSETTO:-0800
TZNAME:AKDT
DTSTART:20270314T110000
END:DAYLIGHT
BEGIN:STANDARD
TZOFFSETFROM:-0800
TZOFFSETTO:-0900
TZNAME:AKST
DTSTART:20271107T100000
END:STANDARD
END:VTIMEZONE
BEGIN:VEVENT
DTSTART;TZID=America/Anchorage:20260418T190000
DTEND;TZID=America/Anchorage:20260418T220000
DTSTAMP:20260423T101242
CREATED:20260216T072630Z
LAST-MODIFIED:20260401T224553Z
UID:10001162-1776538800-1776549600@www.esterlibrary.org
SUMMARY:Spring Fundraiser: Once Upon a Spring
DESCRIPTION:So far\, we’ve got round trip tickets for the following tours: Northern Alaska Tour Company’s Fly and Drive to the Arctic Circle\, Stan Stephens Columbia Glacier cruise\, and Alaska Railroad tickets from Anchorage to Seward (all tours are for 2 people)\, the Pump House Restaurant\, and the Fairbanks Children’s Museum. \nThese are just a few of the items up for the silent auction. We have lots more – tools\, kitchen implements\, art and prints and swag from local breweries and restaurants. \nCome on out\, dressed as your favorite literary character (or not – costumes not required)! We’ll have a photo booth and a DJ from 7-10 Saturday\, April 18\, 2026! \n 
URL:https://www.esterlibrary.org/event/spring-fundraiser-2/
LOCATION:Golden Eagle Saloon\, 3530 Main Steet\, Fairbanks\, 99709\, United States
CATEGORIES:Events,Fundraising
END:VEVENT
END:VCALENDAR