BEGIN:VCALENDAR
VERSION:2.0
PRODID:-//Ester Village Library - ECPv6.15.20//NONSGML v1.0//EN
CALSCALE:GREGORIAN
METHOD:PUBLISH
X-ORIGINAL-URL:https://www.esterlibrary.org
X-WR-CALDESC:Events for Ester Village Library
REFRESH-INTERVAL;VALUE=DURATION:PT1H
X-Robots-Tag:noindex
X-PUBLISHED-TTL:PT1H
BEGIN:VTIMEZONE
TZID:America/Anchorage
BEGIN:DAYLIGHT
TZOFFSETFROM:-0900
TZOFFSETTO:-0800
TZNAME:AKDT
DTSTART:20240310T110000
END:DAYLIGHT
BEGIN:STANDARD
TZOFFSETFROM:-0800
TZOFFSETTO:-0900
TZNAME:AKST
DTSTART:20241103T100000
END:STANDARD
BEGIN:DAYLIGHT
TZOFFSETFROM:-0900
TZOFFSETTO:-0800
TZNAME:AKDT
DTSTART:20250309T110000
END:DAYLIGHT
BEGIN:STANDARD
TZOFFSETFROM:-0800
TZOFFSETTO:-0900
TZNAME:AKST
DTSTART:20251102T100000
END:STANDARD
BEGIN:DAYLIGHT
TZOFFSETFROM:-0900
TZOFFSETTO:-0800
TZNAME:AKDT
DTSTART:20260308T110000
END:DAYLIGHT
BEGIN:STANDARD
TZOFFSETFROM:-0800
TZOFFSETTO:-0900
TZNAME:AKST
DTSTART:20261101T100000
END:STANDARD
END:VTIMEZONE
BEGIN:VEVENT
DTSTART;TZID=America/Anchorage:20250927T140000
DTEND;TZID=America/Anchorage:20250927T220000
DTSTAMP:20260423T200723
CREATED:20250803T061200Z
LAST-MODIFIED:20250917T040419Z
UID:10001062-1758981600-1759010400@www.esterlibrary.org
SUMMARY:LiBerry Pie and Music Festival
DESCRIPTION:Join us for our annual Fall fundraiser and pie throwdown! \nPie competition begins with entries being brought to the Clausen Cabin at 2:00PM\, with pies being judged at 4:00 PM. There are 2 categories: sweet and savory\, with a winner being crowned in each category and a grand prize champion. \nPies for sale ($5/slice) can be brought over to the Golden Eagle beginning at 5:00\, with the pie sales and music beginning at 6:00PM. Non-winning pies will also be sold for $5/slice. \nThe three winning pies will be live auctioned off at 8:00PM. \nJoin us for a night of pie eating and fun!
URL:https://www.esterlibrary.org/event/liberry-pie-and-music-festival/
LOCATION:Golden Eagle Saloon\, 3530 Main Steet\, Fairbanks\, 99709\, United States
CATEGORIES:Events,Fundraising
END:VEVENT
END:VCALENDAR