BEGIN:VCALENDAR
VERSION:2.0
PRODID:-//Ester Village Library - ECPv6.15.20//NONSGML v1.0//EN
CALSCALE:GREGORIAN
METHOD:PUBLISH
X-ORIGINAL-URL:https://www.esterlibrary.org
X-WR-CALDESC:Events for Ester Village Library
REFRESH-INTERVAL;VALUE=DURATION:PT1H
X-Robots-Tag:noindex
X-PUBLISHED-TTL:PT1H
BEGIN:VTIMEZONE
TZID:America/Anchorage
BEGIN:DAYLIGHT
TZOFFSETFROM:-0900
TZOFFSETTO:-0800
TZNAME:AKDT
DTSTART:20150308T110000
END:DAYLIGHT
BEGIN:STANDARD
TZOFFSETFROM:-0800
TZOFFSETTO:-0900
TZNAME:AKST
DTSTART:20151101T100000
END:STANDARD
BEGIN:DAYLIGHT
TZOFFSETFROM:-0900
TZOFFSETTO:-0800
TZNAME:AKDT
DTSTART:20160313T110000
END:DAYLIGHT
BEGIN:STANDARD
TZOFFSETFROM:-0800
TZOFFSETTO:-0900
TZNAME:AKST
DTSTART:20161106T100000
END:STANDARD
BEGIN:DAYLIGHT
TZOFFSETFROM:-0900
TZOFFSETTO:-0800
TZNAME:AKDT
DTSTART:20170312T110000
END:DAYLIGHT
BEGIN:STANDARD
TZOFFSETFROM:-0800
TZOFFSETTO:-0900
TZNAME:AKST
DTSTART:20171105T100000
END:STANDARD
END:VTIMEZONE
BEGIN:VEVENT
DTSTART;TZID=America/Anchorage:20161113T130000
DTEND;TZID=America/Anchorage:20161113T165000
DTSTAMP:20260423T130449
CREATED:20161117T194249Z
LAST-MODIFIED:20161124T184151Z
UID:10000135-1479042000-1479055800@www.esterlibrary.org
SUMMARY:FY 2017 Board Retreat
DESCRIPTION:The annual board retreat was held Sunday November 13\, 2016 at ST’s house.  Members present: Syrilyn Tong (ST)\, Mo Musick\, Amanda Bent\, Mindy Gallagher\, Gary Pohl\, Carrie Correia\, Marina Day and Eli Sonafrank. \nAfter preliminary coffee and mingling\, we all sat down for introductions and a team-building exercise\, then it was down to business. \nHistory and overview of the library: Geared towards the 3 newcomers\, a short presentation on JTEL\, to include very informative histories on John Trigg\, the Clausens’ cabin and Passive House was given by Mo and ST. \nCommittees\, and specifically who wanted to do what\, were then discussed\, with the following division of responsibilities: ST: Finance and policy re-write.  Mo: Finance and business plan re-write.  Amanda: volunteers and memberships. Mindy: Finance and finance portion of policy re-write. Gary: Facilities and grants. Carrie: garden part of Facilities and policy re-write.  Marina: policy re-write. Eli: Facilities. \nMarina stated that she knew of a fundraising workshop\, but couldn’t remember the details. She later advised that it was the Gail Perry workshop sponsored by United Way of the Tanana Valley\, which was held Wed. November 16\, 2016. She attended and the board later voted to pay for her registration fee of $50. \nAnnual goals: The overriding goal was to get the Clausen Cabin up and running. Remaining work was to finish sheetrocking\, taping\, painting\, install the subfloor\, flooring\, building the handicapped ramp\, and fixing the roof (small leaks around the openings). At some point\, the water system will also need to be looked at\, but not required for a functioning building and was tabled for now. \nGrants/fundraising: Since the priority was Clausen\, the majority of the grant-seeking was geared towards that end. These were the grants discussed and the projects the proposals would be written for: GVEA’s GoodCents – Clausen roof project. Sam’s Club – new laptop for finances.  Co-op Lend-a-hand – programs. Deirdre was to continue looking at the Paul Allen Foundation for major funding for the Passive House Phase II. Grant donors would be recognized by publicity\, and depending upon amount\, a plaque on the walls of the library. Giving Tuesday\, a national event to encourage generosity\, was given the go-ahead for Deirdre to write up donation requests to fund JTEL\, since there was so little time to actually do anything for the event (Nov 29). \nAnnual budget: The majority of the budget went towards mandatory functions (utilities\, insurance\, rent\, etc)\, with discretionary funding for Clausen projects. \nAt the conclusion of the retreat\, we moved into a short meeting.
URL:https://www.esterlibrary.org/event/fy-2017-board-retreat/
CATEGORIES:Board,Events,Meetings,Retreat
ATTACH;FMTTYPE=image/jpeg:https://www.esterlibrary.org/wp-content/uploads/2016/11/Team-building.jpg
END:VEVENT
END:VCALENDAR