BEGIN:VCALENDAR
VERSION:2.0
PRODID:-//Ester Village Library - ECPv6.15.20//NONSGML v1.0//EN
CALSCALE:GREGORIAN
METHOD:PUBLISH
X-WR-CALNAME:Ester Village Library
X-ORIGINAL-URL:https://www.esterlibrary.org
X-WR-CALDESC:Events for Ester Village Library
REFRESH-INTERVAL;VALUE=DURATION:PT1H
X-Robots-Tag:noindex
X-PUBLISHED-TTL:PT1H
BEGIN:VTIMEZONE
TZID:America/Anchorage
BEGIN:DAYLIGHT
TZOFFSETFROM:-0900
TZOFFSETTO:-0800
TZNAME:AKDT
DTSTART:20140309T110000
END:DAYLIGHT
BEGIN:STANDARD
TZOFFSETFROM:-0800
TZOFFSETTO:-0900
TZNAME:AKST
DTSTART:20141102T100000
END:STANDARD
BEGIN:DAYLIGHT
TZOFFSETFROM:-0900
TZOFFSETTO:-0800
TZNAME:AKDT
DTSTART:20150308T110000
END:DAYLIGHT
BEGIN:STANDARD
TZOFFSETFROM:-0800
TZOFFSETTO:-0900
TZNAME:AKST
DTSTART:20151101T100000
END:STANDARD
BEGIN:DAYLIGHT
TZOFFSETFROM:-0900
TZOFFSETTO:-0800
TZNAME:AKDT
DTSTART:20160313T110000
END:DAYLIGHT
BEGIN:STANDARD
TZOFFSETFROM:-0800
TZOFFSETTO:-0900
TZNAME:AKST
DTSTART:20161106T100000
END:STANDARD
BEGIN:DAYLIGHT
TZOFFSETFROM:-0900
TZOFFSETTO:-0800
TZNAME:AKDT
DTSTART:20170312T110000
END:DAYLIGHT
BEGIN:STANDARD
TZOFFSETFROM:-0800
TZOFFSETTO:-0900
TZNAME:AKST
DTSTART:20171105T100000
END:STANDARD
BEGIN:DAYLIGHT
TZOFFSETFROM:-0900
TZOFFSETTO:-0800
TZNAME:AKDT
DTSTART:20180311T110000
END:DAYLIGHT
BEGIN:STANDARD
TZOFFSETFROM:-0800
TZOFFSETTO:-0900
TZNAME:AKST
DTSTART:20181104T100000
END:STANDARD
END:VTIMEZONE
BEGIN:VEVENT
DTSTART;TZID=America/Anchorage:20170404T183000
DTEND;TZID=America/Anchorage:20170404T193000
DTSTAMP:20260423T142159
CREATED:20170329T002722Z
LAST-MODIFIED:20170401T161631Z
UID:10000167-1491330600-1491334200@www.esterlibrary.org
SUMMARY:Finance Committee meeting
DESCRIPTION:Finance Committee minutes January 29\, 2017 \nFinance Committee minutes February 28\, 2017 \n Old Business — Finance \n\nRestricted Funds accounting\nSigners on accounts – Mt. McKinley done!\n\nNew Business \n\nFebruary and preliminary March Finance Reports\nBills\, income\, and reimbursements\nFuel oil payment/delivery/auto-delivery?\nAccounting review\, status for fiscal year to date\nNew QuickBooks program progress\n1099 report to IRS\, and extension of time for filing\nEndowment fund contact questions\nPick-Click-Give filing\nAlaska Library Association dues\nForaker Group dues\nFundraising plans\nNeed for policy updates re: finance\nPreparation of report for BOD meeting
URL:https://www.esterlibrary.org/event/finance-committee-meeting-17/
CATEGORIES:Announcements,Finance,Meetings
END:VEVENT
BEGIN:VEVENT
DTSTART;TZID=America/Anchorage:20170306T063000
DTEND;TZID=America/Anchorage:20170306T203000
DTSTAMP:20260423T142159
CREATED:20170217T201143Z
LAST-MODIFIED:20170311T213614Z
UID:10000164-1488781800-1488832200@www.esterlibrary.org
SUMMARY:March Board of Directors Meeting
DESCRIPTION:Here is the agenda: Board Meeting Agenda \nHere are the minutes: Minutes
URL:https://www.esterlibrary.org/event/march-board-of-directors-meeting/
LOCATION:Clausen Cabin\, 3629 Main Street\, Ester\, 99725
CATEGORIES:Announcements,Board,Meetings
END:VEVENT
BEGIN:VEVENT
DTSTART;TZID=America/Anchorage:20170207T183000
DTEND;TZID=America/Anchorage:20170207T203000
DTSTAMP:20260423T142159
CREATED:20170120T195240Z
LAST-MODIFIED:20170120T195240Z
UID:10000159-1486492200-1486499400@www.esterlibrary.org
SUMMARY:February Board of Director's Meeting
DESCRIPTION:
URL:https://www.esterlibrary.org/event/february-board-of-directors-meeting/
LOCATION:Clausen Cabin\, 3629 Main Street\, Ester\, 99725
CATEGORIES:Announcements,Board,Meetings
END:VEVENT
BEGIN:VEVENT
DTSTART;TZID=America/Anchorage:20170110T063000
DTEND;TZID=America/Anchorage:20170110T203000
DTSTAMP:20260423T142159
CREATED:20170101T212006Z
LAST-MODIFIED:20170120T194822Z
UID:10000153-1484029800-1484080200@www.esterlibrary.org
SUMMARY:January Board of Director's Meeting
DESCRIPTION:Agenda: board-meeting-agenda \n 
URL:https://www.esterlibrary.org/event/january-board-of-directors-meeting/
LOCATION:Clausen Cabin\, 3629 Main Street\, Ester\, 99725
CATEGORIES:Announcements,Board,Events,Meetings
END:VEVENT
BEGIN:VEVENT
DTSTART;VALUE=DATE:20161129
DTEND;VALUE=DATE:20161130
DTSTAMP:20260423T142159
CREATED:20161111T175759Z
LAST-MODIFIED:20161129T220724Z
UID:10000081-1480377600-1480463999@www.esterlibrary.org
SUMMARY:#GivingTuesday
DESCRIPTION:The JTEL is participating in #GivingTuesday this year! Posts relating to #GivingTuesday are: \n\nPlease Give and Do Good\nCheck Out A Book\nHistorical Gardens\nLibrary Programs\nCommunity Events\nThe People We Love\nBookshelf Dedications\nOne Week to Go!\nRewards Programs\nOur Capital Campaign\nRuth Jasper Children’s Fund\nBe Happy\nIn-Kind Donations\nMembership\nTime\nOur Endowment\n\nDid you know: \n\n\n\n\n\nPeople who give money to charity are 43 percent more likely than non-givers to say they are “very happy” about their lives. Volunteers are 42 percent more likely to be very happy than non-volunteers. (Source: Social Capital Community Benchmark Survey)\nThe happiness difference between givers and non-givers is not due to differences in personal characteristics\, income or religion. Imagine two people identical in terms of income\, faith\, age\, education\, politics\, gender and family circumstances\, but one is a donor and volunteers and the other doesn’t. The giver will be\, on average\, 11 percentage points more likely to bevery happy than the non-giver. (Source: University of Michigan Panel Study of Income Dynamics)\n\nLibraries are the ultimate in sharing. Donate to the JTEL\, join our library\, or volunteer with us. Be Happy!
URL:https://www.esterlibrary.org/event/givingtuesday/
CATEGORIES:Announcements,Fundraising
END:VEVENT
BEGIN:VEVENT
DTSTART;TZID=America/Anchorage:20161108T070000
DTEND;TZID=America/Anchorage:20161108T200000
DTSTAMP:20260423T142159
CREATED:20161107T202341Z
LAST-MODIFIED:20161107T203935Z
UID:10000079-1478588400-1478635200@www.esterlibrary.org
SUMMARY:Election Day November 2016
DESCRIPTION:Voting for the Ester Precinct will be at the Ester Volunteer Fire Department from 7 a.m. to 8 p.m. Take a look through the Region III Official Election Pamphlet—there is loads of information you can review. There are national\, state\, and local elections as well as ballot measures. Bring ID (it need not be photo ID) to the polls such as: \n\nvoter ID card\ndriver’s license or state ID card\npassport\nmilitary ID card\nbirth certificate\nhunting or fishing license\ncurrent and valid photo ID card\n\nor an original copy of a document with your name and current address such as: \n\ncurrent utility bill\ngovernment check\nbank statement\npaycheck\nor other government document
URL:https://www.esterlibrary.org/event/election-day-november-2016/
LOCATION:Ester Volunteer Fire Department\, 3570 Old Nenana Hwy\, Ester\, AK\, United States
CATEGORIES:Announcements
END:VEVENT
BEGIN:VEVENT
DTSTART;TZID=America/Anchorage:20161016T160000
DTEND;TZID=America/Anchorage:20161016T170000
DTSTAMP:20260423T142159
CREATED:20160707T171759Z
LAST-MODIFIED:20161129T191428Z
UID:10000007-1476633600-1476637200@www.esterlibrary.org
SUMMARY:2016 Annual Membership Meeting
DESCRIPTION:Call to order: 4:10 \n\nAmanda and Mo began with the 2016-annual-report\nMike Musick made a comment about partnering with the Fire Dept. to use the new water storage tank as a fire hydrant.\nCarla Helfferich made a comment about waiting until after the Clausen Cabin is finished for the survey\nD.Eagan made 2 comments: one asking whether there will be couches in the finished Clausen Cabin (Mo answered that we didn’t have the room) and the other about using intenet/wi-fi now (the Clausen Cabin isn’t open yet\, but someone stated that the Golden Eagle now was wi-fi)\nSomeone motioned that all current board members be re-nominated for current positions\, but since no one’s term was due to expire\, this was a moot point\nCarrie Correia\, Marina Day and Eli Sonafrank nominated and seconded for the 3 open board positions\n\nMeeting adjourned at 5:15 \n  \nBoard members met shortly thereafter to hold elections for officers and to set a date for the board retreat (November 13).  New officers: \nPresident: Syrilyn Tong \nVice-President: Monique Musick \nSecretary: Amanda Bent \nTreasurer: Melinda Gallagher \nOther board members: James Rogan\, Gary Pohl\, Carrie Correia\, Marina Day and Eli Sonafrank \n  \n 
URL:https://www.esterlibrary.org/event/2016-annual-membership-meeting/
LOCATION:Hartung Hall
CATEGORIES:Announcements,Meetings
END:VEVENT
BEGIN:VEVENT
DTSTART;TZID=America/Anchorage:20160705T183000
DTEND;TZID=America/Anchorage:20160705T183000
DTSTAMP:20260423T142159
CREATED:20160701T233409Z
LAST-MODIFIED:20160701T233409Z
UID:10000003-1467743400-1467743400@www.esterlibrary.org
SUMMARY:Book caravan
DESCRIPTION:A work party is set for 6:30 p.m. on July 5\, meeting at Just A Store at Chena Pump and Chena Ridge roads\, to pick up and sort through a book donation (several boxes of books). If you would like to join the caravan or help us sort books when we get back\, please come!
URL:https://www.esterlibrary.org/event/book-caravan/
CATEGORIES:Announcements,Events,Facilities
END:VEVENT
BEGIN:VEVENT
DTSTART;TZID=America/Anchorage:20160608T183000
DTEND;TZID=America/Anchorage:20160608T200000
DTSTAMP:20260423T142159
CREATED:20160523T022649Z
LAST-MODIFIED:20161103T184832Z
UID:10000052-1465410600-1465416000@www.esterlibrary.org
SUMMARY:Board Meeting
DESCRIPTION:Call to order 6:40 \nMembers present: Amanda Bent\, Monique Musick\, Mindy Gallagher\, Gary Pohl\, Jasmine Stokes\, Deirdre Helfferich \nAgenda \nMonique motion to adopt\, Gary second\, all approved \nMinutes from May 11 \nGary Motion to Approve\, Amanda second\, all approved \nMOTION \nMindy: Take the extra books to the EVFD garage sale \nSecond: Monique Musick\, all approved \nGarage sale on June 11 for the fire department better then our own on June 18 \n  \nFinance Committee \n\n       (Written minutes attached)\n       $670.00 to leveling project\n Need to spend remaining $2\,100\n\nCurrent balances: \nJTEL \n\n17\,516.86  savings\n1\,280.08 checking\n\nPassive Haus \n\n$37\, 827.64\n2133.46 checking\n\nNeed additional access to the McKinley safe deposit box – new contract will go there \nBill from Stantec $3\,547.25\, tTo be paid from Passive Haus account \nSBS $41.67 in account \nNorthland Woods account – Mindy has the account number for accessing balance \n  \nGrants Committee \n  \nCommittee hasn’t met\, but huge progress with Phase One \nUpdate: Phase 1 Project Procurement \n\nBids Received: May 24\, 2016\nE-mail vote to approve award to Trost Construction\nContract execution by JTEL\, signing of document\n\nACTION: Signed by Amanda and Monique \n\nProject record keeping – contract\, bonds\, application\n\nThere are going to be a lot of records. Stantec will have a copy of everything\, State of Alaska (granting organization) will need some of this\, but not everything for our reimbursement grant \nACTION: Gary submitted documents\, will be scanned and originals put into our safety deposit box \nTrost needs to submit Project Schedule and Schedule of values before filing for any payment \n\nGroundbreaking and schedule\n\nAgreed to a completion date of October 1 \nThe dirt subcontractor doesn’t want to start until July \nThat gives us three weeks for planning a groundbreaking celebration. \nIf the total project comes in under the amount we have in state funding then we will apply to additional funds. \n  \nWeb page- All minutes and agendas can go onto events for meetings. We can create old events to tidy up the web \n  \nClausen Cabin Update – Work Completed to Date: \n\nDemolition of bathroom\nNew framing (huge thanks to Eric Glos!)\n\nWork still needed: \n\nElectrical work\nLeveling the cabin\nNew floor supports at stack areas\nBuild out new office and bathroom\n\nNext Steps: Removal and sale of wood cook stove \nACTION: Monique will photograph the stove and prepare a sale sheet  – offer locally first\, list price $5\,500 \n\nRelocate Monitor stove and fuel tank\nHandicapped ramp\nDemo and reconfigure kitchen area\nCall for Volunteers: All of the next steps will require volunteers with appropriate skills and tools for the respective tasks.\nSale of assets (e.g. cook stove\, et al)\n\nACTION: Bring all that’s possible down to the garage sale\, do all possible to clean out cabin – everything we aren’t going to use needs to go \nFundraising: \n\nTape and Tarp at Malemute Saloon – pending opening dates and staffing\nLiBerry–August 27\n\nACTION: Amanda will work on booking\, sound\, music etc. for the events\, Monique will work on the marketing and communications\, need Volunteer coordinator \nAmanda- thinking about a pool tournament fundraiser \n\nReaders on the Run – Sunday\, October 2\n\n  \nOther items: \nMindy – floor insulation is no longer on the list. \nGary- ultimately it needs to be done\, maybe not this year \nAmanda – look into spray insulation\, new vendor was good price \n  \nDeirdre – more than 6\,000 books logged into catalog. Has been writing reports and posting to the blog. Multiple people approaching her about donating books.  Chris Guinn has books he’d donate\, could be used as sale items\, but they need picked up. Regular book sales could be a revenue source. Problem right now is that we don’t have space or storage. \nCould have a regular table at the Ester Market. \nLibrarything has released tinycat – library software\, JTEL is in the up to 20\,000 category\, we are in the system already\, it would provide circulation system\, tracking etc. for a monthly fee \nFuture idea: have a library card scan lock access system\, it allows us to lock the building with member access only—encourage people to renew membership regularly \nNext meeting: July 6 \nAdjourn 8:01
URL:https://www.esterlibrary.org/event/board-meeting/
LOCATION:Clausen Cabin\, 3629 Main Street\, Ester\, 99725
CATEGORIES:Announcements,Board,Events
END:VEVENT
BEGIN:VEVENT
DTSTART;TZID=America/Anchorage:20160524T140000
DTEND;TZID=America/Anchorage:20160524T140000
DTSTAMP:20260423T142159
CREATED:20160503T172607Z
LAST-MODIFIED:20160503T172759Z
UID:10000018-1464098400-1464098400@www.esterlibrary.org
SUMMARY:Phase 1 bid documents due
DESCRIPTION:Bidding for construction of the JTEL’s Phase 1 opened as of May 1 and closes 2 pm May 24\, 2016. For full information\, see the Bid Documents tab. \nBids are due in sealed envelopes no later than 2 pm Alaska time Tuesday\, May 24\, 2016 at Stantec Architecture\, Inc.\, 544 4th Avenue\, Suite 102\, Fairbanks\, AK 99701.
URL:https://www.esterlibrary.org/event/phase-1-bid-documents-due/
CATEGORIES:Announcements,Facilities
END:VEVENT
BEGIN:VEVENT
DTSTART;TZID=America/Anchorage:20160510T100000
DTEND;TZID=America/Anchorage:20160510T120000
DTSTAMP:20260423T142159
CREATED:20160501T213456Z
LAST-MODIFIED:20160501T214117Z
UID:10000024-1462874400-1462881600@www.esterlibrary.org
SUMMARY:Conference & site walk-through
DESCRIPTION:A non-mandatory pre-bid conference will be held for parties interested in bidding on construction of the JTEL Phase 1 Project at 10 am at the John Trigg Ester Library’s Clausen Cabin\, 3629 Main Street in Ester\, after which there will be a site walk-through. \nFor more information\, please see the Bid Documents tab.
URL:https://www.esterlibrary.org/event/conference-site-walk-through/
LOCATION:Clausen Cabin\, 3629 Main Street\, Ester\, 99725
CATEGORIES:Announcements,Events,Facilities
END:VEVENT
BEGIN:VEVENT
DTSTART;TZID=America/Anchorage:20160501T080000
DTEND;TZID=America/Anchorage:20160508T170000
DTSTAMP:20260423T142159
CREATED:20160501T211918Z
LAST-MODIFIED:20160501T211918Z
UID:10000023-1462089600-1462726800@www.esterlibrary.org
SUMMARY:Advertising begins for Phase 1
DESCRIPTION:The advertising begins today for Phase 1’s construction\, with the official Invitation to Bid on the project. All documents are available under the Bid Documents tab. Please review thoroughly. \nThe legal ad will be printed May 1\, May 4\, and May 8\, 2016. \nBids are due at Stantec Architecture in Fairbanks no later than 2 pm Alaska time\, May 24\, 2016. \nContact: Gary Pohl\, gary.pohl@stantec.com
URL:https://www.esterlibrary.org/event/advertising-begins-for-phase-1/
CATEGORIES:Announcements,Facilities
END:VEVENT
BEGIN:VEVENT
DTSTART;TZID=America/Anchorage:20160322T183000
DTEND;TZID=America/Anchorage:20160322T183000
DTSTAMP:20260423T142159
CREATED:20160314T233753Z
LAST-MODIFIED:20160320T201532Z
UID:10000027-1458671400-1458671400@www.esterlibrary.org
SUMMARY:Facilities & Finance joint meeting
DESCRIPTION:Joint committee meeting with the Facilities Committee and Finance Committee \nInvited guests: Carrie\, Jeanne Laurencelle\, Mike Musick \nSee agenda.
URL:https://www.esterlibrary.org/event/facilities-finance-joint-meeting/
LOCATION:Clausen Cabin\, 3629 Main Street\, Ester\, 99725
CATEGORIES:Announcements,Facilities,Finance
END:VEVENT
BEGIN:VEVENT
DTSTART;TZID=America/Anchorage:20160316T090000
DTEND;TZID=America/Anchorage:20160316T183000
DTSTAMP:20260423T142159
CREATED:20160315T004535Z
LAST-MODIFIED:20160315T004750Z
UID:10000028-1458118800-1458153000@www.esterlibrary.org
SUMMARY:Painting party!
DESCRIPTION:Come help us paint the Clausen Cabin! After adding insulation and sheetrock\, we need to finish painting the doors and put a coat on the walls. We’ve got a few volunteers already\, but we’ll need a few more for cleanup\, too. \n\nGinny Gallagher\nMindy Gallagher\nDeirdre Helfferich\nSyrilyn Tong\n\nThe board and membership is officially invited to come take a look at 6:30 pm and pass judgement on the tint (should it be lighter or darker?)\, which can then be corrected in the second coat. Thanks!
URL:https://www.esterlibrary.org/event/painting-party/
LOCATION:Clausen Cabin\, 3629 Main Street\, Ester\, 99725
CATEGORIES:Announcements,Facilities
END:VEVENT
BEGIN:VEVENT
DTSTART;TZID=America/Anchorage:20160209T193000
DTEND;TZID=America/Anchorage:20160209T203000
DTSTAMP:20260423T142159
CREATED:20160208T032946Z
LAST-MODIFIED:20160209T172800Z
UID:10000036-1455046200-1455049800@www.esterlibrary.org
SUMMARY:February Board Meeting
DESCRIPTION:executive committee\, library’s legal standing\, directors’ duties
URL:https://www.esterlibrary.org/event/february-board-meeting/
CATEGORIES:Announcements
END:VEVENT
BEGIN:VEVENT
DTSTART;TZID=America/Anchorage:20160206T160000
DTEND;TZID=America/Anchorage:20160206T170000
DTSTAMP:20260423T142159
CREATED:20160129T201622Z
LAST-MODIFIED:20160129T201649Z
UID:10000034-1454774400-1454778000@www.esterlibrary.org
SUMMARY:Garden Committee mtg
DESCRIPTION:Planning seed swaps and the gardens! Whee!
URL:https://www.esterlibrary.org/event/garden-committee-mtg/
LOCATION:Clausen Cabin\, 3629 Main Street\, Ester\, 99725
CATEGORIES:Announcements
END:VEVENT
BEGIN:VEVENT
DTSTART;TZID=America/Anchorage:20160117T160000
DTEND;TZID=America/Anchorage:20160117T170000
DTSTAMP:20260423T142159
CREATED:20160114T013614Z
LAST-MODIFIED:20160114T013614Z
UID:10000040-1453046400-1453050000@www.esterlibrary.org
SUMMARY:Grant work party
DESCRIPTION:Work party topics: CAPSIS deadline Feb. 6th\, using CAPSIS\, Phase 2 direction \nWe have an upcoming grant deadline; if you wish to help us work on the application for FY2017 for Phase 2 construction\, please come.* Other topics and grant deadlines will be announced as we discover them. \n*Note: attendance optional\, regular monthly committee meetings continue as scheduled.
URL:https://www.esterlibrary.org/event/grant-work-party/
LOCATION:Clausen Cabin\, 3629 Main Street\, Ester\, 99725
CATEGORIES:Announcements,Grants
END:VEVENT
BEGIN:VEVENT
DTSTART;TZID=America/Anchorage:20160116T100000
DTEND;TZID=America/Anchorage:20160116T120000
DTSTAMP:20260423T142159
CREATED:20160112T073705Z
LAST-MODIFIED:20160112T073705Z
UID:10000038-1452938400-1452945600@www.esterlibrary.org
SUMMARY:Finance Committee meeting
DESCRIPTION:
URL:https://www.esterlibrary.org/event/finance-committee-meeting/
CATEGORIES:Announcements
END:VEVENT
BEGIN:VEVENT
DTSTART;TZID=America/Anchorage:20160109T115500
DTEND;TZID=America/Anchorage:20160109T170000
DTSTAMP:20260423T142159
CREATED:20151231T031640Z
LAST-MODIFIED:20151231T031823Z
UID:10000046-1452340500-1452358800@www.esterlibrary.org
SUMMARY:Volunteer gathering
DESCRIPTION:Saturday\, January 9 at noon \nScott Allen\, Volunteer Coordinator\, is looking for help cleaning up the sauna and moving boxes out of the Clausen Cabin. This will mean a little sorting\, labeling\, and repacking where boxes are open. Contact Scott or Phil for more information.
URL:https://www.esterlibrary.org/event/volunteer-gathering/
LOCATION:Clausen Cabin\, 3629 Main Street\, Ester\, 99725
CATEGORIES:Announcements,Events
END:VEVENT
BEGIN:VEVENT
DTSTART;TZID=America/Anchorage:20160106T180000
DTEND;TZID=America/Anchorage:20160106T180000
DTSTAMP:20260423T142159
CREATED:20151231T022253Z
LAST-MODIFIED:20160103T220422Z
UID:10000044-1452103200-1452103200@www.esterlibrary.org
SUMMARY:Grants Committee meeting 1-6-2016
DESCRIPTION:Wednesday\, January 6 at 6 pm \n(agenda to be posted soon; among items to be discussed are 12-15 proposal for phased construction\, report to FNSB regarding current construction status and request for extension on grant)
URL:https://www.esterlibrary.org/event/grants-committee-meeting-1-6-2016/
LOCATION:Clausen Cabin\, 3629 Main Street\, Ester\, 99725
CATEGORIES:Announcements,Events,Grants
END:VEVENT
BEGIN:VEVENT
DTSTART;TZID=America/Anchorage:20160102T100000
DTEND;TZID=America/Anchorage:20160102T130000
DTSTAMP:20260423T142159
CREATED:20151228T005851Z
LAST-MODIFIED:20151228T005851Z
UID:10000059-1451728800-1451739600@www.esterlibrary.org
SUMMARY:Finance Committee meeting & work party
DESCRIPTION:
URL:https://www.esterlibrary.org/event/finance-committee-meeting-work-party-2/
CATEGORIES:Announcements,Events
END:VEVENT
BEGIN:VEVENT
DTSTART;TZID=America/Anchorage:20151220T115500
DTEND;TZID=America/Anchorage:20151220T140000
DTSTAMP:20260423T142159
CREATED:20151216T225840Z
LAST-MODIFIED:20151216T225840Z
UID:10000064-1450612500-1450620000@www.esterlibrary.org
SUMMARY:Solstice Shelving
DESCRIPTION:A little Solstice cheer and organizing at the library at Frank’s and then over to the cabin for a little more.
URL:https://www.esterlibrary.org/event/solstice-shelving/
CATEGORIES:Announcements,Events
END:VEVENT
BEGIN:VEVENT
DTSTART;TZID=America/Anchorage:20151219T093000
DTEND;TZID=America/Anchorage:20151219T120000
DTSTAMP:20260423T142159
CREATED:20151219T060957Z
LAST-MODIFIED:20151219T061202Z
UID:10000054-1450517400-1450526400@www.esterlibrary.org
SUMMARY:Saturday mornings
DESCRIPTION:I’ll be @ Clausen as usual\, from about 0930.  Come by and chip in\, if it suits.
URL:https://www.esterlibrary.org/event/saturday-mornings/
CATEGORIES:Announcements,Events
END:VEVENT
BEGIN:VEVENT
DTSTART;TZID=America/Anchorage:20151213T170000
DTEND;TZID=America/Anchorage:20151213T170000
DTSTAMP:20260423T142159
CREATED:20151124T232335Z
LAST-MODIFIED:20151124T232335Z
UID:10000061-1450026000-1450026000@www.esterlibrary.org
SUMMARY:Grants meeting
DESCRIPTION:Review of possible grant sources\, legality/how-to of construction loans and grants\, ledger amount on grants\, Finance Committee update\, estimate on construction work for spring\, etc.
URL:https://www.esterlibrary.org/event/grants-meeting/
LOCATION:Clausen Cabin\, 3629 Main Street\, Ester\, 99725
CATEGORIES:Announcements,Events,Grants
END:VEVENT
BEGIN:VEVENT
DTSTART;TZID=America/Anchorage:20151206T113000
DTEND;TZID=America/Anchorage:20151206T163000
DTSTAMP:20260423T142159
CREATED:20151203T040828Z
LAST-MODIFIED:20151203T041207Z
UID:10000062-1449401400-1449419400@www.esterlibrary.org
SUMMARY:Shelving Work Party!
DESCRIPTION:Book Boxing Day #2! Help us finish clearing the aisles by shelving the catalogued books in nonfiction\, Alaska\, poetry\, drama\, and literary criticism. We’ll be hauling book donations away to the Clausen Cabin across the street as we empty and shelve boxes of catalogued books. If we run into overflow of catalogued titles\, then we’ll box those up too\, ready to wait for bookshelves in the cabin or the new library.
URL:https://www.esterlibrary.org/event/shelving-work-party/
CATEGORIES:Announcements,Events
END:VEVENT
END:VCALENDAR