BEGIN:VCALENDAR
VERSION:2.0
PRODID:-//Ester Village Library - ECPv6.15.20//NONSGML v1.0//EN
CALSCALE:GREGORIAN
METHOD:PUBLISH
X-WR-CALNAME:Ester Village Library
X-ORIGINAL-URL:https://www.esterlibrary.org
X-WR-CALDESC:Events for Ester Village Library
REFRESH-INTERVAL;VALUE=DURATION:PT1H
X-Robots-Tag:noindex
X-PUBLISHED-TTL:PT1H
BEGIN:VTIMEZONE
TZID:America/Anchorage
BEGIN:DAYLIGHT
TZOFFSETFROM:-0900
TZOFFSETTO:-0800
TZNAME:AKDT
DTSTART:20240310T110000
END:DAYLIGHT
BEGIN:STANDARD
TZOFFSETFROM:-0800
TZOFFSETTO:-0900
TZNAME:AKST
DTSTART:20241103T100000
END:STANDARD
BEGIN:DAYLIGHT
TZOFFSETFROM:-0900
TZOFFSETTO:-0800
TZNAME:AKDT
DTSTART:20250309T110000
END:DAYLIGHT
BEGIN:STANDARD
TZOFFSETFROM:-0800
TZOFFSETTO:-0900
TZNAME:AKST
DTSTART:20251102T100000
END:STANDARD
BEGIN:DAYLIGHT
TZOFFSETFROM:-0900
TZOFFSETTO:-0800
TZNAME:AKDT
DTSTART:20260308T110000
END:DAYLIGHT
BEGIN:STANDARD
TZOFFSETFROM:-0800
TZOFFSETTO:-0900
TZNAME:AKST
DTSTART:20261101T100000
END:STANDARD
END:VTIMEZONE
BEGIN:VEVENT
DTSTART;TZID=America/Anchorage:20250301T150000
DTEND;TZID=America/Anchorage:20250301T163000
DTSTAMP:20260424T062520
CREATED:20240620T031016Z
LAST-MODIFIED:20250111T223533Z
UID:10000490-1740841200-1740846600@www.esterlibrary.org
SUMMARY:Book Club
DESCRIPTION:Siddhartha\, by Herman Hesse \nWhen Herman Hesse visited India in the early days of the 20th century\, he was captivated by the people\, their customs\, their culture\, and their religion. On returning to Germany\, he wrote a masterpiece on a young man’s search for identity and meaning in a civilization that has lost its way. Loosely based on the early life of the Buddha\, the book documents the journey of self-discovery and spiritual awakening of a character called Siddhartha. \nThe name Siddhartha was the one the Buddha was known by before his renunciation. Siddhartha in Sanskrit is translated as “Siddha” (achieved) and “artha” (what was searched for). The novel follows Siddhartha from a life of comfort of privilege to his quest for truth in a world plagued by sorrow and suffering. \nThe themes of Siddhartha are universal in that they are an account of a young person’s search for meaning — one that all readers can relate to. As Hesse skillfully takes us on a journey\, he uses his poetic prose to challenge our preconceived notions of what a spiritual life and meaningful self-enrichment entail. Blind adherence to all systems of belief is shunned in favor of living in the moment and appreciating its ever-changing nature. Generations of readers have and will continue to find wisdom in the pages of Siddhartha.
URL:https://www.esterlibrary.org/event/book-club-7-2024-12-07-2025-01-04-2025-03-01/
LOCATION:Clausen Cabin\, 3629 Main Street\, Ester\, 99725
CATEGORIES:Announcements,Events
END:VEVENT
END:VCALENDAR