BEGIN:VCALENDAR
VERSION:2.0
PRODID:-//Ester Village Library - ECPv6.15.20//NONSGML v1.0//EN
CALSCALE:GREGORIAN
METHOD:PUBLISH
X-WR-CALNAME:Ester Village Library
X-ORIGINAL-URL:https://www.esterlibrary.org
X-WR-CALDESC:Events for Ester Village Library
REFRESH-INTERVAL;VALUE=DURATION:PT1H
X-Robots-Tag:noindex
X-PUBLISHED-TTL:PT1H
BEGIN:VTIMEZONE
TZID:America/Anchorage
BEGIN:DAYLIGHT
TZOFFSETFROM:-0900
TZOFFSETTO:-0800
TZNAME:AKDT
DTSTART:20240310T110000
END:DAYLIGHT
BEGIN:STANDARD
TZOFFSETFROM:-0800
TZOFFSETTO:-0900
TZNAME:AKST
DTSTART:20241103T100000
END:STANDARD
BEGIN:DAYLIGHT
TZOFFSETFROM:-0900
TZOFFSETTO:-0800
TZNAME:AKDT
DTSTART:20250309T110000
END:DAYLIGHT
BEGIN:STANDARD
TZOFFSETFROM:-0800
TZOFFSETTO:-0900
TZNAME:AKST
DTSTART:20251102T100000
END:STANDARD
BEGIN:DAYLIGHT
TZOFFSETFROM:-0900
TZOFFSETTO:-0800
TZNAME:AKDT
DTSTART:20260308T110000
END:DAYLIGHT
BEGIN:STANDARD
TZOFFSETFROM:-0800
TZOFFSETTO:-0900
TZNAME:AKST
DTSTART:20261101T100000
END:STANDARD
END:VTIMEZONE
BEGIN:VEVENT
DTSTART;TZID=America/Anchorage:20251206T150000
DTEND;TZID=America/Anchorage:20251206T163000
DTSTAMP:20260423T142420
CREATED:20251102T211730Z
LAST-MODIFIED:20251102T211730Z
UID:10001152-1765033200-1765038600@www.esterlibrary.org
SUMMARY:Adult Book Club
DESCRIPTION:Join us for a discussion of “Why We Sleep”\, by Matthew Walker. \nThis is from Amazon: \nThe first sleep book by a leading scientific expert – Professor Matthew Walker\, director of UC Berkeley’s Sleep and Neuroimaging Lab – reveals his groundbreaking exploration of sleep\, explaining how we can harness its transformative power to change our lives for the better. \nSleep is one of the most important but least understood aspects of our life\, wellness\, and longevity. Until very recently\, science had no answer to the question of why we sleep\, or what good it served\, or why we suffer such devastating health consequences when we don’t sleep. Compared to the other basic drives in life – eating\, drinking\, and reproducing – the purpose of sleep remained elusive. \nBut an explosion of scientific discoveries in the last 20 years has shed new light on this fundamental aspect of our lives. Now\, preeminent neuroscientist and sleep expert Matthew Walker gives us a new understanding of the vital importance of sleep and dreaming. Among so many other things\, within the brain\, sleep enriches our ability to learn\, memorize\, and make logical decisions. It recalibrates our emotions\, restocks our immune system\, fine-tunes our metabolism\, and regulates our appetite. Dreaming mollifies painful memories and creates a virtual reality space in which the brain melds past and present knowledge to inspire creativity. \nWalker answers important questions about sleep: How do caffeine and alcohol affect sleep? What really happens during REM sleep? Why do our sleep patterns change across a lifetime? How do common sleep aids affect us\, and can they do long-term damage? Charting cutting-edge scientific breakthroughs and synthesizing decades of research and clinical practice\, Walker explains how we can harness sleep to improve learning\, mood\, and energy levels; regulate hormones; prevent cancer\, Alzheimer’s\, and diabetes; slow the effects of aging; increase longevity; enhance the education and lifespan of our children\, and boost the efficiency\, success\, and productivity of our businesses. Clear-eyed\, fascinating\, and immensely accessible\, Why We Sleep is the crucial account on sleep that will forever change listeners’ minds on the subject.
URL:https://www.esterlibrary.org/event/adult-book-club-6/
LOCATION:Clausen Cabin\, 3629 Main Street\, Ester\, 99725
CATEGORIES:Announcements,Events
END:VEVENT
END:VCALENDAR