BEGIN:VCALENDAR
VERSION:2.0
PRODID:-//Ester Village Library - ECPv6.15.20//NONSGML v1.0//EN
CALSCALE:GREGORIAN
METHOD:PUBLISH
X-ORIGINAL-URL:https://www.esterlibrary.org
X-WR-CALDESC:Events for Ester Village Library
REFRESH-INTERVAL;VALUE=DURATION:PT1H
X-Robots-Tag:noindex
X-PUBLISHED-TTL:PT1H
BEGIN:VTIMEZONE
TZID:America/Anchorage
BEGIN:DAYLIGHT
TZOFFSETFROM:-0900
TZOFFSETTO:-0800
TZNAME:AKDT
DTSTART:20250309T110000
END:DAYLIGHT
BEGIN:STANDARD
TZOFFSETFROM:-0800
TZOFFSETTO:-0900
TZNAME:AKST
DTSTART:20251102T100000
END:STANDARD
BEGIN:DAYLIGHT
TZOFFSETFROM:-0900
TZOFFSETTO:-0800
TZNAME:AKDT
DTSTART:20260308T110000
END:DAYLIGHT
BEGIN:STANDARD
TZOFFSETFROM:-0800
TZOFFSETTO:-0900
TZNAME:AKST
DTSTART:20261101T100000
END:STANDARD
BEGIN:DAYLIGHT
TZOFFSETFROM:-0900
TZOFFSETTO:-0800
TZNAME:AKDT
DTSTART:20270314T110000
END:DAYLIGHT
BEGIN:STANDARD
TZOFFSETFROM:-0800
TZOFFSETTO:-0900
TZNAME:AKST
DTSTART:20271107T100000
END:STANDARD
END:VTIMEZONE
BEGIN:VEVENT
DTSTART;TZID=America/Anchorage:20260225T170000
DTEND;TZID=America/Anchorage:20260225T190000
DTSTAMP:20260423T101133
CREATED:20250603T202451Z
LAST-MODIFIED:20250603T202451Z
UID:10000978-1772038800-1772046000@www.esterlibrary.org
SUMMARY:Open Hours
DESCRIPTION:
URL:https://www.esterlibrary.org/event/open-hours-20/2026-02-25/
END:VEVENT
BEGIN:VEVENT
DTSTART;TZID=America/Anchorage:20260225T170000
DTEND;TZID=America/Anchorage:20260225T190000
DTSTAMP:20260423T101133
CREATED:20260216T070025Z
LAST-MODIFIED:20260216T070025Z
UID:10001156-1772038800-1772046000@www.esterlibrary.org
SUMMARY:Seed Catalog Party
DESCRIPTION:Come browse our assortment of catalogs\, and band together with others to order seeds for the upcoming season! \nAlso featuring Ester Library’s own Kristin Haney\, who will discuss her attendance at the 2025 Circumpolar Agricultural Conference in Norway\, offering insights into northern agriculture and resilient gardening in a changing world.
URL:https://www.esterlibrary.org/event/seed-catalog-party/
LOCATION:Clausen Cabin\, 3629 Main Street\, Ester\, 99725
END:VEVENT
END:VCALENDAR