BEGIN:VCALENDAR
VERSION:2.0
PRODID:-//Ester Village Library - ECPv6.15.20//NONSGML v1.0//EN
CALSCALE:GREGORIAN
METHOD:PUBLISH
X-ORIGINAL-URL:https://www.esterlibrary.org
X-WR-CALDESC:Events for Ester Village Library
REFRESH-INTERVAL;VALUE=DURATION:PT1H
X-Robots-Tag:noindex
X-PUBLISHED-TTL:PT1H
BEGIN:VTIMEZONE
TZID:America/Anchorage
BEGIN:DAYLIGHT
TZOFFSETFROM:-0900
TZOFFSETTO:-0800
TZNAME:AKDT
DTSTART:20240310T110000
END:DAYLIGHT
BEGIN:STANDARD
TZOFFSETFROM:-0800
TZOFFSETTO:-0900
TZNAME:AKST
DTSTART:20241103T100000
END:STANDARD
BEGIN:DAYLIGHT
TZOFFSETFROM:-0900
TZOFFSETTO:-0800
TZNAME:AKDT
DTSTART:20250309T110000
END:DAYLIGHT
BEGIN:STANDARD
TZOFFSETFROM:-0800
TZOFFSETTO:-0900
TZNAME:AKST
DTSTART:20251102T100000
END:STANDARD
BEGIN:DAYLIGHT
TZOFFSETFROM:-0900
TZOFFSETTO:-0800
TZNAME:AKDT
DTSTART:20260308T110000
END:DAYLIGHT
BEGIN:STANDARD
TZOFFSETFROM:-0800
TZOFFSETTO:-0900
TZNAME:AKST
DTSTART:20261101T100000
END:STANDARD
END:VTIMEZONE
BEGIN:VEVENT
DTSTART;TZID=America/Anchorage:20250906T130000
DTEND;TZID=America/Anchorage:20250906T160000
DTSTAMP:20260423T172000
CREATED:20250422T013406Z
LAST-MODIFIED:20250422T013406Z
UID:10000801-1757163600-1757174400@www.esterlibrary.org
SUMMARY:Open Hours
DESCRIPTION:
URL:https://www.esterlibrary.org/event/open-hours-21/2025-09-06/
END:VEVENT
BEGIN:VEVENT
DTSTART;TZID=America/Anchorage:20250906T150000
DTEND;TZID=America/Anchorage:20250906T160000
DTSTAMP:20260423T172000
CREATED:20250803T060453Z
LAST-MODIFIED:20250902T204122Z
UID:10001061-1757170800-1757174400@www.esterlibrary.org
SUMMARY:Adult Book Club
DESCRIPTION:The Sisters Brothers\, by Patrick deWitt \nFrom Amazon: \nHermann Kermit Warm is going to die. The enigmatic and powerful man known only as the Commodore has ordered it\, and his henchmen\, Eli and Charlie Sisters\, will make sure of it. Though Eli doesn’t share his brother’s appetite for whiskey and killing\, he’s never known anything else. But their prey isn’t an easy mark\, and on the road from Oregon City to Warm’s gold-mining claim outside Sacramento\, Eli begins to question what he does for a living-and whom he does it for. \nWith The Sisters Brothers\, Patrick deWitt pays homage to the classic Western\, transforming it into an unforgettable comic tour de force. Filled with a remarkable cast of characters-losers\, cheaters\, and ne’er-do-wells from all stripes of life-and told by a complex and compelling narrator\, it is a violent\, lustful odyssey through the underworld of the 1850s frontier that beautifully captures the humor\, melancholy\, and grit of the Old West and two brothers bound by blood\, violence\, and love.
URL:https://www.esterlibrary.org/event/adult-book-club-4/
LOCATION:Clausen Cabin\, 3629 Main Street\, Ester\, 99725
CATEGORIES:Events
END:VEVENT
BEGIN:VEVENT
DTSTART;TZID=America/Anchorage:20250906T160000
DTEND;TZID=America/Anchorage:20250906T170000
DTSTAMP:20260423T172000
CREATED:20250902T210015Z
LAST-MODIFIED:20250902T210015Z
UID:10001140-1757174400-1757178000@www.esterlibrary.org
SUMMARY:Lynda Sather\, local author\, presentation
DESCRIPTION:  \nJoin us to hear local author Lynda Sather talk about her latest book\,” A Smack of Jellyfish: Fear\, Fish and Finding Yourself in Alaska”\, a coming-of-age story about a young woman experiencing Petersburg\, Alaska for the first time in 1973. \nThis will be a 20-minute talk about her book\, and the process of writing fiction versus memoir\, followed by a Q & A session afterwards. \nHere is more of a description of the book: \nA Smack of Jellyfish \n 
URL:https://www.esterlibrary.org/event/lynda-sather-local-author-presentation/
CATEGORIES:Announcements,Events
END:VEVENT
END:VCALENDAR