BEGIN:VCALENDAR
VERSION:2.0
PRODID:-//Ester Village Library - ECPv6.15.20//NONSGML v1.0//EN
CALSCALE:GREGORIAN
METHOD:PUBLISH
X-WR-CALNAME:Ester Village Library
X-ORIGINAL-URL:https://www.esterlibrary.org
X-WR-CALDESC:Events for Ester Village Library
REFRESH-INTERVAL;VALUE=DURATION:PT1H
X-Robots-Tag:noindex
X-PUBLISHED-TTL:PT1H
BEGIN:VTIMEZONE
TZID:America/Anchorage
BEGIN:DAYLIGHT
TZOFFSETFROM:-0900
TZOFFSETTO:-0800
TZNAME:AKDT
DTSTART:20240310T110000
END:DAYLIGHT
BEGIN:STANDARD
TZOFFSETFROM:-0800
TZOFFSETTO:-0900
TZNAME:AKST
DTSTART:20241103T100000
END:STANDARD
BEGIN:DAYLIGHT
TZOFFSETFROM:-0900
TZOFFSETTO:-0800
TZNAME:AKDT
DTSTART:20250309T110000
END:DAYLIGHT
BEGIN:STANDARD
TZOFFSETFROM:-0800
TZOFFSETTO:-0900
TZNAME:AKST
DTSTART:20251102T100000
END:STANDARD
BEGIN:DAYLIGHT
TZOFFSETFROM:-0900
TZOFFSETTO:-0800
TZNAME:AKDT
DTSTART:20260308T110000
END:DAYLIGHT
BEGIN:STANDARD
TZOFFSETFROM:-0800
TZOFFSETTO:-0900
TZNAME:AKST
DTSTART:20261101T100000
END:STANDARD
END:VTIMEZONE
BEGIN:VEVENT
DTSTART;TZID=America/Anchorage:20250203T150000
DTEND;TZID=America/Anchorage:20250203T180000
DTSTAMP:20260424T052125
CREATED:20240101T214601Z
LAST-MODIFIED:20250111T222726Z
UID:10000365-1738594800-1738605600@www.esterlibrary.org
SUMMARY:Monday Open hours
DESCRIPTION:
URL:https://www.esterlibrary.org/event/open-hours-7/2025-02-03/
END:VEVENT
BEGIN:VEVENT
DTSTART;TZID=America/Anchorage:20250203T160000
DTEND;TZID=America/Anchorage:20250203T180000
DTSTAMP:20260424T052125
CREATED:20240909T211921Z
LAST-MODIFIED:20250111T223037Z
UID:10000564-1738598400-1738605600@www.esterlibrary.org
SUMMARY:Art Workshop
DESCRIPTION:Young or old\, join us to bring out your creative side! Workshop participants will decide what to explore each week.
URL:https://www.esterlibrary.org/event/kids-art-programs-2024-11-18/2025-02-03/
CATEGORIES:Events
END:VEVENT
BEGIN:VEVENT
DTSTART;TZID=America/Anchorage:20250203T183000
DTEND;TZID=America/Anchorage:20250203T203000
DTSTAMP:20260424T052125
CREATED:20241118T220423Z
LAST-MODIFIED:20241118T220640Z
UID:10000580-1738607400-1738614600@www.esterlibrary.org
SUMMARY:Monthly Board of Director's Meeting
DESCRIPTION:
URL:https://www.esterlibrary.org/event/monthly-board-of-directors-meeting/2025-02-03/
CATEGORIES:Board
END:VEVENT
END:VCALENDAR