BEGIN:VCALENDAR
VERSION:2.0
PRODID:-//Ester Village Library - ECPv6.15.20//NONSGML v1.0//EN
CALSCALE:GREGORIAN
METHOD:PUBLISH
X-ORIGINAL-URL:https://www.esterlibrary.org
X-WR-CALDESC:Events for Ester Village Library
REFRESH-INTERVAL;VALUE=DURATION:PT1H
X-Robots-Tag:noindex
X-PUBLISHED-TTL:PT1H
BEGIN:VTIMEZONE
TZID:America/Anchorage
BEGIN:DAYLIGHT
TZOFFSETFROM:-0900
TZOFFSETTO:-0800
TZNAME:AKDT
DTSTART:20230312T110000
END:DAYLIGHT
BEGIN:STANDARD
TZOFFSETFROM:-0800
TZOFFSETTO:-0900
TZNAME:AKST
DTSTART:20231105T100000
END:STANDARD
BEGIN:DAYLIGHT
TZOFFSETFROM:-0900
TZOFFSETTO:-0800
TZNAME:AKDT
DTSTART:20240310T110000
END:DAYLIGHT
BEGIN:STANDARD
TZOFFSETFROM:-0800
TZOFFSETTO:-0900
TZNAME:AKST
DTSTART:20241103T100000
END:STANDARD
BEGIN:DAYLIGHT
TZOFFSETFROM:-0900
TZOFFSETTO:-0800
TZNAME:AKDT
DTSTART:20250309T110000
END:DAYLIGHT
BEGIN:STANDARD
TZOFFSETFROM:-0800
TZOFFSETTO:-0900
TZNAME:AKST
DTSTART:20251102T100000
END:STANDARD
END:VTIMEZONE
BEGIN:VEVENT
DTSTART;TZID=America/Anchorage:20241104T150000
DTEND;TZID=America/Anchorage:20241104T180000
DTSTAMP:20260424T105805
CREATED:20240101T214601Z
LAST-MODIFIED:20250111T222726Z
UID:10000353-1730732400-1730743200@www.esterlibrary.org
SUMMARY:Monday Open hours
DESCRIPTION:
URL:https://www.esterlibrary.org/event/open-hours-7/2024-11-04/
END:VEVENT
BEGIN:VEVENT
DTSTART;TZID=America/Anchorage:20241104T153000
DTEND;TZID=America/Anchorage:20241104T173000
DTSTAMP:20260424T105805
CREATED:20240909T211921Z
LAST-MODIFIED:20240909T224410Z
UID:10000550-1730734200-1730741400@www.esterlibrary.org
SUMMARY:Kids Art Programs
DESCRIPTION:Willow Studios Arts and JTEL are combining for kids and the young at heart art programs on Mondays from 3:30 – 5:30. This week we’ll work on weaving and loom knitting. \nLearn how to use yarn to create your favorite items. We can make a bag or mittens by\nweaving yarn. We will learn the techniques to weaving and loom knitting. So get ready to use your hands because this is a very repetitive process but you have excitement because you can see how it all comes out. Materials: Cardboard and yarn\, knitting looms. \nFee: Donation
URL:https://www.esterlibrary.org/event/kids-art-programs-2024-11-04/
CATEGORIES:Events
END:VEVENT
END:VCALENDAR