BEGIN:VCALENDAR
VERSION:2.0
PRODID:-//Ester Village Library - ECPv6.15.20//NONSGML v1.0//EN
CALSCALE:GREGORIAN
METHOD:PUBLISH
X-ORIGINAL-URL:https://www.esterlibrary.org
X-WR-CALDESC:Events for Ester Village Library
REFRESH-INTERVAL;VALUE=DURATION:PT1H
X-Robots-Tag:noindex
X-PUBLISHED-TTL:PT1H
BEGIN:VTIMEZONE
TZID:America/Anchorage
BEGIN:DAYLIGHT
TZOFFSETFROM:-0900
TZOFFSETTO:-0800
TZNAME:AKDT
DTSTART:20230312T110000
END:DAYLIGHT
BEGIN:STANDARD
TZOFFSETFROM:-0800
TZOFFSETTO:-0900
TZNAME:AKST
DTSTART:20231105T100000
END:STANDARD
BEGIN:DAYLIGHT
TZOFFSETFROM:-0900
TZOFFSETTO:-0800
TZNAME:AKDT
DTSTART:20240310T110000
END:DAYLIGHT
BEGIN:STANDARD
TZOFFSETFROM:-0800
TZOFFSETTO:-0900
TZNAME:AKST
DTSTART:20241103T100000
END:STANDARD
BEGIN:DAYLIGHT
TZOFFSETFROM:-0900
TZOFFSETTO:-0800
TZNAME:AKDT
DTSTART:20250309T110000
END:DAYLIGHT
BEGIN:STANDARD
TZOFFSETFROM:-0800
TZOFFSETTO:-0900
TZNAME:AKST
DTSTART:20251102T100000
END:STANDARD
END:VTIMEZONE
BEGIN:VEVENT
DTSTART;TZID=America/Anchorage:20240331T140000
DTEND;TZID=America/Anchorage:20240331T150000
DTSTAMP:20260424T192338
CREATED:20240321T031940Z
LAST-MODIFIED:20240321T031940Z
UID:10000156-1711893600-1711897200@www.esterlibrary.org
SUMMARY:Easter Egg Hunt
DESCRIPTION:Join us to make a house for your lil’ Peeps while you’re waiting for the hunt to begin.
URL:https://www.esterlibrary.org/event/easter-egg-hunt/
END:VEVENT
BEGIN:VEVENT
DTSTART;TZID=America/Anchorage:20240331T160000
DTEND;TZID=America/Anchorage:20240331T180000
DTSTAMP:20260424T192338
CREATED:20240101T212428Z
LAST-MODIFIED:20240813T035929Z
UID:10000226-1711900800-1711908000@www.esterlibrary.org
SUMMARY:Writing Circle
DESCRIPTION:Enjoy quiet time and space for your own narrations
URL:https://www.esterlibrary.org/event/writing-circle-2/2024-03-31/
END:VEVENT
BEGIN:VEVENT
DTSTART;TZID=America/Anchorage:20240331T160000
DTEND;TZID=America/Anchorage:20240331T180000
DTSTAMP:20260424T192338
CREATED:20250214T204008Z
LAST-MODIFIED:20250214T204008Z
UID:10000276-1711900800-1711908000@www.esterlibrary.org
SUMMARY:Writing Circle
DESCRIPTION:Enjoy quiet time and space for your own narrations
URL:https://www.esterlibrary.org/event/writing-circle-2/2024-03-31/
END:VEVENT
END:VCALENDAR